BEGIN:VCALENDAR
VERSION:2.0
PRODID:-//Minnesota based calendar of live music - ECPv6.15.20//NONSGML v1.0//EN
CALSCALE:GREGORIAN
METHOD:PUBLISH
X-WR-CALNAME:Minnesota based calendar of live music
X-ORIGINAL-URL:https://soundminnesota.com
X-WR-CALDESC:Events for Minnesota based calendar of live music
REFRESH-INTERVAL;VALUE=DURATION:PT1H
X-Robots-Tag:noindex
X-PUBLISHED-TTL:PT1H
BEGIN:VTIMEZONE
TZID:America/Chicago
BEGIN:DAYLIGHT
TZOFFSETFROM:-0600
TZOFFSETTO:-0500
TZNAME:CDT
DTSTART:20250309T080000
END:DAYLIGHT
BEGIN:STANDARD
TZOFFSETFROM:-0500
TZOFFSETTO:-0600
TZNAME:CST
DTSTART:20251102T070000
END:STANDARD
BEGIN:DAYLIGHT
TZOFFSETFROM:-0600
TZOFFSETTO:-0500
TZNAME:CDT
DTSTART:20260308T080000
END:DAYLIGHT
BEGIN:STANDARD
TZOFFSETFROM:-0500
TZOFFSETTO:-0600
TZNAME:CST
DTSTART:20261101T070000
END:STANDARD
BEGIN:DAYLIGHT
TZOFFSETFROM:-0600
TZOFFSETTO:-0500
TZNAME:CDT
DTSTART:20270314T080000
END:DAYLIGHT
BEGIN:STANDARD
TZOFFSETFROM:-0500
TZOFFSETTO:-0600
TZNAME:CST
DTSTART:20271107T070000
END:STANDARD
END:VTIMEZONE
BEGIN:VEVENT
DTSTART;TZID=America/Chicago:20260420T160000
DTEND;TZID=America/Chicago:20260420T220000
DTSTAMP:20260420T061944
CREATED:20260415T061545Z
LAST-MODIFIED:20260415T061545Z
UID:10042483-1776700800-1776722400@soundminnesota.com
SUMMARY:The BIG Zen20!
DESCRIPTION:EVENT DETAILS \n\n		rsvp on Facebook\n	 \n\n\n\n \nThe Hook and Ladder Theater \n— \nDoors 4:00pm :: 21+\nGA: FREEVIP 4.20 Package: $40 ADV / $50 DOOR(Includes Retro Bakery / Stigma THC Goodie Bag worth $200)\n \n \n\n\n EVENT DESCRIPTION \n\n\n\n \nRetro Bakery & Stigma presents\nThe BIG Zen20!\n—\n\nThe Twin Cities 4/20 Celebration!!\nThe Zen Arcade\, nestled inside of the vibrant community Hook & Ladder Event Center (Lake/Minnehaha)\, is again partnering with friends Retro Bakery\, Stigma\, Social AF\, Green Piece MN\, Dr Dabber\, and Ganja Skoden to present The BIG Zen20! celebration on April 20th! \n \nAs in past years\, this unique cultural event is free to attend (with ‘high-value’ VIP 420 goodie bags available) and will feature DJ I Roach\, Vendors\, Stoner Bingo\, Kush Claw\, Video Game Tournaments and Specials!\n \nStop by\, hang out\, pick up your bag… say HI!\n—\nRegister in advance for The BIG Zen20! and/or secure your ‘high-value’ Goodie Bag\, visit today!\n—\n\n2026 Highlights!\n– The Dank Buffet (interactive fun) \n– DJ I ROACH\n– Stoner Bingo (prizes\, prizes\, prizes) \n– Video Games (tournaments) \n– Goat Art (live painting) \n– 420 Goodie Bags (just $40 for over $200 of retail value!) 
URL:https://soundminnesota.com/event/the-big-zen20/
LOCATION:The Hook and Ladder Theater\, 3010 Minnehaha Ave\, Minneapolis\, MN\, 55406\, United States
CATEGORIES:Hook & Ladder Theater,Live Music
ATTACH;FMTTYPE=image/jpeg:https://soundminnesota.com/wp-content/uploads/2026/04/260420-Zen-TheBigZen20-2160x1080-Web-56EAKN.jpg
END:VEVENT
BEGIN:VEVENT
DTSTART;TZID=America/Chicago:20260420T180000
DTEND;TZID=America/Chicago:20260420T200000
DTSTAMP:20260420T061944
CREATED:20251117T184616Z
LAST-MODIFIED:20251117T184626Z
UID:10035471-1776708000-1776715200@soundminnesota.com
SUMMARY:Open Mic at The Hydeaway [Buhl]
DESCRIPTION:Hosted by Reggie Ducote
URL:https://soundminnesota.com/event/open-mic-at-the-hydeaway-buhl/2026-04-20/
LOCATION:The Hydeaway [Buhl MN]\, 205 State St\, Buhl\, MN\, 55713\, United States
END:VEVENT
BEGIN:VEVENT
DTSTART;TZID=America/Chicago:20260420T180000
DTEND;TZID=America/Chicago:20260420T210000
DTSTAMP:20260420T061944
CREATED:20251207T175535Z
LAST-MODIFIED:20251207T175614Z
UID:10036786-1776708000-1776718800@soundminnesota.com
SUMMARY:The Monday Night Hootenanny-S.S. Spotlight at Badger Hill
DESCRIPTION:Come in or sign up for the Monday Night Hootenanny featuring the many talented Singer / Songwriters that will join you for the show! \n\n\n\nThis event is Hosted by Tim from Gospel & Gravel and Janet Wirth EVERY Monday! \n\n\n\nEnjoy Live Music Performances from 6:00pm-9:00pm or come show off a talent all your own! \n\n\n\nAll music styles welcome so come on in! Sign up starts at 5:30pm!
URL:https://soundminnesota.com/event/the-monday-night-hootenanny-s-s-spotlight-at-badger-hill/2026-04-20/
LOCATION:Badger Hill Brewing\, 2805 Winners Cir Dr 55379\, Shakopee\, MN\, 55379\, United States
END:VEVENT
BEGIN:VEVENT
DTSTART;TZID=America/Chicago:20260420T183000
DTEND;TZID=America/Chicago:20260420T203000
DTSTAMP:20260420T061944
CREATED:20260414T231149Z
LAST-MODIFIED:20260414T231149Z
UID:10042431-1776709800-1776717000@soundminnesota.com
SUMMARY:Fleshpots of Egypt: Hymntap
DESCRIPTION:Sing Hymns. Drink Beer. Make Friends. Monthly hymn-sing with the Fleshpots of Egypt at the Dubliner Pub. Hosted by LydiaPlace. \nHow Lutheran hymns would sound if the Reformation had begun in Appalachia. \n“I’ve now been to two singalongs at breweries led by this remarkable band. What great fun! Excellent music. I can’t wait till they come back again.” \nfacebook page…
URL:https://soundminnesota.com/event/fleshpots-of-egypt-hymntap-5/
LOCATION:The Dubliner Pub\, 2162 University Avenue\, St. Paul\, 55114\, United States
CATEGORIES:Live Music,Music
END:VEVENT
BEGIN:VEVENT
DTSTART;TZID=America/Chicago:20260420T190000
DTEND;TZID=America/Chicago:20260420T203000
DTSTAMP:20260420T061944
CREATED:20260408T031706Z
LAST-MODIFIED:20260408T031706Z
UID:10042314-1776711600-1776717000@soundminnesota.com
SUMMARY:Urban Classic Presents REVELATION:
DESCRIPTION:“Revelation” brings the music of Prince and the legendary MPLS Sound to life.\n  \nThis show features the songs of Prince\, New Power Generation\, The Time\, Jesse Johnson\, Vanity 6\, Wendy & Lisa\, Alexander O’Neal\, Janet Jackson\, and more. Additionally\, this extraordinary lineup includes former members of the Original NPG\, Mint Condition\, The Time\, Mazarati\, Sounds of Blackness\, and the Jesse Johnson Revue. Moreover\, these artists helped shape the very movement being celebrated. Here\, “Revelation” honors the visionaries who transformed Minneapolis’ musical heartbeat into a global phenomenon.  \nMichael Bland was born in Minneapolis and is one of the most revered drummers in the world. He is best known as the drummer for Prince’s New Power Generation from 1989 to 1996. He has worked with Mandy Moore\, Clay Aiken\, Backstreet Boys\, and Miley Cyrus. Also\, George Benson\, Mavis Staples\, Chaka Khan\, and Maxwell. Additionally\, Bland performed with Paul Westerberg\, The Chicks\, David Crosby\, Jonny Lang\, and Soul Asylum. \nLiv Warfield’s music career took off in 2009 after Prince selected her as the newest member of New Power Generation. There\, he mentored her\, helping hone her stage presence and studio arrangement of her music. Then\, she toured with the band for five years. Also\, he Executive Produced her second solo album\, 2014’s The Unexpected. \nFeaturing:\nMichael Bland\, MD/drums (Prince\, NPG\, Soul Asylum\, Sounds Of Blackness\, Cory Wong)\nSpecial Guest – Liv Warfield\, vocals (America’s Got Talent\, NPG)\nTommy Barbarella\, keyboards (Prince\, NPG\, MN Orchestra\, Greazy Meal)\nO’Dell\, guitar (Mint Condition\, NPG)\nBobby G\, guitar (Sheila E.\, The Time\, Jesse Johnson\, EWF)\nAshley Commodore\, vocals (Sounds Of Blackness\, MPLS\, Dr. Mambo’s Combo\, Stokley)\nG Sharp\, vocals (The Bizness\, Mazarati)\nJay Bee\, vocals (The Routine\, LTD)\nCory Eischen\, keyboards (Mayda\, E.L.No)\nRon Long\, bass (Dr. Mambo’s Combo) \nRecommended for fans of Prince\, The Time\, Greazy Meal and Mint Condition.
URL:https://soundminnesota.com/event/urban-classic-presents-revelation/
CATEGORIES:Live Music
ATTACH;FMTTYPE=image/jpeg:https://soundminnesota.com/wp-content/uploads/2026/04/700x400-UrbanClassicRevelation-gwFBsZ.jpg
END:VEVENT
BEGIN:VEVENT
DTSTART;TZID=America/Chicago:20260420T190000
DTEND;TZID=America/Chicago:20260420T220000
DTSTAMP:20260420T061944
CREATED:20251102T204333Z
LAST-MODIFIED:20251103T001221Z
UID:10033918-1776711600-1776722400@soundminnesota.com
SUMMARY:Jam Society Presents - Open Jam at MN Music Cafe
DESCRIPTION:21+
URL:https://soundminnesota.com/event/jam-society-presents-open-jam-at-mn-music-cafe/2026-04-20/
LOCATION:Minnesota Music Cafe\, 449 Payne Ave\, Saint Paul\, MN\, United States
ATTACH;FMTTYPE=image/png:https://soundminnesota.com/wp-content/uploads/2025/11/1000021273-e1762872759102.png
GEO:44.956541;-93.078344
X-APPLE-STRUCTURED-LOCATION;VALUE=URI;X-ADDRESS=Minnesota Music Cafe 449 Payne Ave Saint Paul MN United States;X-APPLE-RADIUS=500;X-TITLE=449 Payne Ave:geo:-93.078344,44.956541
END:VEVENT
BEGIN:VEVENT
DTSTART;TZID=America/Chicago:20260420T190000
DTEND;TZID=America/Chicago:20260420T230000
DTSTAMP:20260420T061944
CREATED:20241111T024848Z
LAST-MODIFIED:20241111T025338Z
UID:10019479-1776711600-1776726000@soundminnesota.com
SUMMARY:Moses Oakland Blues Jam at Midway Saloon
DESCRIPTION:
URL:https://soundminnesota.com/event/moses-oakland-blues-jam-at-midway-saloon/2026-04-20/
LOCATION:Midway Saloon\, 1567 University Ave\, Saint Paul\, MN\, United States
ATTACH;FMTTYPE=image/jpeg:https://soundminnesota.com/wp-content/uploads/2023/06/20231218232943_IMG_91872-014-012-e1703151401245.jpeg
GEO:44.955753;-93.166132
X-APPLE-STRUCTURED-LOCATION;VALUE=URI;X-ADDRESS=Midway Saloon 1567 University Ave Saint Paul MN United States;X-APPLE-RADIUS=500;X-TITLE=1567 University Ave:geo:-93.166132,44.955753
END:VEVENT
BEGIN:VEVENT
DTSTART;TZID=America/Chicago:20260420T200000
DTEND;TZID=America/Chicago:20260420T220000
DTSTAMP:20260420T061944
CREATED:20251107T172919Z
LAST-MODIFIED:20260223T155347Z
UID:10040843-1776715200-1776722400@soundminnesota.com
SUMMARY:Massive Mondays Reggae at Cabooze
DESCRIPTION:
URL:https://soundminnesota.com/event/only-every-monday-at-cabooze/2026-04-20/
LOCATION:The Cabooze\, 913 Cedar Avenue\, Minneapolis\, MN\, 55404\, United States
END:VEVENT
BEGIN:VEVENT
DTSTART;TZID=America/Chicago:20260420T210000
DTEND;TZID=America/Chicago:20260420T230000
DTSTAMP:20260420T061944
CREATED:20260408T031707Z
LAST-MODIFIED:20260408T031707Z
UID:10042315-1776718800-1776726000@soundminnesota.com
SUMMARY:Urban Classic Presents REVELATION:
DESCRIPTION:“Revelation” brings the music of Prince and the legendary MPLS Sound to life.\n  \nThis show features the songs of Prince\, New Power Generation\, The Time\, Jesse Johnson\, Vanity 6\, Wendy & Lisa\, Alexander O’Neal\, Janet Jackson\, and more. Additionally\, this extraordinary lineup includes former members of the Original NPG\, Mint Condition\, The Time\, Mazarati\, Sounds of Blackness\, and the Jesse Johnson Revue. Moreover\, these artists helped shape the very movement being celebrated. Here\, “Revelation” honors the visionaries who transformed Minneapolis’ musical heartbeat into a global phenomenon.  \nMichael Bland was born in Minneapolis and is one of the most revered drummers in the world. He is best known as the drummer for Prince’s New Power Generation from 1989 to 1996. He has worked with Mandy Moore\, Clay Aiken\, Backstreet Boys\, and Miley Cyrus. Also\, George Benson\, Mavis Staples\, Chaka Khan\, and Maxwell. Additionally\, Bland performed with Paul Westerberg\, The Chicks\, David Crosby\, Jonny Lang\, and Soul Asylum. \nLiv Warfield’s music career took off in 2009 after Prince selected her as the newest member of New Power Generation. There\, he mentored her\, helping hone her stage presence and studio arrangement of her music. Then\, she toured with the band for five years. Also\, he Executive Produced her second solo album\, 2014’s The Unexpected. \nFeaturing:\nMichael Bland\, MD/drums (Prince\, NPG\, Soul Asylum\, Sounds Of Blackness\, Cory Wong)\nSpecial Guest – Liv Warfield\, vocals (America’s Got Talent\, NPG)\nTommy Barbarella\, keyboards (Prince\, NPG\, MN Orchestra\, Greazy Meal)\nO’Dell\, guitar (Mint Condition\, NPG)\nBobby G\, guitar (Sheila E.\, The Time\, Jesse Johnson\, EWF)\nAshley Commodore\, vocals (Sounds Of Blackness\, MPLS\, Dr. Mambo’s Combo\, Stokley)\nG Sharp\, vocals (The Bizness\, Mazarati)\nJay Bee\, vocals (The Routine\, LTD)\nCory Eischen\, keyboards (Mayda\, E.L.No)\nRon Long\, bass (Dr. Mambo’s Combo) \nRecommended for fans of Prince\, The Time\, Greazy Meal and Mint Condition.
URL:https://soundminnesota.com/event/urban-classic-presents-revelation-2/
CATEGORIES:Live Music
ATTACH;FMTTYPE=image/jpeg:https://soundminnesota.com/wp-content/uploads/2026/04/700x400-UrbanClassicRevelation-gwFBsZ.jpg
END:VEVENT
END:VCALENDAR