BEGIN:VCALENDAR
VERSION:2.0
PRODID:-//Minnesota based calendar of live music - ECPv6.15.20//NONSGML v1.0//EN
CALSCALE:GREGORIAN
METHOD:PUBLISH
X-WR-CALNAME:Minnesota based calendar of live music
X-ORIGINAL-URL:https://soundminnesota.com
X-WR-CALDESC:Events for Minnesota based calendar of live music
REFRESH-INTERVAL;VALUE=DURATION:PT1H
X-Robots-Tag:noindex
X-PUBLISHED-TTL:PT1H
BEGIN:VTIMEZONE
TZID:America/Chicago
BEGIN:DAYLIGHT
TZOFFSETFROM:-0600
TZOFFSETTO:-0500
TZNAME:CDT
DTSTART:20250309T080000
END:DAYLIGHT
BEGIN:STANDARD
TZOFFSETFROM:-0500
TZOFFSETTO:-0600
TZNAME:CST
DTSTART:20251102T070000
END:STANDARD
BEGIN:DAYLIGHT
TZOFFSETFROM:-0600
TZOFFSETTO:-0500
TZNAME:CDT
DTSTART:20260308T080000
END:DAYLIGHT
BEGIN:STANDARD
TZOFFSETFROM:-0500
TZOFFSETTO:-0600
TZNAME:CST
DTSTART:20261101T070000
END:STANDARD
BEGIN:DAYLIGHT
TZOFFSETFROM:-0600
TZOFFSETTO:-0500
TZNAME:CDT
DTSTART:20270314T080000
END:DAYLIGHT
BEGIN:STANDARD
TZOFFSETFROM:-0500
TZOFFSETTO:-0600
TZNAME:CST
DTSTART:20271107T070000
END:STANDARD
END:VTIMEZONE
BEGIN:VEVENT
DTSTART;TZID=America/Chicago:20260422T163000
DTEND;TZID=America/Chicago:20260422T193000
DTSTAMP:20260422T014652
CREATED:20260402T064104Z
LAST-MODIFIED:20260420T222621Z
UID:10042231-1776875400-1776886200@soundminnesota.com
SUMMARY:Mark Joseph at Star Bar
DESCRIPTION:
URL:https://soundminnesota.com/event/mark-joseph-at-star-bar/
LOCATION:Star Bar & Bistro\, 618 2nd Ave S\, Minneapolis\, MN\, 55402\, United States
ATTACH;FMTTYPE=image/jpeg:https://soundminnesota.com/wp-content/uploads/2026/03/Mark-Joseph.jpg
END:VEVENT
BEGIN:VEVENT
DTSTART;TZID=America/Chicago:20260422T170000
DTEND;TZID=America/Chicago:20260422T190000
DTSTAMP:20260422T014652
CREATED:20260414T231419Z
LAST-MODIFIED:20260414T231419Z
UID:10042456-1776877200-1776884400@soundminnesota.com
SUMMARY:JC Lippold
DESCRIPTION:No cover. Bar and table seating offered – NO RESERVATIONS.\n\n\nJC Lippold: Vocals & Piano \nMaggie’s Piano Lounge is a warm\, relaxed and inviting space featuring a variety of seasoned singers and piano players. No cover. Order all of your favorite Crooners drinks and dinner items\, experience superb service\, and enjoy the great music!
URL:https://soundminnesota.com/event/jc-lippold-3/
LOCATION:Maggie’s Piano Lounge\, 6161 Highway 65 NE\, Minneapolis\, MN\, 55432\, United States
CATEGORIES:Live Music
ATTACH;FMTTYPE=image/jpeg:https://soundminnesota.com/wp-content/uploads/2025/11/8aaa177f9e60a60ecd0eb907d71d6df4-pLFPMf.jpg
END:VEVENT
BEGIN:VEVENT
DTSTART;TZID=America/Chicago:20260422T183000
DTEND;TZID=America/Chicago:20260422T200000
DTSTAMP:20260422T014652
CREATED:20260408T033506Z
LAST-MODIFIED:20260420T223900Z
UID:10042336-1776882600-1776888000@soundminnesota.com
SUMMARY:Mary Cutrufello
DESCRIPTION:
URL:https://soundminnesota.com/event/mary-cutrufello-3/
LOCATION:Finnish Bistro Coffee & Cafe\, 2264 Como Ave\, Saint Paul\, 55108
CATEGORIES:Live Music
ATTACH;FMTTYPE=image/jpeg:https://soundminnesota.com/wp-content/uploads/2026/04/Mary-Cutrufello-pdf-iepzdo.jpg
END:VEVENT
BEGIN:VEVENT
DTSTART;TZID=America/Chicago:20260422T190000
DTEND;TZID=America/Chicago:20260422T210000
DTSTAMP:20260422T014652
CREATED:20260408T031708Z
LAST-MODIFIED:20260420T224313Z
UID:10042317-1776884400-1776891600@soundminnesota.com
SUMMARY:Jorma Kaukonen & John Hurlbut at Dakota
DESCRIPTION:“a pioneer of San Francisco psychedelia” – Rolling Stone\n  \nJorma Kaukonen is one of the most highly respected interpreters of American roots music\, blues\, and rock. His storied career has already spanned a half-century. Moreover\, he is a member of the Rock & Roll Hall of Fame and a Grammy recipient. Jorma was at the forefront of popular rock and roll\, one of the founders of the San Francisco sound and a progenitor of Psychedelic Rock. Thus\, he is a founding member of two legendary bands\, Jefferson Airplane and the still-touring Hot Tuna.  \nJorma Kaukonen is a music legend and one of the finest singer-songwriters in his field. He continues to tour\, bringing his unique styling to old blues tunes while presenting new songs of weight and dimension. Here\, his secret is in playing spontaneous\, unfiltered music\, with an individual expression of personality. In 2016\, Jorma\, Jack Casady and the other members of Jefferson Airplane received the Grammy Lifetime Achievement Award. There\, this was to recognize their contributions to American music. \nIn 2019 St. Martin’s Press published Jorma‘s autobiography\, Been So Long: My Life and Music\, Furthermore\, he wrote this to express his life both in and out of the music world. As Kaukonen describes\, “My story is my story. Having told bits and pieces of it over my lifetime to a treasured few\, it was time to tell all to a bigger audience… From rehearsals and jams in small apartments and tiny back rooms to Monterey\, Woodstock\, Altamont\, the Rock & Roll Hall Of Fame\, the world of the Grammys and beyond… this is part of the road I live on. This is my embryonic journey and much\, much more!” \nRecommended for fans of Hot Tuna\, Jefferson Airplane\, Leo Kottke and Doc Watson.
URL:https://soundminnesota.com/event/jorma-kaukonen-john-hurlbut/
LOCATION:The Dakota\, 1010 Nicollet Mall\, Minneapolis\, MN\, 55403\, United States
CATEGORIES:Americana,Live Music,Rock/Pop
ATTACH;FMTTYPE=image/jpeg:https://soundminnesota.com/wp-content/uploads/2026/04/700x400-JormaKaukonenJohnHurlbut-6pPByz.jpg
END:VEVENT
BEGIN:VEVENT
DTSTART;TZID=America/Chicago:20260422T190000
DTEND;TZID=America/Chicago:20260422T210000
DTSTAMP:20260422T014652
CREATED:20260414T231149Z
LAST-MODIFIED:20260414T231149Z
UID:10042432-1776884400-1776891600@soundminnesota.com
SUMMARY:Irish Céilí Dancing
DESCRIPTION:Join in the fun every Wednesday with instructors Paul\, Justin\, and Alex\, and live music.
URL:https://soundminnesota.com/event/irish-ceili-dancing-17/
LOCATION:The Dubliner Pub\, 2162 University Avenue\, St. Paul\, 55114\, United States
CATEGORIES:Dance,Live Music
END:VEVENT
BEGIN:VEVENT
DTSTART;TZID=America/Chicago:20260422T190000
DTEND;TZID=America/Chicago:20260422T210000
DTSTAMP:20260422T014652
CREATED:20260420T230023Z
LAST-MODIFIED:20260420T230037Z
UID:10025112-1776884400-1776891600@soundminnesota.com
SUMMARY:Harold's House Party Residency at 331w/guest Uncle Kenny
DESCRIPTION:Weekly radio show on KFAI Radio 90.3 (4-6pm) \n\n\n\nThe party continues at 331Club
URL:https://soundminnesota.com/event/harolds-house-party-residency-at-331w-guest-8/
LOCATION:331 Club\, 331 13th Ave NE\, Minneapolis\, MN\, 55413\, United States
ATTACH;FMTTYPE=image/jpeg:https://soundminnesota.com/wp-content/uploads/2025/01/1000008570-e1762268883784.jpg
GEO:45.0009;-93.263083
X-APPLE-STRUCTURED-LOCATION;VALUE=URI;X-ADDRESS=331 Club 331 13th Ave NE Minneapolis MN 55413 United States;X-APPLE-RADIUS=500;X-TITLE=331 13th Ave NE:geo:-93.263083,45.0009
END:VEVENT
BEGIN:VEVENT
DTSTART;TZID=America/Chicago:20260422T190000
DTEND;TZID=America/Chicago:20260422T213000
DTSTAMP:20260422T014652
CREATED:20260418T185337Z
LAST-MODIFIED:20260418T185349Z
UID:10042554-1776884400-1776893400@soundminnesota.com
SUMMARY:WirBaeck at Berlin MPLS
DESCRIPTION:
URL:https://soundminnesota.com/event/wirbaeck-at-berlin-mpls/
LOCATION:Berlin Minneapolis\, 204 N 1st St\, Minneapolis\, 55401
END:VEVENT
BEGIN:VEVENT
DTSTART;TZID=America/Chicago:20260422T190000
DTEND;TZID=America/Chicago:20260422T220000
DTSTAMP:20260422T014652
CREATED:20260414T231150Z
LAST-MODIFIED:20260414T231150Z
UID:10042433-1776884400-1776895200@soundminnesota.com
SUMMARY:Twin Prop Jane
DESCRIPTION:Stow away and tuck in for some folk sessions with Tam Maluda Jones of the Northerly Gales and Dee Brust of SisterTree and Purgatory Creek.Twin Prop Jane takes flight with fiddle\, guitar\, mandolin\, and vocals to a timeless harmonic thrum.
URL:https://soundminnesota.com/event/twin-prop-jane-7/
LOCATION:The Dubliner Pub\, 2162 University Avenue\, St. Paul\, 55114\, United States
CATEGORIES:Live Music,Music
ATTACH;FMTTYPE=image/jpeg:https://soundminnesota.com/wp-content/uploads/2025/11/twin-prop-jane-eD0yzG.jpg
END:VEVENT
BEGIN:VEVENT
DTSTART;TZID=America/Chicago:20260422T190000
DTEND;TZID=America/Chicago:20260422T220000
DTSTAMP:20260422T014652
CREATED:20260415T061548Z
LAST-MODIFIED:20260415T061548Z
UID:10042484-1776884400-1776895200@soundminnesota.com
SUMMARY:Lew Apollo w/ Ashley DuBose
DESCRIPTION:EVENT DETAILS \n\n		rsvp on Facebook\n	 \n\n\n\n \nThe Zen Arcade Stage at The Hook and Ladder—\nDoors & Music: 7pm\n$14 ADV (Box Office) / $16 ADV (Online) / $20 DOOR(Includes Sales Tax\, Ticketing Fee\, Facility Fee\, & CC Processing Fee)—\nBOX-OFFICE Tickets Are Available in The Zen Arcade During Hours of Operation.For More Information visit www.ZenArcadeTHC.comNO REFUNDS \n \n \n\n\n EVENT DESCRIPTION \n\n\n\n \nLew Apollo\nw/ Ashley DuBose\n—Apollo’s voice is funky\, soulful and ferociously melodic… his songwriting is superb… in the very near future\, Lew Apollo will be a force.” — AMP Music\n— \nBorn in rural Northern Minnesota\, Lew Apollo crafts genre-bending soul that fuses heartfelt storytelling with modern influences like Hozier and Leon Bridges. After his debut EP\, he sold out shows\, toured with Los Lonely Boys\, and earned KUTX rotation. His self-produced debut album Fool’s Gold (Aug 2025) surpassed 300\,000 streams in under two months\, received acclaim from NPR\, and landed on Stereogum’s “Best Albums of 2025\,” cementing him as a rising force in modern soul and indie.—Ashley DuBose is a Minneapolis-based singer-songwriter known for her appearance on NBC’s The Voice. Her music spans R&B\, pop\, and acoustic soul. A St. Catherine University mathematics graduate\, she released her debut album\, Somethin’ More\, the day after graduation. Named Best Female Vocalist by City Pages\, her album BE YOU was highlighted as one of 2015’s best by the Star Tribune. Beyond music\, DuBose is a mother of three\, a REALTOR® real estate developer\, and the Music & Arts Coordinator for Urban Ventures.
URL:https://soundminnesota.com/event/lew-apollo-w-ashley-dubose/
LOCATION:Zen Arcade Stage\, 3010 Minnehaha Ave\, Minneapolis\, 55406\, United States
CATEGORIES:Live Music,Mission Room,Zen Arcade
ATTACH;FMTTYPE=image/jpeg:https://soundminnesota.com/wp-content/uploads/2026/04/w-Ashley-DuBose-1080-x-1080-px-1920-x-1080-px-TmqaV3.jpg
END:VEVENT
BEGIN:VEVENT
DTSTART;TZID=America/Chicago:20260422T200000
DTEND;TZID=America/Chicago:20260422T213000
DTSTAMP:20260422T014652
CREATED:20260414T231419Z
LAST-MODIFIED:20260414T231419Z
UID:10042457-1776888000-1776893400@soundminnesota.com
SUMMARY:The New Standards (2nd Show Added!!)
DESCRIPTION:Doors open at 7:00 PM for Dinner and Drink service.\n\n\nMinnesota stalwarts The New Standards create an intriguing blend of everything from classic cabaret to punk rock\, from the freedom of jazz\, to the soul of pop and rock. They make it work through offbeat humor and sheer musicianship. The instrumentation is simple: John Munson of Trip Shakespeare/Semisonic fame on bass; Chan Poling\, founder of the new-wave group The Suburbs on piano; and Steve Roehm on vibes. Chan and John split the singing. A footstomp here\, a shout-out there\, a fiery solo\, and it’s cooked. Simple\, elegant\, illuminating. \nChan Poling: Piano\, Vocals \nJohn Munson: Bass\, Vocals \nSteve Roehm: Vibraphone \nThe New Standards is a “revelatory” (StarTribune) Twin-Cities-based trio with a global following. Formed in 2005 as an off-shoot project between three Minneapolis-based musicians and friends\, The New Standards has grown into a globe-spanning adventure — filling theaters and clubs and spawning several CDs\, videos\, cartoons\, and dance and theater projects that have charmed and delighted an ever-multiplying legion of faithful fans. \n“As a trio\, they have made a practice of dressing up punk and pop classics – “I Will Dare” by the Replacements gets a place in the pantheon – in jazz arrangements that overlay piano\, upright bass and vibraphone…The DNA of the band and its members has its feet firmly rooted into punk/pop culture.” – NY Times\nwww.thenewstandards.com
URL:https://soundminnesota.com/event/the-new-standards-2nd-show-added/
LOCATION:Main Stage Showroom\, 6161 Highway 65 NE\, Minneapolis\, MN\, 55448\, United States
CATEGORIES:Live Music
ATTACH;FMTTYPE=image/jpeg:https://soundminnesota.com/wp-content/uploads/2026/03/92a0dc9f0871e1f03a0a733efea16c79-scaled-91ZKgV.jpg
END:VEVENT
BEGIN:VEVENT
DTSTART;TZID=America/Chicago:20260422T213000
DTEND;TZID=America/Chicago:20260423T010000
DTSTAMP:20260422T014652
CREATED:20251116T234811Z
LAST-MODIFIED:20251116T234828Z
UID:10034911-1776893400-1776906000@soundminnesota.com
SUMMARY:Twine at Bunkers
DESCRIPTION:
URL:https://soundminnesota.com/event/twine-at-bunkers/2026-04-22/
LOCATION:Bunker’s Music Bar & Grill MPLS -Since 1976\, 761 Washington Ave N\, Minneapolis\, MN\, 55401\, United States
END:VEVENT
BEGIN:VEVENT
DTSTART;TZID=America/Chicago:20260422T221500
DTEND;TZID=America/Chicago:20260423T000000
DTSTAMP:20260422T014652
CREATED:20260205T011430Z
LAST-MODIFIED:20260206T001550Z
UID:10039419-1776896100-1776902400@soundminnesota.com
SUMMARY:The Cherry Pit Open Jam at Berlin MPLS
DESCRIPTION:
URL:https://soundminnesota.com/event/the-cherry-pit-open-jam/2026-04-22/
LOCATION:Berlin Minneapolis\, 204 N 1st St\, Minneapolis\, 55401
END:VEVENT
END:VCALENDAR