BEGIN:VCALENDAR
VERSION:2.0
PRODID:-//Minnesota based calendar of live music - ECPv6.15.20//NONSGML v1.0//EN
CALSCALE:GREGORIAN
METHOD:PUBLISH
X-ORIGINAL-URL:https://soundminnesota.com
X-WR-CALDESC:Events for Minnesota based calendar of live music
REFRESH-INTERVAL;VALUE=DURATION:PT1H
X-Robots-Tag:noindex
X-PUBLISHED-TTL:PT1H
BEGIN:VTIMEZONE
TZID:America/Chicago
BEGIN:DAYLIGHT
TZOFFSETFROM:-0600
TZOFFSETTO:-0500
TZNAME:CDT
DTSTART:20250309T080000
END:DAYLIGHT
BEGIN:STANDARD
TZOFFSETFROM:-0500
TZOFFSETTO:-0600
TZNAME:CST
DTSTART:20251102T070000
END:STANDARD
BEGIN:DAYLIGHT
TZOFFSETFROM:-0600
TZOFFSETTO:-0500
TZNAME:CDT
DTSTART:20260308T080000
END:DAYLIGHT
BEGIN:STANDARD
TZOFFSETFROM:-0500
TZOFFSETTO:-0600
TZNAME:CST
DTSTART:20261101T070000
END:STANDARD
BEGIN:DAYLIGHT
TZOFFSETFROM:-0600
TZOFFSETTO:-0500
TZNAME:CDT
DTSTART:20270314T080000
END:DAYLIGHT
BEGIN:STANDARD
TZOFFSETFROM:-0500
TZOFFSETTO:-0600
TZNAME:CST
DTSTART:20271107T070000
END:STANDARD
END:VTIMEZONE
BEGIN:VEVENT
DTSTART;TZID=America/Chicago:20260426T180000
DTEND;TZID=America/Chicago:20260426T200000
DTSTAMP:20260424T161131
CREATED:20260420T221106Z
LAST-MODIFIED:20260420T221106Z
UID:10042577-1777226400-1777233600@soundminnesota.com
SUMMARY:The Wailers
DESCRIPTION:“pure positive vibes… vibrant\, relevant\, and revolutionary” – Broadway World\n  \nThe Wailers emerged as a Jamaican ska\, rocksteady and reggae band. They are hailed for hits like “Simmer Down”\, “Trenchtown Rock”\, “Nice Time”\, “War”\, “Stir It Up” and “Get Up\, Stand Up”. \nThey released four albums before signing to Island Records in 1972. Two more albums were created before Peter Tosh and Bunny Wailer left the band in 1974. Then\, Bob Marley carried on with a new line-up. \nAfter the death of Marley in 1981\, the Wailers continued\, led by Aston Barret. The band continued to play a heavy worldwide touring schedule and recorded with several singers. In 1989\, Aston Barrett released the album I.D. and continued using the Wailers name when collaborating with other artists. \nUnder the guidance of Aston Barrett Jr\, son of the legendary “Familyman”\, The Wailers continue to preserve the legacy of their iconic sound. Their culture-defining music\, embodying the spirit of the 70s reggae movement\, has left an indelible mark on the industry. \nIn 2022\, The Wailers welcomed a new vocalist\, Mitchell Brunings. Here\, he adds even more dynamic energy to their already electrifying live shows. Brunings is a talented vocalist who has made a name for himself with his soulful voice and powerful stage presence. Moreover\, The Wailers continue to captivate audiences with their unique brand of reggae. There\, they blend the sounds of the past with a fresh\, contemporary flair. Brunning’s addition to the band has been widely praised by fans and music critics alike. Here\, this solidifies The Wailers’ status as one of the most exciting live acts in the world. \nExperience the magic of their timeless classics and incredible cuts from Bob Marley’s vast repertoire in a set that is truly unforgettable. \nRecommended for fans of Bob Marley\, Toots and The Maytals\, John Holt and Steel Pulse.
URL:https://soundminnesota.com/event/the-wailers/
CATEGORIES:Global,Live Music,Rock/Pop
ATTACH;FMTTYPE=image/jpeg:https://soundminnesota.com/wp-content/uploads/2026/04/700x400-TheWailers2-XDSlvn.jpg
END:VEVENT
BEGIN:VEVENT
DTSTART;TZID=America/Chicago:20260426T203000
DTEND;TZID=America/Chicago:20260426T223000
DTSTAMP:20260424T161132
CREATED:20260420T221108Z
LAST-MODIFIED:20260420T221108Z
UID:10042578-1777235400-1777242600@soundminnesota.com
SUMMARY:The Wailers
DESCRIPTION:“pure positive vibes… vibrant\, relevant\, and revolutionary” – Broadway World\n  \nThe Wailers emerged as a Jamaican ska\, rocksteady and reggae band. They are hailed for hits like “Simmer Down”\, “Trenchtown Rock”\, “Nice Time”\, “War”\, “Stir It Up” and “Get Up\, Stand Up”. \nThey released four albums before signing to Island Records in 1972. Two more albums were created before Peter Tosh and Bunny Wailer left the band in 1974. Then\, Bob Marley carried on with a new line-up. \nAfter the death of Marley in 1981\, the Wailers continued\, led by Aston Barret. The band continued to play a heavy worldwide touring schedule and recorded with several singers. In 1989\, Aston Barrett released the album I.D. and continued using the Wailers name when collaborating with other artists. \nUnder the guidance of Aston Barrett Jr\, son of the legendary “Familyman”\, The Wailers continue to preserve the legacy of their iconic sound. Their culture-defining music\, embodying the spirit of the 70s reggae movement\, has left an indelible mark on the industry. \nIn 2022\, The Wailers welcomed a new vocalist\, Mitchell Brunings. Here\, he adds even more dynamic energy to their already electrifying live shows. Brunings is a talented vocalist who has made a name for himself with his soulful voice and powerful stage presence. Moreover\, The Wailers continue to captivate audiences with their unique brand of reggae. There\, they blend the sounds of the past with a fresh\, contemporary flair. Brunning’s addition to the band has been widely praised by fans and music critics alike. Here\, this solidifies The Wailers’ status as one of the most exciting live acts in the world. \nExperience the magic of their timeless classics and incredible cuts from Bob Marley’s vast repertoire in a set that is truly unforgettable. \nRecommended for fans of Bob Marley\, Toots and The Maytals\, John Holt and Steel Pulse.
URL:https://soundminnesota.com/event/the-wailers-2/
CATEGORIES:Global,Live Music,Rock/Pop
ATTACH;FMTTYPE=image/jpeg:https://soundminnesota.com/wp-content/uploads/2026/04/700x400-TheWailers2-XDSlvn.jpg
END:VEVENT
BEGIN:VEVENT
DTSTART;TZID=America/Chicago:20260428T190000
DTEND;TZID=America/Chicago:20260428T203000
DTSTAMP:20260424T161132
CREATED:20260420T221112Z
LAST-MODIFIED:20260420T221112Z
UID:10042580-1777402800-1777408200@soundminnesota.com
SUMMARY:Chucho Valdés Royal Quartet
DESCRIPTION:“A pianist of imperial command\, possessed of a dazzling\, deceptively casual virtuosity” – New York Times\n  \nCuban pianist\, composer\, and arranger Chucho Valdés is the most influential figure in modern Afro-Cuban jazz. Here\, in a rich career spanning sixty years\, he has won seven Grammy and seven Latin Grammy Awards. Moreover\, Chucho pushes boundaries in pursuit of new expressions in Afro-Cuban music. Additionally\, his influence in the genre is immeasurable\, establishing the standard by which younger generations create their own. \nChucho received musical education through formal studies and countless nights on the best stages in Cuba. There\, he performed with his father\, Bebo Valdés\, and his orchestra Sabor de Cuba\, and with the seminal Orquesta Cubana de Música Moderna. Chucho is acclaimed as the founder\, pianist\, and main composer and arranger of Irakere\, a landmark ensemble in Cuban music. Also\, Chucho led Irakere for more than thirty years\, but since 2005 he has focused on his personal career. Here\, he showcases his piano prowess with small ensembles\, like the Afro-Cuban Messengers\, Jazz Batá\, and his acclaimed Royal Quartet. \nChucho has been named an NEA Jazz Master. Additionally\, he earned a Lifetime Achievement Award from the Latin Academy of Recording Arts & Sciences. Also\, he was inducted into the Latin Songwriters Hall of Fame\, and received a DC Jazz Festival Lifetime Achievement Award. There\, he joined an illustrious list that includes Kenny Barron\, James Moody\, Ellis Marsalis\, George Wein\, and Dave Brubeck. \nValdés is a restless visionary forever evolving Afro-Cuban music. Further\, he is as creative and playful as ever on his Grammy-nominated\, Latin Grammy-winning release\, 2024’s Cuba & Beyond. \nRecommended for fans of Arturo Sandoval\, Gonzalo Rubalcaba\, Alfredo Rodriguez and Nachito Herrera.
URL:https://soundminnesota.com/event/chucho-valdes-royal-quartet/
CATEGORIES:Global,Jazz,Live Music
ATTACH;FMTTYPE=image/jpeg:https://soundminnesota.com/wp-content/uploads/2026/04/700x400-ChuchoValdesRoyalQuartet-PyygFy.jpg
END:VEVENT
BEGIN:VEVENT
DTSTART;TZID=America/Chicago:20260428T210000
DTEND;TZID=America/Chicago:20260428T230000
DTSTAMP:20260424T161132
CREATED:20260420T221113Z
LAST-MODIFIED:20260420T221113Z
UID:10042581-1777410000-1777417200@soundminnesota.com
SUMMARY:Chucho Valdés Royal Quartet
DESCRIPTION:“A pianist of imperial command\, possessed of a dazzling\, deceptively casual virtuosity” – New York Times\n  \nCuban pianist\, composer\, and arranger Chucho Valdés is the most influential figure in modern Afro-Cuban jazz. Here\, in a rich career spanning sixty years\, he has won seven Grammy and seven Latin Grammy Awards. Moreover\, Chucho pushes boundaries in pursuit of new expressions in Afro-Cuban music. Additionally\, his influence in the genre is immeasurable\, establishing the standard by which younger generations create their own. \nChucho received musical education through formal studies and countless nights on the best stages in Cuba. There\, he performed with his father\, Bebo Valdés\, and his orchestra Sabor de Cuba\, and with the seminal Orquesta Cubana de Música Moderna. Chucho is acclaimed as the founder\, pianist\, and main composer and arranger of Irakere\, a landmark ensemble in Cuban music. Also\, Chucho led Irakere for more than thirty years\, but since 2005 he has focused on his personal career. Here\, he showcases his piano prowess with small ensembles\, like the Afro-Cuban Messengers\, Jazz Batá\, and his acclaimed Royal Quartet. \nChucho has been named an NEA Jazz Master. Additionally\, he earned a Lifetime Achievement Award from the Latin Academy of Recording Arts & Sciences. Also\, he was inducted into the Latin Songwriters Hall of Fame\, and received a DC Jazz Festival Lifetime Achievement Award. There\, he joined an illustrious list that includes Kenny Barron\, James Moody\, Ellis Marsalis\, George Wein\, and Dave Brubeck. \nValdés is a restless visionary forever evolving Afro-Cuban music. Further\, he is as creative and playful as ever on his Grammy-nominated\, Latin Grammy-winning release\, 2024’s Cuba & Beyond. \nRecommended for fans of Arturo Sandoval\, Gonzalo Rubalcaba\, Alfredo Rodriguez and Nachito Herrera.
URL:https://soundminnesota.com/event/chucho-valdes-royal-quartet-2/
CATEGORIES:Global,Jazz,Live Music
ATTACH;FMTTYPE=image/jpeg:https://soundminnesota.com/wp-content/uploads/2026/04/700x400-ChuchoValdesRoyalQuartet-PyygFy.jpg
END:VEVENT
END:VCALENDAR