BEGIN:VCALENDAR
VERSION:2.0
PRODID:-//Minnesota based calendar of live music - ECPv6.15.20//NONSGML v1.0//EN
CALSCALE:GREGORIAN
METHOD:PUBLISH
X-WR-CALNAME:Minnesota based calendar of live music
X-ORIGINAL-URL:https://soundminnesota.com
X-WR-CALDESC:Events for Minnesota based calendar of live music
REFRESH-INTERVAL;VALUE=DURATION:PT1H
X-Robots-Tag:noindex
X-PUBLISHED-TTL:PT1H
BEGIN:VTIMEZONE
TZID:America/Chicago
BEGIN:DAYLIGHT
TZOFFSETFROM:-0600
TZOFFSETTO:-0500
TZNAME:CDT
DTSTART:20250309T080000
END:DAYLIGHT
BEGIN:STANDARD
TZOFFSETFROM:-0500
TZOFFSETTO:-0600
TZNAME:CST
DTSTART:20251102T070000
END:STANDARD
BEGIN:DAYLIGHT
TZOFFSETFROM:-0600
TZOFFSETTO:-0500
TZNAME:CDT
DTSTART:20260308T080000
END:DAYLIGHT
BEGIN:STANDARD
TZOFFSETFROM:-0500
TZOFFSETTO:-0600
TZNAME:CST
DTSTART:20261101T070000
END:STANDARD
BEGIN:DAYLIGHT
TZOFFSETFROM:-0600
TZOFFSETTO:-0500
TZNAME:CDT
DTSTART:20270314T080000
END:DAYLIGHT
BEGIN:STANDARD
TZOFFSETFROM:-0500
TZOFFSETTO:-0600
TZNAME:CST
DTSTART:20271107T070000
END:STANDARD
END:VTIMEZONE
BEGIN:VEVENT
DTSTART;TZID=America/Chicago:20260501T190000
DTEND;TZID=America/Chicago:20260501T210000
DTSTAMP:20260423T234850
CREATED:20260418T221436Z
LAST-MODIFIED:20260418T221436Z
UID:10042560-1777662000-1777669200@soundminnesota.com
SUMMARY:TICKETED SHOW: The Divers
DESCRIPTION:For more than fifteen years\, the Divers have been entertaining audiences of all ages with their unique and wide repertoire of original compositions mixing elements of rock\, folk\, bluegrass\, blues\, and jazz with random acts of nonsense. Their fun and unique sound emerges from an eclectic mix of guitar\, mandolin\, harmonica\, bass\, drums\, and vocal harmonies. \nDon’t miss the band whose performances have been described as “upbeat tunes\, good playing\, and laugh-out-loud shtick” (Joe Tougas\, in the Mankato Free Press)!
URL:https://soundminnesota.com/event/ticketed-show-the-divers/
CATEGORIES:Events,Grand Kabaret,Live Music
ATTACH;FMTTYPE=image/png:https://soundminnesota.com/wp-content/uploads/2026/04/2026-The-Divers-1-scaled-XhZvcT.png
END:VEVENT
BEGIN:VEVENT
DTSTART;TZID=America/Chicago:20260508T190000
DTEND;TZID=America/Chicago:20260508T213000
DTSTAMP:20260423T234851
CREATED:20260418T221454Z
LAST-MODIFIED:20260418T221454Z
UID:10042561-1778266800-1778275800@soundminnesota.com
SUMMARY:Roe Family Singers
DESCRIPTION:The Roe Family Singers are a Good-Time\, Old-Time Hillbilly band from the tiny community of Kirkwood Hollow\, MN. Led by wife & husband Kim and Quillan Roe\, the band marries old-time sounds from barn-dances\, fiddle pulls\, and county fairs with the rock & roll passion of youth. \nFeaturing banjo\, Autoharp\, guitar\, and Appalachian clogging\, the band and family of fans have been regularly filling Minneapolis’ 331 Club every Monday night since 2005. They’ve shared the stage with Doc Watson\, Ralph Stanley\, Mike Seeger\, Del McCoury\, Jesse McReynolds\, the Grascals\, Jim Kweskin & Geoff Muldaur\, Junior Brown\, Asleep at the Wheel\, and John McEuen & John Carter Cash. In 2011 the band was awarded the prestigious McKnight Fellowship for Performing Musicians; they won the title of “World’s Best Jug Band” twice\, in 2010 & 2012 at the annual Battle of the Jug Bands; in 2012\, won the Minnesota Duet Contest at the MN State Fair; in 2016 won the title of Entertainers of the Year from BMAI; in 2017\, Kim won the clogging competition at the Old-Time Music & Ozark Heritage Festival\, held in West Plains\, MO; in 2018\, won both Entertainers of the Year and Album of the Year from BMAI; and in 2019\, won Best Band\, Best Band Overall\, and Entertainers of the Year from BMAI. \nThe Roe Family Singers mix original music and contemporary takes on old-time\, traditional\, and gospel tunes into one roiling & rollicking river of fresh yet familiar American music. Every performance raises a ruckus.
URL:https://soundminnesota.com/event/roe-family-singers/
CATEGORIES:Events,Grand Kabaret,Live Music
ATTACH;FMTTYPE=image/png:https://soundminnesota.com/wp-content/uploads/2026/04/2026-Roe-Family-Singers-scaled-gfmwim.png
END:VEVENT
BEGIN:VEVENT
DTSTART;TZID=America/Chicago:20260514T190000
DTEND;TZID=America/Chicago:20260514T210000
DTSTAMP:20260423T234851
CREATED:20260418T221512Z
LAST-MODIFIED:20260418T221512Z
UID:10042562-1778785200-1778792400@soundminnesota.com
SUMMARY:Open Mic Night with Molly & Sonny Boy
DESCRIPTION:Musicians\, poets\, comedians and more: join emcees Molly & Sonny Boy for open Mic Night at The Grand Kabaret! All are welcome and a cash bar will be available. We will provide mics\, mic stands\, and sound equipment. Sign up for your spot upon arrival!
URL:https://soundminnesota.com/event/open-mic-night-with-molly-sonny-boy/
CATEGORIES:Events,Grand Kabaret,Live Music
ATTACH;FMTTYPE=image/jpeg:https://soundminnesota.com/wp-content/uploads/2026/04/Open-Mic-Night-Db2IWV.jpg
END:VEVENT
BEGIN:VEVENT
DTSTART;TZID=America/Chicago:20260515T190000
DTEND;TZID=America/Chicago:20260515T213000
DTSTAMP:20260423T234851
CREATED:20260418T221515Z
LAST-MODIFIED:20260418T221515Z
UID:10042563-1778871600-1778880600@soundminnesota.com
SUMMARY:Charmin Michelle
DESCRIPTION:“Taste and understatement. Swing and savoir-faire. Grace and grooves. Intimacy and panache. Singer Charmin Michelle delivers all of the above and more. This is what the Minneapolis Star/Tribune had to say about this charismatic chanteuse whose conversational style recalls the late Billie Holiday and other legendary ladies of jazz. And\, yet\, her music is free of tiresome camp and easy nostalgia. She’s a savvy songstress and\, while putting her own imprint on a melody\, is always respectful of those who first inhabited it. Born in Birmingham\, Alabama\, Charmin moved to Minnesota while still a child and has called it home ever since. Though based in Minneapolis\, she is no stranger to life on the road and began touring internationally in 1986. \nCharmin will be playing with “The Jim McGuire Jazz Trio. Jim McGuire is a renowned Mankato-based guitarist and composer inducted into the Minnesota Music Hall of Fame in New Ulm in 2017. Known for his work in jazz and classical\, particularly on nylon-string guitar\, he has over 40 years of teaching experience at Minnesota colleges and frequently performed with the Jim McGuire Jazz Trio.”
URL:https://soundminnesota.com/event/charmin-michelle/
CATEGORIES:Events,Grand Kabaret,Live Music
ATTACH;FMTTYPE=image/png:https://soundminnesota.com/wp-content/uploads/2026/04/2026-Charmin-Michelle-scaled-r7lRja.png
END:VEVENT
END:VCALENDAR