BEGIN:VCALENDAR
VERSION:2.0
PRODID:-//Minnesota based calendar of live music - ECPv6.15.20//NONSGML v1.0//EN
CALSCALE:GREGORIAN
METHOD:PUBLISH
X-ORIGINAL-URL:https://soundminnesota.com
X-WR-CALDESC:Events for Minnesota based calendar of live music
REFRESH-INTERVAL;VALUE=DURATION:PT1H
X-Robots-Tag:noindex
X-PUBLISHED-TTL:PT1H
BEGIN:VTIMEZONE
TZID:America/Chicago
BEGIN:DAYLIGHT
TZOFFSETFROM:-0600
TZOFFSETTO:-0500
TZNAME:CDT
DTSTART:20250309T080000
END:DAYLIGHT
BEGIN:STANDARD
TZOFFSETFROM:-0500
TZOFFSETTO:-0600
TZNAME:CST
DTSTART:20251102T070000
END:STANDARD
BEGIN:DAYLIGHT
TZOFFSETFROM:-0600
TZOFFSETTO:-0500
TZNAME:CDT
DTSTART:20260308T080000
END:DAYLIGHT
BEGIN:STANDARD
TZOFFSETFROM:-0500
TZOFFSETTO:-0600
TZNAME:CST
DTSTART:20261101T070000
END:STANDARD
BEGIN:DAYLIGHT
TZOFFSETFROM:-0600
TZOFFSETTO:-0500
TZNAME:CDT
DTSTART:20270314T080000
END:DAYLIGHT
BEGIN:STANDARD
TZOFFSETFROM:-0500
TZOFFSETTO:-0600
TZNAME:CST
DTSTART:20271107T070000
END:STANDARD
END:VTIMEZONE
BEGIN:VEVENT
DTSTART;TZID=America/Chicago:20260501T190000
DTEND;TZID=America/Chicago:20260501T210000
DTSTAMP:20260424T032752
CREATED:20260418T221436Z
LAST-MODIFIED:20260418T221436Z
UID:10042560-1777662000-1777669200@soundminnesota.com
SUMMARY:TICKETED SHOW: The Divers
DESCRIPTION:For more than fifteen years\, the Divers have been entertaining audiences of all ages with their unique and wide repertoire of original compositions mixing elements of rock\, folk\, bluegrass\, blues\, and jazz with random acts of nonsense. Their fun and unique sound emerges from an eclectic mix of guitar\, mandolin\, harmonica\, bass\, drums\, and vocal harmonies. \nDon’t miss the band whose performances have been described as “upbeat tunes\, good playing\, and laugh-out-loud shtick” (Joe Tougas\, in the Mankato Free Press)!
URL:https://soundminnesota.com/event/ticketed-show-the-divers/
CATEGORIES:Events,Grand Kabaret,Live Music
ATTACH;FMTTYPE=image/png:https://soundminnesota.com/wp-content/uploads/2026/04/2026-The-Divers-1-scaled-XhZvcT.png
END:VEVENT
END:VCALENDAR