BEGIN:VCALENDAR
VERSION:2.0
PRODID:-//Minnesota based calendar of live music - ECPv6.15.20//NONSGML v1.0//EN
CALSCALE:GREGORIAN
METHOD:PUBLISH
X-WR-CALNAME:Minnesota based calendar of live music
X-ORIGINAL-URL:https://soundminnesota.com
X-WR-CALDESC:Events for Minnesota based calendar of live music
REFRESH-INTERVAL;VALUE=DURATION:PT1H
X-Robots-Tag:noindex
X-PUBLISHED-TTL:PT1H
BEGIN:VTIMEZONE
TZID:America/Chicago
BEGIN:DAYLIGHT
TZOFFSETFROM:-0600
TZOFFSETTO:-0500
TZNAME:CDT
DTSTART:20250309T080000
END:DAYLIGHT
BEGIN:STANDARD
TZOFFSETFROM:-0500
TZOFFSETTO:-0600
TZNAME:CST
DTSTART:20251102T070000
END:STANDARD
BEGIN:DAYLIGHT
TZOFFSETFROM:-0600
TZOFFSETTO:-0500
TZNAME:CDT
DTSTART:20260308T080000
END:DAYLIGHT
BEGIN:STANDARD
TZOFFSETFROM:-0500
TZOFFSETTO:-0600
TZNAME:CST
DTSTART:20261101T070000
END:STANDARD
BEGIN:DAYLIGHT
TZOFFSETFROM:-0600
TZOFFSETTO:-0500
TZNAME:CDT
DTSTART:20270314T080000
END:DAYLIGHT
BEGIN:STANDARD
TZOFFSETFROM:-0500
TZOFFSETTO:-0600
TZNAME:CST
DTSTART:20271107T070000
END:STANDARD
END:VTIMEZONE
BEGIN:VEVENT
DTSTART;TZID=America/Chicago:20260501T170000
DTEND;TZID=America/Chicago:20260501T220000
DTSTAMP:20260424T113959
CREATED:20260415T061618Z
LAST-MODIFIED:20260415T061618Z
UID:10042491-1777654800-1777672800@soundminnesota.com
SUMMARY:MN Music Resistance presents MAYDAY! MAYDAY!
DESCRIPTION:RSVP ON FACEBOOK\n	 \n EVENT DETAILS \n\n\n\n \nUnder The Canopy at The Hook and Ladder Theater“An Urban Outdoor Summer Concert Series” \nDoors 5:00pm :: Music 5:30pm :: 21+RAIN or SHIINE \nGA: $33 ADV (Box-Office) / $36 ADV (Online) / $36 DOOR————BOX-OFFICE Tickets Are Available in The Zen Arcade During Hours of Operation. NO REFUNDS———— \n  \n\nCabana & Table UpgradesWould you like to reserve a party cabana for eight or a table for four under an umbrella?—-Party Cabana (8 Person) – $110.00Front Porch Table (4 Person) – $55.00Only one person needs to purchase the Upgrade. (Does Not Include Admission) \n\n \n\n\n EVENT DESCRIPTION \n\nMN Music Resistance presents MAYDAY! MAYDAY!\n— \n\nfeaturing: Venus DeMars\, Los Pinches Gueyes\, Cindy Lawson\, Surly Grrly\, and Mary Cutrufello— \nThe Minnesota Music Resistance presents our second annual awareness and fundraising event supporting the ACLU-MN: Mayday! Mayday!  \n\nJoin us for music and community for an important cause. \n \nThe Minnesota Music Resistance is a volunteer-run organization dedicated to pushing back on authoritarianism and supporting critical community organizations focused on upholding civil and human rights.\n\n\n \n\nThank you to our sponsors\, partners\, & neighbors: \nSummit Brewing • RKR Ganja Beverages • Nobool Presents • KFAI 90.3FM • Mpls.St.Paul Magazine • The Zen Arcade • Longfellow Rising • Firehouse Perfroming Arts Center • Lake Street Council • Moon Palace Books • Arbeiter Brewing\n\n \nThe Award-Winning Under the Canopy series at The Hook & Ladder Theater returns with its uniquely seasonal urban footprint to the Longfellow neighborhood of South Minneapolis in 2025.\n \nThe Hook has committed to having a food truck Under the Canopy throughout the 2026 season for our guests. Come hungry and enjoy dinner with the show!\n\n\n \n \n \n\n\n\n\n\n\n\n \n\n\n\n\n\n			\n					\n\n \n \n \n\n\nThis activity is made possible by the voters of Minnesota through a Minnesota State Arts Board Operating Support grant\, thanks to a legislative appropriation from the arts and cultural heritage fund.
URL:https://soundminnesota.com/event/mn-music-resistance-presents-mayday-mayday/
LOCATION:Under The Canopy\, 3010 Minnehaha Ave\, Minneapolis\, 55406\, United States
CATEGORIES:Live Music,Under the Canopy
ATTACH;FMTTYPE=image/jpeg:https://soundminnesota.com/wp-content/uploads/2026/04/2160x1080-8-krFkvi.jpg
END:VEVENT
BEGIN:VEVENT
DTSTART;TZID=America/Chicago:20260502T180000
DTEND;TZID=America/Chicago:20260502T220000
DTSTAMP:20260424T113959
CREATED:20260415T061625Z
LAST-MODIFIED:20260415T061625Z
UID:10042492-1777744800-1777759200@soundminnesota.com
SUMMARY:Runaway Ricochet
DESCRIPTION:EVENT DETAILS \n\n		rsvp on Facebook\n	 \n\n\n\n \nUnder The Canopyat The Hook and Ladder Theater“An Urban Outdoor Summer Concert Series” \nDoors 6:00pm :: Music 6:30pm :: 21+RAIN or SHIINE \nGA: $18 ADV (Box-Office) / $20 ADV (Online) / $25 DOOR————BOX-OFFICE Tickets Are Available in The Zen Arcade During Hours of Operation. NO REFUNDS———— \n  \n\nCabana & Table UpgradesWould you like to reserve a party cabana for eight or a table for four under an umbrella?—-Party Cabana (8 Person) – $110.00Front Porch Table (4 Person) – $55.00Only one person needs to purchase the Upgrade. (Does Not Include Admission) \n\n \n\n\n EVENT DESCRIPTION \n\n\n\n \nRunaway Ricochet EP Release\n‘Made Form Recycled Materials VOL II’ \nwith Space Monkey Mafia\, Malos Pasos\, Joker’s Republic (NJ)\, The Doomstompers (NY)\, Blue Driver—\n\nRunaway Ricochet celebrates the release of their new EP Made From Recycled Materials Vol. II with a stacked lineup of punk\, ska\, and high-energy rock at The Hook & Ladder Event Center. The night kicks off outdoors Under the Canopy with Runaway Ricochet\, Joker’s Republic (NJ)\, The Doomstompers (NY)\, and Blue Driver. Then the party moves indoors for a late-night set featuring Space Monkey Mafia and Malos Pasos.\n—\n6:00 DOORS6:30 – Blue Driver7:15 – Doomstompers (NY)8:10 – Joker’s Republic (NJ)9:05 – Runaway Ricochet 10:00 – Malos Pasos11:15 – Space Monkey Mafia \n\n\n\n \n \n\nThank you to our sponsors\, partners\, & neighbors: \nSummit Brewing • RKR Ganja Beverages • Nobool Presents • KFAI 90.3FM • Mpls.St.Paul Magazine • The Zen Arcade • Longfellow Rising • Firehouse Perfroming Arts Center • Lake Street Council • Moon Palace Books • Arbeiter Brewing\n\n \nThe Award-Winning* Under the Canopy series at The Hook & Ladder Theater returns with its uniquely seasonal urban footprint to the Longfellow neighborhood of South Minneapolis in 2025.\n \nThe Hook has committed to having a food truck Under the Canopy throughout the 2026 season for our guests. Come hungry and enjoy dinner with the show!
URL:https://soundminnesota.com/event/runaway-ricochet/
LOCATION:UNDER THE CANOPY STAGE
CATEGORIES:Hook & Ladder Theater,Live Music,Under the Canopy
ATTACH;FMTTYPE=image/jpeg:https://soundminnesota.com/wp-content/uploads/2026/04/260502-UTC-RunawayRicochet-2160x1080-Ticket-Web-TV-aJGcns.jpg
END:VEVENT
END:VCALENDAR