BEGIN:VCALENDAR
VERSION:2.0
PRODID:-//Minnesota based calendar of live music - ECPv6.15.20//NONSGML v1.0//EN
CALSCALE:GREGORIAN
METHOD:PUBLISH
X-WR-CALNAME:Minnesota based calendar of live music
X-ORIGINAL-URL:https://soundminnesota.com
X-WR-CALDESC:Events for Minnesota based calendar of live music
REFRESH-INTERVAL;VALUE=DURATION:PT1H
X-Robots-Tag:noindex
X-PUBLISHED-TTL:PT1H
BEGIN:VTIMEZONE
TZID:America/Chicago
BEGIN:DAYLIGHT
TZOFFSETFROM:-0600
TZOFFSETTO:-0500
TZNAME:CDT
DTSTART:20250309T080000
END:DAYLIGHT
BEGIN:STANDARD
TZOFFSETFROM:-0500
TZOFFSETTO:-0600
TZNAME:CST
DTSTART:20251102T070000
END:STANDARD
BEGIN:DAYLIGHT
TZOFFSETFROM:-0600
TZOFFSETTO:-0500
TZNAME:CDT
DTSTART:20260308T080000
END:DAYLIGHT
BEGIN:STANDARD
TZOFFSETFROM:-0500
TZOFFSETTO:-0600
TZNAME:CST
DTSTART:20261101T070000
END:STANDARD
BEGIN:DAYLIGHT
TZOFFSETFROM:-0600
TZOFFSETTO:-0500
TZNAME:CDT
DTSTART:20270314T080000
END:DAYLIGHT
BEGIN:STANDARD
TZOFFSETFROM:-0500
TZOFFSETTO:-0600
TZNAME:CST
DTSTART:20271107T070000
END:STANDARD
END:VTIMEZONE
BEGIN:VEVENT
DTSTART;TZID=America/Chicago:20260512T190000
DTEND;TZID=America/Chicago:20260512T220000
DTSTAMP:20260425T061429
CREATED:20240425T172010Z
LAST-MODIFIED:20240425T190652Z
UID:10013429-1778612400-1778623200@soundminnesota.com
SUMMARY:Sociable Cider Werks Artist Showcase
DESCRIPTION:Confirm with venue for all shows and artist lineup
URL:https://soundminnesota.com/event/sociable-cider-werks-artist-showcase/2026-05-12/
LOCATION:Sociable Cider Werks\, 1500 Fillmore St NE\, Minneapolis\, MN\, United States
END:VEVENT
BEGIN:VEVENT
DTSTART;TZID=America/Chicago:20260512T190000
DTEND;TZID=America/Chicago:20260512T230000
DTSTAMP:20260425T061429
CREATED:20250105T174748Z
LAST-MODIFIED:20250105T174909Z
UID:10023957-1778612400-1778626800@soundminnesota.com
SUMMARY:St Dominics Trio at Driftwood
DESCRIPTION:
URL:https://soundminnesota.com/event/st-dominics-trio-at-driftwood/2026-05-12/
LOCATION:Driftwood Char Bar\, 4415 NICOLLET AVENUE SOUTH\, Minneapolis\, 55419
END:VEVENT
BEGIN:VEVENT
DTSTART;TZID=America/Chicago:20260512T190000
DTEND;TZID=America/Chicago:20260512T230000
DTSTAMP:20260425T061429
CREATED:20250217T045103Z
LAST-MODIFIED:20251114T182636Z
UID:10025922-1778612400-1778626800@soundminnesota.com
SUMMARY:The "Greatest Jam on Earth" Blues Jam at Blues Saloon
DESCRIPTION:With large dance floor for all
URL:https://soundminnesota.com/event/the-greatest-jam-on-earth-blues-jam-at-blues-saloon/2026-05-12/
LOCATION:Blues Saloon Saint Paul\, 1638 Rice St\, Saint Paul\, MN\, 55117\, United States
END:VEVENT
BEGIN:VEVENT
DTSTART;TZID=America/Chicago:20260512T200000
DTEND;TZID=America/Chicago:20260513T000000
DTSTAMP:20260425T061429
CREATED:20231019T162619Z
LAST-MODIFIED:20231019T162623Z
UID:10007373-1778616000-1778630400@soundminnesota.com
SUMMARY:Open Mic at Chatterbox
DESCRIPTION:
URL:https://soundminnesota.com/event/open-mic-at-chatterbox/2026-05-12/
LOCATION:Chatterbox Pub\, 2229 East 35th Street\, Minneapolis\, MN\, 55407\, United States
END:VEVENT
BEGIN:VEVENT
DTSTART;TZID=America/Chicago:20260512T200000
DTEND;TZID=America/Chicago:20260513T000000
DTSTAMP:20260425T061429
CREATED:20260311T013446Z
LAST-MODIFIED:20260311T013501Z
UID:10041283-1778616000-1778630400@soundminnesota.com
SUMMARY:Tom Hunter at Nyes
DESCRIPTION:
URL:https://soundminnesota.com/event/tom-hunter-at-nyes/2026-05-12/
LOCATION:Nye’s Bar\, 112 E Hennepin Ave\, Minneapolis\, 55414
END:VEVENT
BEGIN:VEVENT
DTSTART;TZID=America/Chicago:20260512T213000
DTEND;TZID=America/Chicago:20260513T010000
DTSTAMP:20260425T061429
CREATED:20251116T235121Z
LAST-MODIFIED:20251116T235234Z
UID:10035175-1778621400-1778634000@soundminnesota.com
SUMMARY:International Reggae Allstars at Bunkers
DESCRIPTION:
URL:https://soundminnesota.com/event/international-reggae-allstars-at-bunkers/2026-05-12/
LOCATION:Bunker’s Music Bar & Grill MPLS -Since 1976\, 761 Washington Ave N\, Minneapolis\, MN\, 55401\, United States
END:VEVENT
BEGIN:VEVENT
DTSTART;TZID=America/Chicago:20260512T220000
DTEND;TZID=America/Chicago:20260513T010000
DTSTAMP:20260425T061429
CREATED:20251209T020821Z
LAST-MODIFIED:20251209T021118Z
UID:10037461-1778623200-1778634000@soundminnesota.com
SUMMARY:The Old Town Tuesday Night Jam at Whitey's
DESCRIPTION:
URL:https://soundminnesota.com/event/the-old-town-tuesday-night-jam-at-whiteys/2026-05-12/
LOCATION:Whitey’s Old Town Saloon\, 400 East Hennepin Avenue\, Minneapolis\, 55414
END:VEVENT
BEGIN:VEVENT
DTSTART;TZID=America/Chicago:20260513T190000
DTEND;TZID=America/Chicago:20260513T210000
DTSTAMP:20260425T061429
CREATED:20250507T055303Z
LAST-MODIFIED:20250507T055306Z
UID:10025115-1778698800-1778706000@soundminnesota.com
SUMMARY:Harold's House Party Residency at 331w/guest
DESCRIPTION:Weekly radio show on KFAI Radio 90.3 (4-6pm) \n\n\n\nThe party continues at 331Club
URL:https://soundminnesota.com/event/harolds-house-party-residency-at-331w-guest-9/2026-05-13/
LOCATION:331 Club\, 331 13th Ave NE\, Minneapolis\, MN\, 55413\, United States
ATTACH;FMTTYPE=image/jpeg:https://soundminnesota.com/wp-content/uploads/2025/01/1000008570-e1762268883784.jpg
GEO:45.0009;-93.263083
X-APPLE-STRUCTURED-LOCATION;VALUE=URI;X-ADDRESS=331 Club 331 13th Ave NE Minneapolis MN 55413 United States;X-APPLE-RADIUS=500;X-TITLE=331 13th Ave NE:geo:-93.263083,45.0009
END:VEVENT
BEGIN:VEVENT
DTSTART;TZID=America/Chicago:20260513T213000
DTEND;TZID=America/Chicago:20260514T010000
DTSTAMP:20260425T061429
CREATED:20251116T234811Z
LAST-MODIFIED:20251116T234828Z
UID:10034914-1778707800-1778720400@soundminnesota.com
SUMMARY:Twine at Bunkers
DESCRIPTION:
URL:https://soundminnesota.com/event/twine-at-bunkers/2026-05-13/
LOCATION:Bunker’s Music Bar & Grill MPLS -Since 1976\, 761 Washington Ave N\, Minneapolis\, MN\, 55401\, United States
END:VEVENT
BEGIN:VEVENT
DTSTART;TZID=America/Chicago:20260513T221500
DTEND;TZID=America/Chicago:20260514T000000
DTSTAMP:20260425T061429
CREATED:20260205T011430Z
LAST-MODIFIED:20260206T001550Z
UID:10039422-1778710500-1778716800@soundminnesota.com
SUMMARY:The Cherry Pit Open Jam at Berlin MPLS
DESCRIPTION:
URL:https://soundminnesota.com/event/the-cherry-pit-open-jam/2026-05-13/
LOCATION:Berlin Minneapolis\, 204 N 1st St\, Minneapolis\, 55401
END:VEVENT
BEGIN:VEVENT
DTSTART;TZID=America/Chicago:20260514T180000
DTEND;TZID=America/Chicago:20260514T180000
DTSTAMP:20260425T061429
CREATED:20251101T193916Z
LAST-MODIFIED:20251101T193925Z
UID:10033354-1778781600-1778781600@soundminnesota.com
SUMMARY:Acoustic Thursdays at Mainstreet
DESCRIPTION:
URL:https://soundminnesota.com/event/acoustic-thursdays-at-mainstreet/2026-05-14/
LOCATION:Mainstreet Bar Hopkins\, 814 Mainstreet\, Hopkins\, 55343
END:VEVENT
BEGIN:VEVENT
DTSTART;TZID=America/Chicago:20260514T190000
DTEND;TZID=America/Chicago:20260514T210000
DTSTAMP:20260425T061429
CREATED:20260418T221512Z
LAST-MODIFIED:20260418T221512Z
UID:10042562-1778785200-1778792400@soundminnesota.com
SUMMARY:Open Mic Night with Molly & Sonny Boy
DESCRIPTION:Musicians\, poets\, comedians and more: join emcees Molly & Sonny Boy for open Mic Night at The Grand Kabaret! All are welcome and a cash bar will be available. We will provide mics\, mic stands\, and sound equipment. Sign up for your spot upon arrival!
URL:https://soundminnesota.com/event/open-mic-night-with-molly-sonny-boy/
CATEGORIES:Events,Grand Kabaret,Live Music
ATTACH;FMTTYPE=image/jpeg:https://soundminnesota.com/wp-content/uploads/2026/04/Open-Mic-Night-Db2IWV.jpg
END:VEVENT
BEGIN:VEVENT
DTSTART;TZID=America/Chicago:20260514T193000
DTEND;TZID=America/Chicago:20260514T213000
DTSTAMP:20260425T061429
CREATED:20251119T230801Z
LAST-MODIFIED:20251119T232427Z
UID:10036075-1778787000-1778794200@soundminnesota.com
SUMMARY:Rockin Rolliewoods at Rollies
DESCRIPTION:
URL:https://soundminnesota.com/event/rockin-rolliewoods-at-rollies/2026-05-14/
LOCATION:Rollies Rednecks and Longnecks\, 940 35th Ave NE\, Sauk rapids\, 56379
END:VEVENT
BEGIN:VEVENT
DTSTART;TZID=America/Chicago:20260514T200000
DTEND;TZID=America/Chicago:20260514T230000
DTSTAMP:20260425T061429
CREATED:20260223T051249Z
LAST-MODIFIED:20260223T051416Z
UID:10040310-1778788800-1778799600@soundminnesota.com
SUMMARY:Snapped Live Band Open Mic at Green Room
DESCRIPTION:
URL:https://soundminnesota.com/event/snapped-live-band-open-mic-at-green-room/2026-05-14/
LOCATION:Green Room\, 2923 Girard Avenue South\, Minneapolis\, MN\, 55408\, United States
END:VEVENT
BEGIN:VEVENT
DTSTART;TZID=America/Chicago:20260514T213000
DTEND;TZID=America/Chicago:20260515T010000
DTSTAMP:20260425T061429
CREATED:20251117T235337Z
LAST-MODIFIED:20260219T052142Z
UID:10035751-1778794200-1778806800@soundminnesota.com
SUMMARY:Jay Bee and The Routine at Bunkers
DESCRIPTION:
URL:https://soundminnesota.com/event/jay-bee-and-the-routine-at-bunkers/2026-05-14/
LOCATION:Bunker’s Music Bar & Grill MPLS -Since 1976\, 761 Washington Ave N\, Minneapolis\, MN\, 55401\, United States
ATTACH;FMTTYPE=image/jpeg:https://soundminnesota.com/wp-content/uploads/2025/11/1000023556-rotated.jpg
END:VEVENT
BEGIN:VEVENT
DTSTART;TZID=America/Chicago:20260515T170000
DTEND;TZID=America/Chicago:20260515T200000
DTSTAMP:20260425T061429
CREATED:20260223T043101Z
LAST-MODIFIED:20260223T044243Z
UID:10040049-1778864400-1778875200@soundminnesota.com
SUMMARY:Misisipi Mike at Cedar Lounge -Superior
DESCRIPTION:
URL:https://soundminnesota.com/event/misisipi-mike-at-cedar-lounge-superior-2/2026-05-15/
LOCATION:Cedar Lounge Earth Rider Brewery taproom [MN Adjacent]\, 1715 North 3rd Street\, Superior\, WI\, 54880\, United States
END:VEVENT
BEGIN:VEVENT
DTSTART;TZID=America/Chicago:20260515T190000
DTEND;TZID=America/Chicago:20260515T213000
DTSTAMP:20260425T061429
CREATED:20260418T221515Z
LAST-MODIFIED:20260418T221515Z
UID:10042563-1778871600-1778880600@soundminnesota.com
SUMMARY:Charmin Michelle
DESCRIPTION:“Taste and understatement. Swing and savoir-faire. Grace and grooves. Intimacy and panache. Singer Charmin Michelle delivers all of the above and more. This is what the Minneapolis Star/Tribune had to say about this charismatic chanteuse whose conversational style recalls the late Billie Holiday and other legendary ladies of jazz. And\, yet\, her music is free of tiresome camp and easy nostalgia. She’s a savvy songstress and\, while putting her own imprint on a melody\, is always respectful of those who first inhabited it. Born in Birmingham\, Alabama\, Charmin moved to Minnesota while still a child and has called it home ever since. Though based in Minneapolis\, she is no stranger to life on the road and began touring internationally in 1986. \nCharmin will be playing with “The Jim McGuire Jazz Trio. Jim McGuire is a renowned Mankato-based guitarist and composer inducted into the Minnesota Music Hall of Fame in New Ulm in 2017. Known for his work in jazz and classical\, particularly on nylon-string guitar\, he has over 40 years of teaching experience at Minnesota colleges and frequently performed with the Jim McGuire Jazz Trio.”
URL:https://soundminnesota.com/event/charmin-michelle/
CATEGORIES:Events,Grand Kabaret,Live Music
ATTACH;FMTTYPE=image/png:https://soundminnesota.com/wp-content/uploads/2026/04/2026-Charmin-Michelle-scaled-r7lRja.png
END:VEVENT
BEGIN:VEVENT
DTSTART;TZID=America/Chicago:20260515T190000
DTEND;TZID=America/Chicago:20260515T220000
DTSTAMP:20260425T061429
CREATED:20260415T061712Z
LAST-MODIFIED:20260415T061712Z
UID:10042498-1778871600-1778882400@soundminnesota.com
SUMMARY:Fret Rattles Record Release – ‘Rock N’ Roll Circus’
DESCRIPTION:EVENT DETAILS \n\n		rsvp on Facebook\n	 \n\n\n\n \nUnder The Canopyat The Hook and Ladder Theater“An Urban Outdoor Summer Concert Series” \nDoors 6:00pm :: Music 7:00pm :: 21+RAIN or SHIINE \n\nGA: $22 ADV (Box-Office) / $25 ADV (Online) / $30 DOOR\n\n————BOX-OFFICE Tickets Are Available in The Zen Arcade During Hours of Operation. NO REFUNDS————\n\nCabana & Table UpgradesWould you like to reserve a party cabana for eight or a table for four under an umbrella?—-Party Cabana (8 Person) – $110.00Front Porch Table (4 Person) – $55.00Only one person needs to purchase the Upgrade. (Does Not Include Admission) \n\n \n\n\n EVENT DESCRIPTION \n\n\n\n \nFret Rattles Record Release\n‘Rock N’ Roll Circus’\nCome Experience The Extravaganza Under The Big TentThe Release of Fret Rattles New LP ‘As The World Falls Apart’—\n\nfeaturing The Dangerous Antics of FRET RATTLESFeats of Strength From THE MIGHTY MOFOSThe Wild Animals From Parts Unknown VIRGIN WHORESThe Spectacle Known As SUPERMODIFIEDMarvel Of The Turntables DJ LADY TRACYAfter Party with Jesters of Rock WHISKEY ROCK N ROLL CLUB\n\n\n \n\nThank you to our sponsors\, partners\, & neighbors: \n\n\nSummit Brewing • RKR Ganja Beverages  • Tito’s Handmade Vodka • Jameson Irish Whiskey  • High Noon • Lucky One Lemonade • Nobool Presents • The Zen Arcade  • Longfellow Rising • Lake Street Council • KFAI 90.3FM • Firehouse Perfroming Arts Center • Moon Palace Books • Arbeiter Brewing   \n\nThe Award-Winning* Under the Canopy series at The Hook & Ladder Theater returns with its uniquely seasonal urban footprint to the Longfellow neighborhood of South Minneapolis in 2025.\n \nThe Hook has committed to having a food truck Under the Canopy throughout the 2026 season for our guests. Come hungry and enjoy dinner with the show!
URL:https://soundminnesota.com/event/fret-rattles-record-release-rock-n-roll-circus/
LOCATION:UNDER THE CANOPY STAGE
CATEGORIES:Hook & Ladder Theater,Live Music,Under the Canopy
ATTACH;FMTTYPE=image/jpeg:https://soundminnesota.com/wp-content/uploads/2026/04/260515-UTC-FretRattles-2160x1080-Ticket-Web-TV-IZJSwV.jpg
END:VEVENT
BEGIN:VEVENT
DTSTART;TZID=America/Chicago:20260515T200000
DTEND;TZID=America/Chicago:20260515T233000
DTSTAMP:20260425T061429
CREATED:20260414T214915Z
LAST-MODIFIED:20260414T214915Z
UID:10042396-1778875200-1778887800@soundminnesota.com
SUMMARY:CARSIE BLANTON with Nathan Evans Fox
DESCRIPTION:Philadelphia pop-folk songwriter Carsie Blanton takes her cues from legends like Nina Simone\, Cleon Brown\, Joni Mitchell and John Prine.\n\n\nThe Cedar Presents \nCARSIE BLANTON with Nathan Evans Fox\nFriday\, May 15\, 2026 / Doors: 7:00 PM / Show: 8:00 PM \nAll Ages \nStanding \nThis show has two ticket options: VIP and General Admission\, which are priced differently. \nVIP includes: a ticket to the show and early entry (6:00pm) with a meet and greet. \nThis is a standing show with an open floor. To request seating or other access accommodations\, please go to our Access Page. \nFor Cedar presented shows\, online ticket sales typically end one hour before the door time\, and then\, based on availability\, tickets will be available at the door. Tickets purchased at the door will include a $1 Eventbrite fee. \n\n\nABOUT THIS SHOW\nPhiladelphia pop-folk songwriter Carsie Blanton takes her cues from legends like Nina Simone\, Cleo Brown\, Joni Mitchell and John Prine. She’s a ferocious wordsmith who pulls no punches on her 2024 full-length After the Revolution. This is Carsie’s second time performing at The Cedar\, and we welcome her back in time when her words are more poignant than ever. \n\n\n\nCARSIE BLANTON\nCarsie Blanton is a songwriter with hooks\, chutzpah\, and revolutionary optimism. At once a folksinger/activist in the tradition of Woody Guthrie\, a songwriter with a penchant for infectious melodies and lyrical wit\, and a performer with vaudeville flair and a punk rock spirit\, Blanton’s live show fills each audience with a sense of renewed hope and solidarity. \nWith her unique mix of humor\, craft\, and political critique\, Blanton has amassed a small menagerie of viral hits (Rich People\, Ugly Nasty Commie Bitch\, The Democrats) and a dedicated fan base. After fifteen years on the road with her band\, Blanton now regularly sells out shows across the U.S.\, Europe and Canada\, and in her free time volunteers as a political organizer with Artists Against Apartheid and the Party for Socialism and Liberation. She was recently published in The Nation.  \n“Beautiful\, militant anthems.” – Ken Tucker\, NPR’s Fresh Air  \n“Carsie Blanton is fighting fascism with big hooks and an even bigger heart.”  \nTo learn more about Carsie Blanton: \n\nVisit her website here\n\n\n\n\n Nathan Evans Fox\nBorn and raised in western North Carolina\, Nathan Evans Fox aspires to write songs that sound the way gas stations feel. When it comes to Nathan’s approach\, Americana Highways writes\, “It’s not cornpone\, it’s not alt-country\, country-western\, or pop-country. Fox has a solid hold on a serious genre of country seldom covered by many artists. It cuts through the commerciality of country music.” \nTo learn more about Nathan Evans Fox: \n\nVisit his website here
URL:https://soundminnesota.com/event/carsie-blanton-with-nathan-evans-fox/
LOCATION:The Cedar Cultural Center\, 416 Cedar Avenue South\, Minneapolis\, MN\, 55454\, United States
CATEGORIES:Live Music
ATTACH;FMTTYPE=image/jpeg:https://soundminnesota.com/wp-content/uploads/2026/04/d4e1fc585afea06b0882fc62518f7e1c.jpg
GEO:44.969633;-93.247313
X-APPLE-STRUCTURED-LOCATION;VALUE=URI;X-ADDRESS=The Cedar Cultural Center 416 Cedar Avenue South Minneapolis MN 55454 United States;X-APPLE-RADIUS=500;X-TITLE=416 Cedar Avenue South:geo:-93.247313,44.969633
END:VEVENT
BEGIN:VEVENT
DTSTART;TZID=America/Chicago:20260515T200000
DTEND;TZID=America/Chicago:20260516T000000
DTSTAMP:20260425T061429
CREATED:20260313T025630Z
LAST-MODIFIED:20260313T025639Z
UID:10041584-1778875200-1778889600@soundminnesota.com
SUMMARY:R&B XL at Camden Social
DESCRIPTION:
URL:https://soundminnesota.com/event/rb-xl-at-camden-social/2026-05-15/
LOCATION:The Camden Social\, 4601 N Lyndale Ave\, Minneapolis\, MN\, 55412\, United States
END:VEVENT
BEGIN:VEVENT
DTSTART;TZID=America/Chicago:20260517T150000
DTEND;TZID=America/Chicago:20260517T180000
DTSTAMP:20260425T061429
CREATED:20260131T203725Z
LAST-MODIFIED:20260131T204334Z
UID:10038825-1779030000-1779040800@soundminnesota.com
SUMMARY:Tim Sigler at Ziggys Stillwater
DESCRIPTION:
URL:https://soundminnesota.com/event/tim-sigler-at-ziggys-stillwater/2026-05-17/
LOCATION:Ziggy’s on Main\, 312 Main Street South\, Stillwater\, MN\, 55082\, United States
END:VEVENT
BEGIN:VEVENT
DTSTART;TZID=America/Chicago:20260517T170000
DTEND;TZID=America/Chicago:20260517T190000
DTSTAMP:20260425T061429
CREATED:20260201T163958Z
LAST-MODIFIED:20260201T164735Z
UID:10039125-1779037200-1779044400@soundminnesota.com
SUMMARY:Church of Cornbread at Schooner
DESCRIPTION:Featuring Cornbread Harris
URL:https://soundminnesota.com/event/church-of-cornbread-at-schooner-2/2026-05-17/
LOCATION:Schooner Tavern – Since 1932\, 2901 27th Ave S\, Minneapolis\, MN\, 55406\, United States
ATTACH;FMTTYPE=image/jpeg:https://soundminnesota.com/wp-content/uploads/2025/10/1000020262.jpg
GEO:44.950168;-93.233162
X-APPLE-STRUCTURED-LOCATION;VALUE=URI;X-ADDRESS=Schooner Tavern – Since 1932 2901 27th Ave S Minneapolis MN 55406 United States;X-APPLE-RADIUS=500;X-TITLE=2901 27th Ave S:geo:-93.233162,44.950168
END:VEVENT
BEGIN:VEVENT
DTSTART;TZID=America/Chicago:20260517T190000
DTEND;TZID=America/Chicago:20260517T223000
DTSTAMP:20260425T061429
CREATED:20251102T182317Z
LAST-MODIFIED:20251102T182446Z
UID:10033657-1779044400-1779057000@soundminnesota.com
SUMMARY:Music Jam at Schooner
DESCRIPTION:
URL:https://soundminnesota.com/event/music-jam-at-schooner/2026-05-17/
LOCATION:Schooner Tavern – Since 1932\, 2901 27th Ave S\, Minneapolis\, MN\, 55406\, United States
GEO:44.950168;-93.233162
X-APPLE-STRUCTURED-LOCATION;VALUE=URI;X-ADDRESS=Schooner Tavern – Since 1932 2901 27th Ave S Minneapolis MN 55406 United States;X-APPLE-RADIUS=500;X-TITLE=2901 27th Ave S:geo:-93.233162,44.950168
END:VEVENT
BEGIN:VEVENT
DTSTART;TZID=America/Chicago:20260517T213000
DTEND;TZID=America/Chicago:20260518T010000
DTSTAMP:20260425T061429
CREATED:20251208T044249Z
LAST-MODIFIED:20260222T201139Z
UID:10037051-1779053400-1779066000@soundminnesota.com
SUMMARY:Dr Mambos Combo at Bunkers
DESCRIPTION:
URL:https://soundminnesota.com/event/dr-mambos-combo-at-bunkers/2026-05-17/
LOCATION:Bunker’s Music Bar & Grill MPLS -Since 1976\, 761 Washington Ave N\, Minneapolis\, MN\, 55401\, United States
ATTACH;FMTTYPE=image/jpeg:https://soundminnesota.com/wp-content/uploads/2025/12/combo-2026.jpg
END:VEVENT
BEGIN:VEVENT
DTSTART;TZID=America/Chicago:20260518T180000
DTEND;TZID=America/Chicago:20260518T200000
DTSTAMP:20260425T061429
CREATED:20251117T184616Z
LAST-MODIFIED:20251117T184626Z
UID:10035475-1779127200-1779134400@soundminnesota.com
SUMMARY:Open Mic at The Hydeaway [Buhl]
DESCRIPTION:Hosted by Reggie Ducote
URL:https://soundminnesota.com/event/open-mic-at-the-hydeaway-buhl/2026-05-18/
LOCATION:The Hydeaway [Buhl MN]\, 205 State St\, Buhl\, MN\, 55713\, United States
END:VEVENT
BEGIN:VEVENT
DTSTART;TZID=America/Chicago:20260518T180000
DTEND;TZID=America/Chicago:20260518T210000
DTSTAMP:20260425T061429
CREATED:20251207T175535Z
LAST-MODIFIED:20251207T175614Z
UID:10036790-1779127200-1779138000@soundminnesota.com
SUMMARY:The Monday Night Hootenanny-S.S. Spotlight at Badger Hill
DESCRIPTION:Come in or sign up for the Monday Night Hootenanny featuring the many talented Singer / Songwriters that will join you for the show! \n\n\n\nThis event is Hosted by Tim from Gospel & Gravel and Janet Wirth EVERY Monday! \n\n\n\nEnjoy Live Music Performances from 6:00pm-9:00pm or come show off a talent all your own! \n\n\n\nAll music styles welcome so come on in! Sign up starts at 5:30pm!
URL:https://soundminnesota.com/event/the-monday-night-hootenanny-s-s-spotlight-at-badger-hill/2026-05-18/
LOCATION:Badger Hill Brewing\, 2805 Winners Cir Dr 55379\, Shakopee\, MN\, 55379\, United States
END:VEVENT
BEGIN:VEVENT
DTSTART;TZID=America/Chicago:20260518T190000
DTEND;TZID=America/Chicago:20260518T220000
DTSTAMP:20260425T061429
CREATED:20251102T204333Z
LAST-MODIFIED:20251103T001221Z
UID:10033922-1779130800-1779141600@soundminnesota.com
SUMMARY:Jam Society Presents - Open Jam at MN Music Cafe
DESCRIPTION:21+
URL:https://soundminnesota.com/event/jam-society-presents-open-jam-at-mn-music-cafe/2026-05-18/
LOCATION:Minnesota Music Cafe\, 449 Payne Ave\, Saint Paul\, MN\, United States
ATTACH;FMTTYPE=image/png:https://soundminnesota.com/wp-content/uploads/2025/11/1000021273-e1762872759102.png
GEO:44.956541;-93.078344
X-APPLE-STRUCTURED-LOCATION;VALUE=URI;X-ADDRESS=Minnesota Music Cafe 449 Payne Ave Saint Paul MN United States;X-APPLE-RADIUS=500;X-TITLE=449 Payne Ave:geo:-93.078344,44.956541
END:VEVENT
BEGIN:VEVENT
DTSTART;TZID=America/Chicago:20260518T190000
DTEND;TZID=America/Chicago:20260518T230000
DTSTAMP:20260425T061429
CREATED:20241111T024848Z
LAST-MODIFIED:20241111T025338Z
UID:10019483-1779130800-1779145200@soundminnesota.com
SUMMARY:Moses Oakland Blues Jam at Midway Saloon
DESCRIPTION:
URL:https://soundminnesota.com/event/moses-oakland-blues-jam-at-midway-saloon/2026-05-18/
LOCATION:Midway Saloon\, 1567 University Ave\, Saint Paul\, MN\, United States
ATTACH;FMTTYPE=image/jpeg:https://soundminnesota.com/wp-content/uploads/2023/06/20231218232943_IMG_91872-014-012-e1703151401245.jpeg
GEO:44.955753;-93.166132
X-APPLE-STRUCTURED-LOCATION;VALUE=URI;X-ADDRESS=Midway Saloon 1567 University Ave Saint Paul MN United States;X-APPLE-RADIUS=500;X-TITLE=1567 University Ave:geo:-93.166132,44.955753
END:VEVENT
BEGIN:VEVENT
DTSTART;TZID=America/Chicago:20260518T200000
DTEND;TZID=America/Chicago:20260518T220000
DTSTAMP:20260425T061429
CREATED:20251107T172919Z
LAST-MODIFIED:20260223T155347Z
UID:10040847-1779134400-1779141600@soundminnesota.com
SUMMARY:Massive Mondays Reggae at Cabooze
DESCRIPTION:
URL:https://soundminnesota.com/event/only-every-monday-at-cabooze/2026-05-18/
LOCATION:The Cabooze\, 913 Cedar Avenue\, Minneapolis\, MN\, 55404\, United States
END:VEVENT
BEGIN:VEVENT
DTSTART;TZID=America/Chicago:20260519T190000
DTEND;TZID=America/Chicago:20260519T220000
DTSTAMP:20260425T061429
CREATED:20240425T172010Z
LAST-MODIFIED:20240425T190652Z
UID:10013430-1779217200-1779228000@soundminnesota.com
SUMMARY:Sociable Cider Werks Artist Showcase
DESCRIPTION:Confirm with venue for all shows and artist lineup
URL:https://soundminnesota.com/event/sociable-cider-werks-artist-showcase/2026-05-19/
LOCATION:Sociable Cider Werks\, 1500 Fillmore St NE\, Minneapolis\, MN\, United States
END:VEVENT
END:VCALENDAR