BEGIN:VCALENDAR
VERSION:2.0
PRODID:-//Minnesota based calendar of live music - ECPv6.15.20//NONSGML v1.0//EN
CALSCALE:GREGORIAN
METHOD:PUBLISH
X-ORIGINAL-URL:https://soundminnesota.com
X-WR-CALDESC:Events for Minnesota based calendar of live music
REFRESH-INTERVAL;VALUE=DURATION:PT1H
X-Robots-Tag:noindex
X-PUBLISHED-TTL:PT1H
BEGIN:VTIMEZONE
TZID:America/Chicago
BEGIN:DAYLIGHT
TZOFFSETFROM:-0600
TZOFFSETTO:-0500
TZNAME:CDT
DTSTART:20250309T080000
END:DAYLIGHT
BEGIN:STANDARD
TZOFFSETFROM:-0500
TZOFFSETTO:-0600
TZNAME:CST
DTSTART:20251102T070000
END:STANDARD
BEGIN:DAYLIGHT
TZOFFSETFROM:-0600
TZOFFSETTO:-0500
TZNAME:CDT
DTSTART:20260308T080000
END:DAYLIGHT
BEGIN:STANDARD
TZOFFSETFROM:-0500
TZOFFSETTO:-0600
TZNAME:CST
DTSTART:20261101T070000
END:STANDARD
BEGIN:DAYLIGHT
TZOFFSETFROM:-0600
TZOFFSETTO:-0500
TZNAME:CDT
DTSTART:20270314T080000
END:DAYLIGHT
BEGIN:STANDARD
TZOFFSETFROM:-0500
TZOFFSETTO:-0600
TZNAME:CST
DTSTART:20271107T070000
END:STANDARD
END:VTIMEZONE
BEGIN:VEVENT
DTSTART;TZID=America/Chicago:20260423T213000
DTEND;TZID=America/Chicago:20260423T233000
DTSTAMP:20260424T134538
CREATED:20260423T235406Z
LAST-MODIFIED:20260423T235420Z
UID:10042620-1776979800-1776987000@soundminnesota.com
SUMMARY:Debbie Briggs Vintage Jazz at 331
DESCRIPTION:
URL:https://soundminnesota.com/event/debbie-briggs-vintage-jazz-at-331/
LOCATION:331 Club\, 331 13th Ave NE\, Minneapolis\, MN\, 55413\, United States
ORGANIZER;CN="Debbie Briggs":MAILTO:debbiebriggsmusic@gmail.com
GEO:45.0009;-93.263083
X-APPLE-STRUCTURED-LOCATION;VALUE=URI;X-ADDRESS=331 Club 331 13th Ave NE Minneapolis MN 55413 United States;X-APPLE-RADIUS=500;X-TITLE=331 13th Ave NE:geo:-93.263083,45.0009
END:VEVENT
BEGIN:VEVENT
DTSTART;TZID=America/Chicago:20260422T190000
DTEND;TZID=America/Chicago:20260422T210000
DTSTAMP:20260424T134538
CREATED:20260420T230023Z
LAST-MODIFIED:20260420T230037Z
UID:10025112-1776884400-1776891600@soundminnesota.com
SUMMARY:Harold's House Party Residency at 331w/guest Uncle Kenny
DESCRIPTION:Weekly radio show on KFAI Radio 90.3 (4-6pm) \n\n\n\nThe party continues at 331Club
URL:https://soundminnesota.com/event/harolds-house-party-residency-at-331w-guest-8/
LOCATION:331 Club\, 331 13th Ave NE\, Minneapolis\, MN\, 55413\, United States
ATTACH;FMTTYPE=image/jpeg:https://soundminnesota.com/wp-content/uploads/2025/01/1000008570-e1762268883784.jpg
GEO:45.0009;-93.263083
X-APPLE-STRUCTURED-LOCATION;VALUE=URI;X-ADDRESS=331 Club 331 13th Ave NE Minneapolis MN 55413 United States;X-APPLE-RADIUS=500;X-TITLE=331 13th Ave NE:geo:-93.263083,45.0009
END:VEVENT
BEGIN:VEVENT
DTSTART;TZID=America/Chicago:20260421T180000
DTEND;TZID=America/Chicago:20260421T200000
DTSTAMP:20260424T134538
CREATED:20260420T230152Z
LAST-MODIFIED:20260420T230200Z
UID:10042599-1776794400-1776801600@soundminnesota.com
SUMMARY:Adam Kiesling at 331
DESCRIPTION:
URL:https://soundminnesota.com/event/adam-kiesling-at-331/
LOCATION:331 Club\, 331 13th Ave NE\, Minneapolis\, MN\, 55413\, United States
GEO:45.0009;-93.263083
X-APPLE-STRUCTURED-LOCATION;VALUE=URI;X-ADDRESS=331 Club 331 13th Ave NE Minneapolis MN 55413 United States;X-APPLE-RADIUS=500;X-TITLE=331 13th Ave NE:geo:-93.263083,45.0009
END:VEVENT
BEGIN:VEVENT
DTSTART;TZID=America/Chicago:20260420T200000
DTEND;TZID=America/Chicago:20260420T230000
DTSTAMP:20260424T134538
CREATED:20260420T225833Z
LAST-MODIFIED:20260420T225846Z
UID:10042598-1776715200-1776726000@soundminnesota.com
SUMMARY:Roe Family Singers at 331
DESCRIPTION:
URL:https://soundminnesota.com/event/roe-family-singers-at-331-3/
LOCATION:331 Club\, 331 13th Ave NE\, Minneapolis\, MN\, 55413\, United States
GEO:45.0009;-93.263083
X-APPLE-STRUCTURED-LOCATION;VALUE=URI;X-ADDRESS=331 Club 331 13th Ave NE Minneapolis MN 55413 United States;X-APPLE-RADIUS=500;X-TITLE=331 13th Ave NE:geo:-93.263083,45.0009
END:VEVENT
BEGIN:VEVENT
DTSTART;TZID=America/Chicago:20260420T180000
DTEND;TZID=America/Chicago:20260420T200000
DTSTAMP:20260424T134538
CREATED:20260420T225712Z
LAST-MODIFIED:20260420T225722Z
UID:10042597-1776708000-1776715200@soundminnesota.com
SUMMARY:Nikki Lemire at 331
DESCRIPTION:
URL:https://soundminnesota.com/event/nikki-lemire-at-331/
LOCATION:331 Club\, 331 13th Ave NE\, Minneapolis\, MN\, 55413\, United States
GEO:45.0009;-93.263083
X-APPLE-STRUCTURED-LOCATION;VALUE=URI;X-ADDRESS=331 Club 331 13th Ave NE Minneapolis MN 55413 United States;X-APPLE-RADIUS=500;X-TITLE=331 13th Ave NE:geo:-93.263083,45.0009
END:VEVENT
BEGIN:VEVENT
DTSTART;TZID=America/Chicago:20260418T140000
DTEND;TZID=America/Chicago:20260418T160000
DTSTAMP:20260424T134538
CREATED:20260418T190826Z
LAST-MODIFIED:20260418T190835Z
UID:10042555-1776520800-1776528000@soundminnesota.com
SUMMARY:Robert Wilkinson at 331
DESCRIPTION:
URL:https://soundminnesota.com/event/robert-wilkinson-at-331/
LOCATION:331 Club\, 331 13th Ave NE\, Minneapolis\, MN\, 55413\, United States
ATTACH;FMTTYPE=image/jpeg:https://soundminnesota.com/wp-content/uploads/2026/04/Robert-Wilkenson.jpg
GEO:45.0009;-93.263083
X-APPLE-STRUCTURED-LOCATION;VALUE=URI;X-ADDRESS=331 Club 331 13th Ave NE Minneapolis MN 55413 United States;X-APPLE-RADIUS=500;X-TITLE=331 13th Ave NE:geo:-93.263083,45.0009
END:VEVENT
BEGIN:VEVENT
DTSTART;TZID=America/Chicago:20260417T220000
DTEND;TZID=America/Chicago:20260418T010000
DTSTAMP:20260424T134538
CREATED:20260418T043458Z
LAST-MODIFIED:20260418T043512Z
UID:10042546-1776463200-1776474000@soundminnesota.com
SUMMARY:Grand Lilac\, Harlow\,Cowboy Thoughs at 331
DESCRIPTION: 
URL:https://soundminnesota.com/event/grand-lilac-harlowcowboy-thoughs-at-331/
LOCATION:331 Club\, 331 13th Ave NE\, Minneapolis\, MN\, 55413\, United States
GEO:45.0009;-93.263083
X-APPLE-STRUCTURED-LOCATION;VALUE=URI;X-ADDRESS=331 Club 331 13th Ave NE Minneapolis MN 55413 United States;X-APPLE-RADIUS=500;X-TITLE=331 13th Ave NE:geo:-93.263083,45.0009
END:VEVENT
BEGIN:VEVENT
DTSTART;TZID=America/Chicago:20260416T213000
DTEND;TZID=America/Chicago:20260416T233000
DTSTAMP:20260424T134538
CREATED:20260414T221820Z
LAST-MODIFIED:20260414T221912Z
UID:10042402-1776375000-1776382200@soundminnesota.com
SUMMARY:Cross Pollination: Knife Emoji\, Gasconader at 331
DESCRIPTION:
URL:https://soundminnesota.com/event/cross-pollination-knife-emoji-gasconader-at-331/
LOCATION:331 Club\, 331 13th Ave NE\, Minneapolis\, MN\, 55413\, United States
GEO:45.0009;-93.263083
X-APPLE-STRUCTURED-LOCATION;VALUE=URI;X-ADDRESS=331 Club 331 13th Ave NE Minneapolis MN 55413 United States;X-APPLE-RADIUS=500;X-TITLE=331 13th Ave NE:geo:-93.263083,45.0009
END:VEVENT
BEGIN:VEVENT
DTSTART;TZID=America/Chicago:20260415T213000
DTEND;TZID=America/Chicago:20260415T233000
DTSTAMP:20260424T134538
CREATED:20260414T220056Z
LAST-MODIFIED:20260414T220106Z
UID:10042400-1776288600-1776295800@soundminnesota.com
SUMMARY:Uncle Kenny  at 331
DESCRIPTION:
URL:https://soundminnesota.com/event/uncle-kenny-at-331/
LOCATION:331 Club\, 331 13th Ave NE\, Minneapolis\, MN\, 55413\, United States
GEO:45.0009;-93.263083
X-APPLE-STRUCTURED-LOCATION;VALUE=URI;X-ADDRESS=331 Club 331 13th Ave NE Minneapolis MN 55413 United States;X-APPLE-RADIUS=500;X-TITLE=331 13th Ave NE:geo:-93.263083,45.0009
END:VEVENT
BEGIN:VEVENT
DTSTART;TZID=America/Chicago:20260415T190000
DTEND;TZID=America/Chicago:20260415T210000
DTSTAMP:20260424T134538
CREATED:20260414T220158Z
LAST-MODIFIED:20260414T220227Z
UID:10025111-1776279600-1776286800@soundminnesota.com
SUMMARY:Harold's House Party Residency at 331w/guest Gregg ” Cheech” Hall
DESCRIPTION:Weekly radio show on KFAI Radio 90.3 (4-6pm) \n\n\n\nThe party continues at 331Club
URL:https://soundminnesota.com/event/harolds-house-party-residency-at-331w-guest-5/
LOCATION:331 Club\, 331 13th Ave NE\, Minneapolis\, MN\, 55413\, United States
ATTACH;FMTTYPE=image/jpeg:https://soundminnesota.com/wp-content/uploads/2025/01/1000008570-e1762268883784.jpg
GEO:45.0009;-93.263083
X-APPLE-STRUCTURED-LOCATION;VALUE=URI;X-ADDRESS=331 Club 331 13th Ave NE Minneapolis MN 55413 United States;X-APPLE-RADIUS=500;X-TITLE=331 13th Ave NE:geo:-93.263083,45.0009
END:VEVENT
BEGIN:VEVENT
DTSTART;TZID=America/Chicago:20260414T213000
DTEND;TZID=America/Chicago:20260414T233000
DTSTAMP:20260424T134538
CREATED:20260414T215827Z
LAST-MODIFIED:20260414T224604Z
UID:10042398-1776202200-1776209400@soundminnesota.com
SUMMARY:The Infernos\, The Hip Shakers\, Alexander Craig at 331
DESCRIPTION:
URL:https://soundminnesota.com/event/the-infernos-the-hip-shakers-alexander-craig-at-331/
LOCATION:331 Club\, 331 13th Ave NE\, Minneapolis\, MN\, 55413\, United States
ATTACH;FMTTYPE=image/jpeg:https://soundminnesota.com/wp-content/uploads/2024/08/1000003414-scaled.jpg
GEO:45.0009;-93.263083
X-APPLE-STRUCTURED-LOCATION;VALUE=URI;X-ADDRESS=331 Club 331 13th Ave NE Minneapolis MN 55413 United States;X-APPLE-RADIUS=500;X-TITLE=331 13th Ave NE:geo:-93.263083,45.0009
END:VEVENT
BEGIN:VEVENT
DTSTART;TZID=America/Chicago:20260414T180000
DTEND;TZID=America/Chicago:20260414T200000
DTSTAMP:20260424T134538
CREATED:20260414T215417Z
LAST-MODIFIED:20260414T215425Z
UID:10042397-1776189600-1776196800@soundminnesota.com
SUMMARY:Becky Kapell at 331
DESCRIPTION:
URL:https://soundminnesota.com/event/becky-kapell-at-331/
LOCATION:331 Club\, 331 13th Ave NE\, Minneapolis\, MN\, 55413\, United States
GEO:45.0009;-93.263083
X-APPLE-STRUCTURED-LOCATION;VALUE=URI;X-ADDRESS=331 Club 331 13th Ave NE Minneapolis MN 55413 United States;X-APPLE-RADIUS=500;X-TITLE=331 13th Ave NE:geo:-93.263083,45.0009
END:VEVENT
BEGIN:VEVENT
DTSTART;TZID=America/Chicago:20260411T220000
DTEND;TZID=America/Chicago:20260411T235900
DTSTAMP:20260424T134538
CREATED:20260409T233255Z
LAST-MODIFIED:20260409T233304Z
UID:10042367-1775944800-1775951940@soundminnesota.com
SUMMARY:Battery Eyes\, Busey\, Selfish Teammate at 331
DESCRIPTION:
URL:https://soundminnesota.com/event/battery-eyes-busey-selfish-teammate-at-331/
LOCATION:331 Club\, 331 13th Ave NE\, Minneapolis\, MN\, 55413\, United States
GEO:45.0009;-93.263083
X-APPLE-STRUCTURED-LOCATION;VALUE=URI;X-ADDRESS=331 Club 331 13th Ave NE Minneapolis MN 55413 United States;X-APPLE-RADIUS=500;X-TITLE=331 13th Ave NE:geo:-93.263083,45.0009
END:VEVENT
BEGIN:VEVENT
DTSTART;TZID=America/Chicago:20260410T220000
DTEND;TZID=America/Chicago:20260410T235900
DTSTAMP:20260424T134538
CREATED:20260409T232206Z
LAST-MODIFIED:20260409T232212Z
UID:10042366-1775858400-1775865540@soundminnesota.com
SUMMARY:OVRFWRD\, Tre Spiritus at 331
DESCRIPTION:
URL:https://soundminnesota.com/event/ovrfwrd-tre-spiritus-at-331/
LOCATION:331 Club\, 331 13th Ave NE\, Minneapolis\, MN\, 55413\, United States
GEO:45.0009;-93.263083
X-APPLE-STRUCTURED-LOCATION;VALUE=URI;X-ADDRESS=331 Club 331 13th Ave NE Minneapolis MN 55413 United States;X-APPLE-RADIUS=500;X-TITLE=331 13th Ave NE:geo:-93.263083,45.0009
END:VEVENT
BEGIN:VEVENT
DTSTART;TZID=America/Chicago:20260408T213000
DTEND;TZID=America/Chicago:20260408T230000
DTSTAMP:20260424T134538
CREATED:20260408T002027Z
LAST-MODIFIED:20260408T002033Z
UID:10042294-1775683800-1775689200@soundminnesota.com
SUMMARY:Mary Cutrufello at 331
DESCRIPTION:
URL:https://soundminnesota.com/event/mary-cutrufello-at-331/
LOCATION:331 Club\, 331 13th Ave NE\, Minneapolis\, MN\, 55413\, United States
GEO:45.0009;-93.263083
X-APPLE-STRUCTURED-LOCATION;VALUE=URI;X-ADDRESS=331 Club 331 13th Ave NE Minneapolis MN 55413 United States;X-APPLE-RADIUS=500;X-TITLE=331 13th Ave NE:geo:-93.263083,45.0009
END:VEVENT
BEGIN:VEVENT
DTSTART;TZID=America/Chicago:20260408T190000
DTEND;TZID=America/Chicago:20260408T210000
DTSTAMP:20260424T134538
CREATED:20260408T002134Z
LAST-MODIFIED:20260408T002144Z
UID:10025110-1775674800-1775682000@soundminnesota.com
SUMMARY:Harold's House Party Residency at 331w/guest Sarah Morris band
DESCRIPTION:Weekly radio show on KFAI Radio 90.3 (4-6pm) \n\n\n\nThe party continues at 331Club
URL:https://soundminnesota.com/event/harolds-house-party-residency-at-331w-guest-7/
LOCATION:331 Club\, 331 13th Ave NE\, Minneapolis\, MN\, 55413\, United States
ATTACH;FMTTYPE=image/jpeg:https://soundminnesota.com/wp-content/uploads/2025/01/1000008570-e1762268883784.jpg
GEO:45.0009;-93.263083
X-APPLE-STRUCTURED-LOCATION;VALUE=URI;X-ADDRESS=331 Club 331 13th Ave NE Minneapolis MN 55413 United States;X-APPLE-RADIUS=500;X-TITLE=331 13th Ave NE:geo:-93.263083,45.0009
END:VEVENT
BEGIN:VEVENT
DTSTART;TZID=America/Chicago:20260407T213000
DTEND;TZID=America/Chicago:20260407T230000
DTSTAMP:20260424T134538
CREATED:20260408T001827Z
LAST-MODIFIED:20260408T001832Z
UID:10042293-1775597400-1775602800@soundminnesota.com
SUMMARY:The Infernos\, J-Mo & The J-Lighters at 331
DESCRIPTION:
URL:https://soundminnesota.com/event/the-infernos-j-mo-the-j-lighters-at-331/
LOCATION:331 Club\, 331 13th Ave NE\, Minneapolis\, MN\, 55413\, United States
GEO:45.0009;-93.263083
X-APPLE-STRUCTURED-LOCATION;VALUE=URI;X-ADDRESS=331 Club 331 13th Ave NE Minneapolis MN 55413 United States;X-APPLE-RADIUS=500;X-TITLE=331 13th Ave NE:geo:-93.263083,45.0009
END:VEVENT
BEGIN:VEVENT
DTSTART;TZID=America/Chicago:20260407T180000
DTEND;TZID=America/Chicago:20260407T200000
DTSTAMP:20260424T134538
CREATED:20260408T001620Z
LAST-MODIFIED:20260408T001628Z
UID:10042292-1775584800-1775592000@soundminnesota.com
SUMMARY:Craig Paquette at 331
DESCRIPTION:
URL:https://soundminnesota.com/event/craig-paquette-at-331/
LOCATION:331 Club\, 331 13th Ave NE\, Minneapolis\, MN\, 55413\, United States
GEO:45.0009;-93.263083
X-APPLE-STRUCTURED-LOCATION;VALUE=URI;X-ADDRESS=331 Club 331 13th Ave NE Minneapolis MN 55413 United States;X-APPLE-RADIUS=500;X-TITLE=331 13th Ave NE:geo:-93.263083,45.0009
END:VEVENT
BEGIN:VEVENT
DTSTART;TZID=America/Chicago:20260406T200000
DTEND;TZID=America/Chicago:20260406T230000
DTSTAMP:20260424T134538
CREATED:20260330T031246Z
LAST-MODIFIED:20260330T031251Z
UID:10042210-1775505600-1775516400@soundminnesota.com
SUMMARY:Roe Family Singers at 331
DESCRIPTION:
URL:https://soundminnesota.com/event/roe-family-singers-at-331-2/
LOCATION:331 Club\, 331 13th Ave NE\, Minneapolis\, MN\, 55413\, United States
GEO:45.0009;-93.263083
X-APPLE-STRUCTURED-LOCATION;VALUE=URI;X-ADDRESS=331 Club 331 13th Ave NE Minneapolis MN 55413 United States;X-APPLE-RADIUS=500;X-TITLE=331 13th Ave NE:geo:-93.263083,45.0009
END:VEVENT
BEGIN:VEVENT
DTSTART;TZID=America/Chicago:20260406T180000
DTEND;TZID=America/Chicago:20260406T200000
DTSTAMP:20260424T134538
CREATED:20260330T031553Z
LAST-MODIFIED:20260330T031559Z
UID:10042211-1775498400-1775505600@soundminnesota.com
SUMMARY:Soul Trouvère at 331
DESCRIPTION:
URL:https://soundminnesota.com/event/soul-trouvere-at-331/
LOCATION:331 Club\, 331 13th Ave NE\, Minneapolis\, MN\, 55413\, United States
GEO:45.0009;-93.263083
X-APPLE-STRUCTURED-LOCATION;VALUE=URI;X-ADDRESS=331 Club 331 13th Ave NE Minneapolis MN 55413 United States;X-APPLE-RADIUS=500;X-TITLE=331 13th Ave NE:geo:-93.263083,45.0009
END:VEVENT
BEGIN:VEVENT
DTSTART;TZID=America/Chicago:20260405T190000
DTEND;TZID=America/Chicago:20260405T210000
DTSTAMP:20260424T134538
CREATED:20260330T005400Z
LAST-MODIFIED:20260330T005655Z
UID:10042198-1775415600-1775422800@soundminnesota.com
SUMMARY:Brass Messengers at 331
DESCRIPTION:
URL:https://soundminnesota.com/event/brass-messengers-at-331/
LOCATION:331 Club\, 331 13th Ave NE\, Minneapolis\, MN\, 55413\, United States
GEO:45.0009;-93.263083
X-APPLE-STRUCTURED-LOCATION;VALUE=URI;X-ADDRESS=331 Club 331 13th Ave NE Minneapolis MN 55413 United States;X-APPLE-RADIUS=500;X-TITLE=331 13th Ave NE:geo:-93.263083,45.0009
END:VEVENT
BEGIN:VEVENT
DTSTART;TZID=America/Chicago:20260405T150000
DTEND;TZID=America/Chicago:20260405T170000
DTSTAMP:20260424T134538
CREATED:20260330T020655Z
LAST-MODIFIED:20260330T020705Z
UID:10042203-1775401200-1775408400@soundminnesota.com
SUMMARY:Corpse Reviver at 331
DESCRIPTION:
URL:https://soundminnesota.com/event/corpse-reviver-at-331/
LOCATION:331 Club\, 331 13th Ave NE\, Minneapolis\, MN\, 55413\, United States
GEO:45.0009;-93.263083
X-APPLE-STRUCTURED-LOCATION;VALUE=URI;X-ADDRESS=331 Club 331 13th Ave NE Minneapolis MN 55413 United States;X-APPLE-RADIUS=500;X-TITLE=331 13th Ave NE:geo:-93.263083,45.0009
END:VEVENT
BEGIN:VEVENT
DTSTART;TZID=America/Chicago:20260404T220000
DTEND;TZID=America/Chicago:20260404T220000
DTSTAMP:20260424T134538
CREATED:20260329T222032Z
LAST-MODIFIED:20260329T222719Z
UID:10042189-1775340000-1775340000@soundminnesota.com
SUMMARY:Cole Diamond at 331
DESCRIPTION:
URL:https://soundminnesota.com/event/cole-diamond-at-331/
LOCATION:331 Club\, 331 13th Ave NE\, Minneapolis\, MN\, 55413\, United States
ATTACH;FMTTYPE=image/jpeg:https://soundminnesota.com/wp-content/uploads/2025/10/cole-diamond.jpg
GEO:45.0009;-93.263083
X-APPLE-STRUCTURED-LOCATION;VALUE=URI;X-ADDRESS=331 Club 331 13th Ave NE Minneapolis MN 55413 United States;X-APPLE-RADIUS=500;X-TITLE=331 13th Ave NE:geo:-93.263083,45.0009
END:VEVENT
BEGIN:VEVENT
DTSTART;TZID=America/Chicago:20260403T220000
DTEND;TZID=America/Chicago:20260403T220000
DTSTAMP:20260424T134538
CREATED:20260329T214226Z
LAST-MODIFIED:20260329T214235Z
UID:10042188-1775253600-1775253600@soundminnesota.com
SUMMARY:League Two\, Greentop\, Fend at 331
DESCRIPTION:
URL:https://soundminnesota.com/event/league-two-greentop-fend-at-331/
LOCATION:331 Club\, 331 13th Ave NE\, Minneapolis\, MN\, 55413\, United States
GEO:45.0009;-93.263083
X-APPLE-STRUCTURED-LOCATION;VALUE=URI;X-ADDRESS=331 Club 331 13th Ave NE Minneapolis MN 55413 United States;X-APPLE-RADIUS=500;X-TITLE=331 13th Ave NE:geo:-93.263083,45.0009
END:VEVENT
BEGIN:VEVENT
DTSTART;TZID=America/Chicago:20260401T190000
DTEND;TZID=America/Chicago:20260401T210000
DTSTAMP:20260424T134538
CREATED:20260329T214017Z
LAST-MODIFIED:20260329T214030Z
UID:10025109-1775070000-1775077200@soundminnesota.com
SUMMARY:Harold's House Party Residency at 331w/Lisa Wenger and Jeremy Johnson
DESCRIPTION:Weekly radio show on KFAI Radio 90.3 (4-6pm) \n\n\n\nThe party continues at 331Club
URL:https://soundminnesota.com/event/harolds-house-party-residency-at-331w-guest-4/
LOCATION:331 Club\, 331 13th Ave NE\, Minneapolis\, MN\, 55413\, United States
ATTACH;FMTTYPE=image/jpeg:https://soundminnesota.com/wp-content/uploads/2025/01/1000008570-e1762268883784.jpg
GEO:45.0009;-93.263083
X-APPLE-STRUCTURED-LOCATION;VALUE=URI;X-ADDRESS=331 Club 331 13th Ave NE Minneapolis MN 55413 United States;X-APPLE-RADIUS=500;X-TITLE=331 13th Ave NE:geo:-93.263083,45.0009
END:VEVENT
BEGIN:VEVENT
DTSTART;TZID=America/Chicago:20260331T213000
DTEND;TZID=America/Chicago:20260331T213000
DTSTAMP:20260424T134538
CREATED:20260329T184040Z
LAST-MODIFIED:20260329T184047Z
UID:10042175-1774992600-1774992600@soundminnesota.com
SUMMARY:The Daily Norm\, Squinny\, Red Lovely at 331
DESCRIPTION:
URL:https://soundminnesota.com/event/the-daily-norm-squinny-red-lovely-at-331/
LOCATION:331 Club\, 331 13th Ave NE\, Minneapolis\, MN\, 55413\, United States
GEO:45.0009;-93.263083
X-APPLE-STRUCTURED-LOCATION;VALUE=URI;X-ADDRESS=331 Club 331 13th Ave NE Minneapolis MN 55413 United States;X-APPLE-RADIUS=500;X-TITLE=331 13th Ave NE:geo:-93.263083,45.0009
END:VEVENT
BEGIN:VEVENT
DTSTART;TZID=America/Chicago:20260331T180000
DTEND;TZID=America/Chicago:20260331T200000
DTSTAMP:20260424T134538
CREATED:20260329T184219Z
LAST-MODIFIED:20260329T223431Z
UID:10042176-1774980000-1774987200@soundminnesota.com
SUMMARY:Jeff Ray at 331
DESCRIPTION:
URL:https://soundminnesota.com/event/jeff-ray-at-331/
LOCATION:331 Club\, 331 13th Ave NE\, Minneapolis\, MN\, 55413\, United States
ATTACH;FMTTYPE=image/jpeg:https://soundminnesota.com/wp-content/uploads/2024/08/IMG_1938-edit-jeff-ray-smile-tw-sm-e1759781623249.jpg
GEO:45.0009;-93.263083
X-APPLE-STRUCTURED-LOCATION;VALUE=URI;X-ADDRESS=331 Club 331 13th Ave NE Minneapolis MN 55413 United States;X-APPLE-RADIUS=500;X-TITLE=331 13th Ave NE:geo:-93.263083,45.0009
END:VEVENT
BEGIN:VEVENT
DTSTART;TZID=America/Chicago:20260330T200000
DTEND;TZID=America/Chicago:20260330T230000
DTSTAMP:20260424T134538
CREATED:20260329T183749Z
LAST-MODIFIED:20260329T183802Z
UID:10042174-1774900800-1774911600@soundminnesota.com
SUMMARY:Roe Family Singers at 331
DESCRIPTION:
URL:https://soundminnesota.com/event/roe-family-singers-at-331/
LOCATION:331 Club\, 331 13th Ave NE\, Minneapolis\, MN\, 55413\, United States
GEO:45.0009;-93.263083
X-APPLE-STRUCTURED-LOCATION;VALUE=URI;X-ADDRESS=331 Club 331 13th Ave NE Minneapolis MN 55413 United States;X-APPLE-RADIUS=500;X-TITLE=331 13th Ave NE:geo:-93.263083,45.0009
END:VEVENT
BEGIN:VEVENT
DTSTART;TZID=America/Chicago:20260329T190000
DTEND;TZID=America/Chicago:20260329T210000
DTSTAMP:20260424T134538
CREATED:20260329T013135Z
LAST-MODIFIED:20260329T013144Z
UID:10042121-1774810800-1774818000@soundminnesota.com
SUMMARY:Becky Kapell and The Fat 6 at 331
DESCRIPTION:
URL:https://soundminnesota.com/event/becky-kapell-and-the-fat-6-at-331/
LOCATION:331 Club\, 331 13th Ave NE\, Minneapolis\, MN\, 55413\, United States
GEO:45.0009;-93.263083
X-APPLE-STRUCTURED-LOCATION;VALUE=URI;X-ADDRESS=331 Club 331 13th Ave NE Minneapolis MN 55413 United States;X-APPLE-RADIUS=500;X-TITLE=331 13th Ave NE:geo:-93.263083,45.0009
END:VEVENT
BEGIN:VEVENT
DTSTART;TZID=America/Chicago:20260329T150000
DTEND;TZID=America/Chicago:20260329T170000
DTSTAMP:20260424T134538
CREATED:20260329T034011Z
LAST-MODIFIED:20260329T034022Z
UID:10042143-1774796400-1774803600@soundminnesota.com
SUMMARY:Tom Feldmann at 331
DESCRIPTION:
URL:https://soundminnesota.com/event/tom-feldmann-at-331/
LOCATION:331 Club\, 331 13th Ave NE\, Minneapolis\, MN\, 55413\, United States
GEO:45.0009;-93.263083
X-APPLE-STRUCTURED-LOCATION;VALUE=URI;X-ADDRESS=331 Club 331 13th Ave NE Minneapolis MN 55413 United States;X-APPLE-RADIUS=500;X-TITLE=331 13th Ave NE:geo:-93.263083,45.0009
END:VEVENT
END:VCALENDAR