BEGIN:VCALENDAR
VERSION:2.0
PRODID:-//Minnesota based calendar of live music - ECPv6.15.20//NONSGML v1.0//EN
CALSCALE:GREGORIAN
METHOD:PUBLISH
X-ORIGINAL-URL:https://soundminnesota.com
X-WR-CALDESC:Events for Minnesota based calendar of live music
REFRESH-INTERVAL;VALUE=DURATION:PT1H
X-Robots-Tag:noindex
X-PUBLISHED-TTL:PT1H
BEGIN:VTIMEZONE
TZID:America/Chicago
BEGIN:DAYLIGHT
TZOFFSETFROM:-0600
TZOFFSETTO:-0500
TZNAME:CDT
DTSTART:20250309T080000
END:DAYLIGHT
BEGIN:STANDARD
TZOFFSETFROM:-0500
TZOFFSETTO:-0600
TZNAME:CST
DTSTART:20251102T070000
END:STANDARD
BEGIN:DAYLIGHT
TZOFFSETFROM:-0600
TZOFFSETTO:-0500
TZNAME:CDT
DTSTART:20260308T080000
END:DAYLIGHT
BEGIN:STANDARD
TZOFFSETFROM:-0500
TZOFFSETTO:-0600
TZNAME:CST
DTSTART:20261101T070000
END:STANDARD
BEGIN:DAYLIGHT
TZOFFSETFROM:-0600
TZOFFSETTO:-0500
TZNAME:CDT
DTSTART:20270314T080000
END:DAYLIGHT
BEGIN:STANDARD
TZOFFSETFROM:-0500
TZOFFSETTO:-0600
TZNAME:CST
DTSTART:20271107T070000
END:STANDARD
END:VTIMEZONE
BEGIN:VEVENT
DTSTART;TZID=America/Chicago:20260424T190000
DTEND;TZID=America/Chicago:20260424T210000
DTSTAMP:20260424T213849
CREATED:20260424T201931Z
LAST-MODIFIED:20260424T201939Z
UID:10042658-1777057200-1777064400@soundminnesota.com
SUMMARY:BJ’s Sideshow ft. Billy Johnson and David J Russ at Animales
DESCRIPTION:
URL:https://soundminnesota.com/event/bjs-sideshow-ft-billy-johnson-and-david-j-russ-at-animales/
LOCATION:Animales BBQ\, 241 Fremont Ave N\, Minneapolis\, 55405
END:VEVENT
BEGIN:VEVENT
DTSTART;TZID=America/Chicago:20260418T150000
DTEND;TZID=America/Chicago:20260418T170000
DTSTAMP:20260424T213849
CREATED:20260418T180732Z
LAST-MODIFIED:20260418T180947Z
UID:10042548-1776524400-1776531600@soundminnesota.com
SUMMARY:Tumbling Daisies at Animales
DESCRIPTION:
URL:https://soundminnesota.com/event/tumbling-daisies-at-animales-2/
LOCATION:Animales BBQ\, 241 Fremont Ave N\, Minneapolis\, 55405
END:VEVENT
BEGIN:VEVENT
DTSTART;TZID=America/Chicago:20260404T190000
DTEND;TZID=America/Chicago:20260404T210000
DTSTAMP:20260424T213849
CREATED:20260329T051727Z
LAST-MODIFIED:20260329T051734Z
UID:10042153-1775329200-1775336400@soundminnesota.com
SUMMARY:Beemer at Animales
DESCRIPTION:
URL:https://soundminnesota.com/event/beemer-at-animales/
LOCATION:Animales BBQ\, 241 Fremont Ave N\, Minneapolis\, 55405
END:VEVENT
BEGIN:VEVENT
DTSTART;TZID=America/Chicago:20260404T150000
DTEND;TZID=America/Chicago:20260404T170000
DTSTAMP:20260424T213849
CREATED:20260329T051530Z
LAST-MODIFIED:20260329T051535Z
UID:10042152-1775314800-1775322000@soundminnesota.com
SUMMARY:Cornbread Harris & Friends at Animales
DESCRIPTION:
URL:https://soundminnesota.com/event/cornbread-harris-friends-at-animales/
LOCATION:Animales BBQ\, 241 Fremont Ave N\, Minneapolis\, 55405
END:VEVENT
BEGIN:VEVENT
DTSTART;TZID=America/Chicago:20260403T190000
DTEND;TZID=America/Chicago:20260403T210000
DTSTAMP:20260424T213849
CREATED:20260329T051308Z
LAST-MODIFIED:20260329T051318Z
UID:10042151-1775242800-1775250000@soundminnesota.com
SUMMARY:The Gated Community at Animales
DESCRIPTION:
URL:https://soundminnesota.com/event/the-gated-community-at-animales/
LOCATION:Animales BBQ\, 241 Fremont Ave N\, Minneapolis\, 55405
END:VEVENT
BEGIN:VEVENT
DTSTART;TZID=America/Chicago:20260402T190000
DTEND;TZID=America/Chicago:20260402T210000
DTSTAMP:20260424T213849
CREATED:20260329T051123Z
LAST-MODIFIED:20260329T051129Z
UID:10042150-1775156400-1775163600@soundminnesota.com
SUMMARY:David Huckfelt's Mystery Lights at Animales
DESCRIPTION:
URL:https://soundminnesota.com/event/david-huckfelts-mystery-lights-at-animales-2/
LOCATION:Animales BBQ\, 241 Fremont Ave N\, Minneapolis\, 55405
END:VEVENT
BEGIN:VEVENT
DTSTART;TZID=America/Chicago:20260329T150000
DTEND;TZID=America/Chicago:20260329T170000
DTSTAMP:20260424T213849
CREATED:20260329T050833Z
LAST-MODIFIED:20260329T050839Z
UID:10042149-1774796400-1774803600@soundminnesota.com
SUMMARY:Ken Valdez at Animales
DESCRIPTION:
URL:https://soundminnesota.com/event/ken-valdez-at-animales/
LOCATION:Animales BBQ\, 241 Fremont Ave N\, Minneapolis\, 55405
END:VEVENT
END:VCALENDAR