BEGIN:VCALENDAR
VERSION:2.0
PRODID:-//Minnesota based calendar of live music - ECPv6.15.20//NONSGML v1.0//EN
CALSCALE:GREGORIAN
METHOD:PUBLISH
X-ORIGINAL-URL:https://soundminnesota.com
X-WR-CALDESC:Events for Minnesota based calendar of live music
REFRESH-INTERVAL;VALUE=DURATION:PT1H
X-Robots-Tag:noindex
X-PUBLISHED-TTL:PT1H
BEGIN:VTIMEZONE
TZID:America/Chicago
BEGIN:DAYLIGHT
TZOFFSETFROM:-0600
TZOFFSETTO:-0500
TZNAME:CDT
DTSTART:20250309T080000
END:DAYLIGHT
BEGIN:STANDARD
TZOFFSETFROM:-0500
TZOFFSETTO:-0600
TZNAME:CST
DTSTART:20251102T070000
END:STANDARD
BEGIN:DAYLIGHT
TZOFFSETFROM:-0600
TZOFFSETTO:-0500
TZNAME:CDT
DTSTART:20260308T080000
END:DAYLIGHT
BEGIN:STANDARD
TZOFFSETFROM:-0500
TZOFFSETTO:-0600
TZNAME:CST
DTSTART:20261101T070000
END:STANDARD
BEGIN:DAYLIGHT
TZOFFSETFROM:-0600
TZOFFSETTO:-0500
TZNAME:CDT
DTSTART:20270314T080000
END:DAYLIGHT
BEGIN:STANDARD
TZOFFSETFROM:-0500
TZOFFSETTO:-0600
TZNAME:CST
DTSTART:20271107T070000
END:STANDARD
END:VTIMEZONE
BEGIN:VEVENT
DTSTART;TZID=America/Chicago:20260424T190000
DTEND;TZID=America/Chicago:20260424T210000
DTSTAMP:20260424T201236
CREATED:20260424T201931Z
LAST-MODIFIED:20260424T201939Z
UID:10042658-1777057200-1777064400@soundminnesota.com
SUMMARY:BJ’s Sideshow ft. Billy Johnson and David J Russ at Animales
DESCRIPTION:
URL:https://soundminnesota.com/event/bjs-sideshow-ft-billy-johnson-and-david-j-russ-at-animales/
LOCATION:Animales BBQ\, 241 Fremont Ave N\, Minneapolis\, 55405
END:VEVENT
BEGIN:VEVENT
DTSTART;TZID=America/Chicago:20260425T150000
DTEND;TZID=America/Chicago:20260425T170000
DTSTAMP:20260424T201236
CREATED:20260424T202325Z
LAST-MODIFIED:20260424T202344Z
UID:10042659-1777129200-1777136400@soundminnesota.com
SUMMARY:ART Dept. at Animales
DESCRIPTION:
URL:https://soundminnesota.com/event/art-dept-at-animales/
LOCATION:Animales BBQ\, 241 Fremont Ave N\, Minneapolis\, 55405
END:VEVENT
BEGIN:VEVENT
DTSTART;TZID=America/Chicago:20260425T190000
DTEND;TZID=America/Chicago:20260425T210000
DTSTAMP:20260424T201236
CREATED:20260424T205923Z
LAST-MODIFIED:20260424T205936Z
UID:10042663-1777143600-1777150800@soundminnesota.com
SUMMARY:Cole Diamond at Animales
DESCRIPTION:
URL:https://soundminnesota.com/event/cole-diamond-at-animales/
LOCATION:Animales BBQ\, 241 Fremont Ave N\, Minneapolis\, 55405
ATTACH;FMTTYPE=image/jpeg:https://soundminnesota.com/wp-content/uploads/2025/10/cole-diamond.jpg
END:VEVENT
BEGIN:VEVENT
DTSTART;TZID=America/Chicago:20260426T150000
DTEND;TZID=America/Chicago:20260426T170000
DTSTAMP:20260424T201236
CREATED:20260424T210240Z
LAST-MODIFIED:20260424T210251Z
UID:10042664-1777215600-1777222800@soundminnesota.com
SUMMARY:Al Church’s Sunday Service - A Monthly Mass of Sing Alongs at Animales
DESCRIPTION:
URL:https://soundminnesota.com/event/al-churchs-sunday-service-a-monthly-mass-of-sing-alongs-at-animales/
LOCATION:Animales BBQ\, 241 Fremont Ave N\, Minneapolis\, 55405
END:VEVENT
BEGIN:VEVENT
DTSTART;TZID=America/Chicago:20260430T190000
DTEND;TZID=America/Chicago:20260430T210000
DTSTAMP:20260424T201236
CREATED:20260424T223944Z
LAST-MODIFIED:20260424T223954Z
UID:10042667-1777575600-1777582800@soundminnesota.com
SUMMARY:Doug Collins & The Receptionists at Animales
DESCRIPTION:
URL:https://soundminnesota.com/event/doug-collins-the-receptionists-at-animales/
LOCATION:Animales BBQ\, 241 Fremont Ave N\, Minneapolis\, 55405
END:VEVENT
BEGIN:VEVENT
DTSTART;TZID=America/Chicago:20260501T190000
DTEND;TZID=America/Chicago:20260501T210000
DTSTAMP:20260424T201236
CREATED:20260424T232637Z
LAST-MODIFIED:20260424T232651Z
UID:10042671-1777662000-1777669200@soundminnesota.com
SUMMARY:Erin McCawley's Harrison Street Band at Animales
DESCRIPTION:
URL:https://soundminnesota.com/event/erin-mccawleys-harrison-street-band-at-animales/
LOCATION:Animales BBQ\, 241 Fremont Ave N\, Minneapolis\, 55405
ATTACH;FMTTYPE=image/jpeg:https://soundminnesota.com/wp-content/uploads/2024/01/IMG_0017-1-Erin-crop-sm-e1762269241792.jpg
END:VEVENT
END:VCALENDAR