BEGIN:VCALENDAR
VERSION:2.0
PRODID:-//Minnesota based calendar of live music - ECPv6.15.20//NONSGML v1.0//EN
CALSCALE:GREGORIAN
METHOD:PUBLISH
X-WR-CALNAME:Minnesota based calendar of live music
X-ORIGINAL-URL:https://soundminnesota.com
X-WR-CALDESC:Events for Minnesota based calendar of live music
REFRESH-INTERVAL;VALUE=DURATION:PT1H
X-Robots-Tag:noindex
X-PUBLISHED-TTL:PT1H
BEGIN:VTIMEZONE
TZID:America/Chicago
BEGIN:DAYLIGHT
TZOFFSETFROM:-0600
TZOFFSETTO:-0500
TZNAME:CDT
DTSTART:20260308T080000
END:DAYLIGHT
BEGIN:STANDARD
TZOFFSETFROM:-0500
TZOFFSETTO:-0600
TZNAME:CST
DTSTART:20261101T070000
END:STANDARD
BEGIN:DAYLIGHT
TZOFFSETFROM:-0600
TZOFFSETTO:-0500
TZNAME:CDT
DTSTART:20270314T080000
END:DAYLIGHT
BEGIN:STANDARD
TZOFFSETFROM:-0500
TZOFFSETTO:-0600
TZNAME:CST
DTSTART:20271107T070000
END:STANDARD
BEGIN:DAYLIGHT
TZOFFSETFROM:-0600
TZOFFSETTO:-0500
TZNAME:CDT
DTSTART:20280312T080000
END:DAYLIGHT
BEGIN:STANDARD
TZOFFSETFROM:-0500
TZOFFSETTO:-0600
TZNAME:CST
DTSTART:20281105T070000
END:STANDARD
BEGIN:DAYLIGHT
TZOFFSETFROM:-0600
TZOFFSETTO:-0500
TZNAME:CDT
DTSTART:20290311T080000
END:DAYLIGHT
BEGIN:STANDARD
TZOFFSETFROM:-0500
TZOFFSETTO:-0600
TZNAME:CST
DTSTART:20291104T070000
END:STANDARD
END:VTIMEZONE
BEGIN:VEVENT
DTSTART;TZID=America/Chicago:20270622T190000
DTEND;TZID=America/Chicago:20270622T230000
DTSTAMP:20260424T121705
CREATED:20250217T045103Z
LAST-MODIFIED:20251114T182636Z
UID:10025980-1813690800-1813705200@soundminnesota.com
SUMMARY:The "Greatest Jam on Earth" Blues Jam at Blues Saloon
DESCRIPTION:With large dance floor for all
URL:https://soundminnesota.com/event/the-greatest-jam-on-earth-blues-jam-at-blues-saloon/2027-06-22/
LOCATION:Blues Saloon Saint Paul\, 1638 Rice St\, Saint Paul\, MN\, 55117\, United States
END:VEVENT
BEGIN:VEVENT
DTSTART;TZID=America/Chicago:20270629T190000
DTEND;TZID=America/Chicago:20270629T230000
DTSTAMP:20260424T121705
CREATED:20250217T045103Z
LAST-MODIFIED:20251114T182636Z
UID:10025981-1814295600-1814310000@soundminnesota.com
SUMMARY:The "Greatest Jam on Earth" Blues Jam at Blues Saloon
DESCRIPTION:With large dance floor for all
URL:https://soundminnesota.com/event/the-greatest-jam-on-earth-blues-jam-at-blues-saloon/2027-06-29/
LOCATION:Blues Saloon Saint Paul\, 1638 Rice St\, Saint Paul\, MN\, 55117\, United States
END:VEVENT
BEGIN:VEVENT
DTSTART;TZID=America/Chicago:20270706T190000
DTEND;TZID=America/Chicago:20270706T230000
DTSTAMP:20260424T121705
CREATED:20250217T045103Z
LAST-MODIFIED:20251114T182636Z
UID:10025982-1814900400-1814914800@soundminnesota.com
SUMMARY:The "Greatest Jam on Earth" Blues Jam at Blues Saloon
DESCRIPTION:With large dance floor for all
URL:https://soundminnesota.com/event/the-greatest-jam-on-earth-blues-jam-at-blues-saloon/2027-07-06/
LOCATION:Blues Saloon Saint Paul\, 1638 Rice St\, Saint Paul\, MN\, 55117\, United States
END:VEVENT
BEGIN:VEVENT
DTSTART;TZID=America/Chicago:20270713T190000
DTEND;TZID=America/Chicago:20270713T230000
DTSTAMP:20260424T121705
CREATED:20250217T045103Z
LAST-MODIFIED:20251114T182636Z
UID:10025983-1815505200-1815519600@soundminnesota.com
SUMMARY:The "Greatest Jam on Earth" Blues Jam at Blues Saloon
DESCRIPTION:With large dance floor for all
URL:https://soundminnesota.com/event/the-greatest-jam-on-earth-blues-jam-at-blues-saloon/2027-07-13/
LOCATION:Blues Saloon Saint Paul\, 1638 Rice St\, Saint Paul\, MN\, 55117\, United States
END:VEVENT
BEGIN:VEVENT
DTSTART;TZID=America/Chicago:20270720T190000
DTEND;TZID=America/Chicago:20270720T230000
DTSTAMP:20260424T121705
CREATED:20250217T045103Z
LAST-MODIFIED:20251114T182636Z
UID:10025984-1816110000-1816124400@soundminnesota.com
SUMMARY:The "Greatest Jam on Earth" Blues Jam at Blues Saloon
DESCRIPTION:With large dance floor for all
URL:https://soundminnesota.com/event/the-greatest-jam-on-earth-blues-jam-at-blues-saloon/2027-07-20/
LOCATION:Blues Saloon Saint Paul\, 1638 Rice St\, Saint Paul\, MN\, 55117\, United States
END:VEVENT
BEGIN:VEVENT
DTSTART;TZID=America/Chicago:20270727T190000
DTEND;TZID=America/Chicago:20270727T230000
DTSTAMP:20260424T121705
CREATED:20250217T045103Z
LAST-MODIFIED:20251114T182636Z
UID:10025985-1816714800-1816729200@soundminnesota.com
SUMMARY:The "Greatest Jam on Earth" Blues Jam at Blues Saloon
DESCRIPTION:With large dance floor for all
URL:https://soundminnesota.com/event/the-greatest-jam-on-earth-blues-jam-at-blues-saloon/2027-07-27/
LOCATION:Blues Saloon Saint Paul\, 1638 Rice St\, Saint Paul\, MN\, 55117\, United States
END:VEVENT
BEGIN:VEVENT
DTSTART;TZID=America/Chicago:20270803T190000
DTEND;TZID=America/Chicago:20270803T230000
DTSTAMP:20260424T121705
CREATED:20250217T045103Z
LAST-MODIFIED:20251114T182636Z
UID:10025986-1817319600-1817334000@soundminnesota.com
SUMMARY:The "Greatest Jam on Earth" Blues Jam at Blues Saloon
DESCRIPTION:With large dance floor for all
URL:https://soundminnesota.com/event/the-greatest-jam-on-earth-blues-jam-at-blues-saloon/2027-08-03/
LOCATION:Blues Saloon Saint Paul\, 1638 Rice St\, Saint Paul\, MN\, 55117\, United States
END:VEVENT
BEGIN:VEVENT
DTSTART;TZID=America/Chicago:20270810T190000
DTEND;TZID=America/Chicago:20270810T230000
DTSTAMP:20260424T121705
CREATED:20250217T045103Z
LAST-MODIFIED:20251114T182636Z
UID:10025987-1817924400-1817938800@soundminnesota.com
SUMMARY:The "Greatest Jam on Earth" Blues Jam at Blues Saloon
DESCRIPTION:With large dance floor for all
URL:https://soundminnesota.com/event/the-greatest-jam-on-earth-blues-jam-at-blues-saloon/2027-08-10/
LOCATION:Blues Saloon Saint Paul\, 1638 Rice St\, Saint Paul\, MN\, 55117\, United States
END:VEVENT
BEGIN:VEVENT
DTSTART;TZID=America/Chicago:20270817T190000
DTEND;TZID=America/Chicago:20270817T230000
DTSTAMP:20260424T121705
CREATED:20250217T045103Z
LAST-MODIFIED:20251114T182636Z
UID:10025988-1818529200-1818543600@soundminnesota.com
SUMMARY:The "Greatest Jam on Earth" Blues Jam at Blues Saloon
DESCRIPTION:With large dance floor for all
URL:https://soundminnesota.com/event/the-greatest-jam-on-earth-blues-jam-at-blues-saloon/2027-08-17/
LOCATION:Blues Saloon Saint Paul\, 1638 Rice St\, Saint Paul\, MN\, 55117\, United States
END:VEVENT
BEGIN:VEVENT
DTSTART;TZID=America/Chicago:20270824T190000
DTEND;TZID=America/Chicago:20270824T230000
DTSTAMP:20260424T121705
CREATED:20250217T045103Z
LAST-MODIFIED:20251114T182636Z
UID:10025989-1819134000-1819148400@soundminnesota.com
SUMMARY:The "Greatest Jam on Earth" Blues Jam at Blues Saloon
DESCRIPTION:With large dance floor for all
URL:https://soundminnesota.com/event/the-greatest-jam-on-earth-blues-jam-at-blues-saloon/2027-08-24/
LOCATION:Blues Saloon Saint Paul\, 1638 Rice St\, Saint Paul\, MN\, 55117\, United States
END:VEVENT
BEGIN:VEVENT
DTSTART;TZID=America/Chicago:20270831T190000
DTEND;TZID=America/Chicago:20270831T230000
DTSTAMP:20260424T121705
CREATED:20250217T045103Z
LAST-MODIFIED:20251114T182636Z
UID:10025990-1819738800-1819753200@soundminnesota.com
SUMMARY:The "Greatest Jam on Earth" Blues Jam at Blues Saloon
DESCRIPTION:With large dance floor for all
URL:https://soundminnesota.com/event/the-greatest-jam-on-earth-blues-jam-at-blues-saloon/2027-08-31/
LOCATION:Blues Saloon Saint Paul\, 1638 Rice St\, Saint Paul\, MN\, 55117\, United States
END:VEVENT
BEGIN:VEVENT
DTSTART;TZID=America/Chicago:20270907T190000
DTEND;TZID=America/Chicago:20270907T230000
DTSTAMP:20260424T121705
CREATED:20250217T045103Z
LAST-MODIFIED:20251114T182636Z
UID:10025991-1820343600-1820358000@soundminnesota.com
SUMMARY:The "Greatest Jam on Earth" Blues Jam at Blues Saloon
DESCRIPTION:With large dance floor for all
URL:https://soundminnesota.com/event/the-greatest-jam-on-earth-blues-jam-at-blues-saloon/2027-09-07/
LOCATION:Blues Saloon Saint Paul\, 1638 Rice St\, Saint Paul\, MN\, 55117\, United States
END:VEVENT
BEGIN:VEVENT
DTSTART;TZID=America/Chicago:20270914T190000
DTEND;TZID=America/Chicago:20270914T230000
DTSTAMP:20260424T121705
CREATED:20250217T045103Z
LAST-MODIFIED:20251114T182636Z
UID:10025992-1820948400-1820962800@soundminnesota.com
SUMMARY:The "Greatest Jam on Earth" Blues Jam at Blues Saloon
DESCRIPTION:With large dance floor for all
URL:https://soundminnesota.com/event/the-greatest-jam-on-earth-blues-jam-at-blues-saloon/2027-09-14/
LOCATION:Blues Saloon Saint Paul\, 1638 Rice St\, Saint Paul\, MN\, 55117\, United States
END:VEVENT
BEGIN:VEVENT
DTSTART;TZID=America/Chicago:20270921T190000
DTEND;TZID=America/Chicago:20270921T230000
DTSTAMP:20260424T121705
CREATED:20250217T045103Z
LAST-MODIFIED:20251114T182636Z
UID:10025993-1821553200-1821567600@soundminnesota.com
SUMMARY:The "Greatest Jam on Earth" Blues Jam at Blues Saloon
DESCRIPTION:With large dance floor for all
URL:https://soundminnesota.com/event/the-greatest-jam-on-earth-blues-jam-at-blues-saloon/2027-09-21/
LOCATION:Blues Saloon Saint Paul\, 1638 Rice St\, Saint Paul\, MN\, 55117\, United States
END:VEVENT
BEGIN:VEVENT
DTSTART;TZID=America/Chicago:20270928T190000
DTEND;TZID=America/Chicago:20270928T230000
DTSTAMP:20260424T121705
CREATED:20250217T045103Z
LAST-MODIFIED:20251114T182636Z
UID:10025994-1822158000-1822172400@soundminnesota.com
SUMMARY:The "Greatest Jam on Earth" Blues Jam at Blues Saloon
DESCRIPTION:With large dance floor for all
URL:https://soundminnesota.com/event/the-greatest-jam-on-earth-blues-jam-at-blues-saloon/2027-09-28/
LOCATION:Blues Saloon Saint Paul\, 1638 Rice St\, Saint Paul\, MN\, 55117\, United States
END:VEVENT
BEGIN:VEVENT
DTSTART;TZID=America/Chicago:20271005T190000
DTEND;TZID=America/Chicago:20271005T230000
DTSTAMP:20260424T121705
CREATED:20250217T045103Z
LAST-MODIFIED:20251114T182636Z
UID:10025995-1822762800-1822777200@soundminnesota.com
SUMMARY:The "Greatest Jam on Earth" Blues Jam at Blues Saloon
DESCRIPTION:With large dance floor for all
URL:https://soundminnesota.com/event/the-greatest-jam-on-earth-blues-jam-at-blues-saloon/2027-10-05/
LOCATION:Blues Saloon Saint Paul\, 1638 Rice St\, Saint Paul\, MN\, 55117\, United States
END:VEVENT
BEGIN:VEVENT
DTSTART;TZID=America/Chicago:20271012T190000
DTEND;TZID=America/Chicago:20271012T230000
DTSTAMP:20260424T121705
CREATED:20250217T045103Z
LAST-MODIFIED:20251114T182636Z
UID:10025996-1823367600-1823382000@soundminnesota.com
SUMMARY:The "Greatest Jam on Earth" Blues Jam at Blues Saloon
DESCRIPTION:With large dance floor for all
URL:https://soundminnesota.com/event/the-greatest-jam-on-earth-blues-jam-at-blues-saloon/2027-10-12/
LOCATION:Blues Saloon Saint Paul\, 1638 Rice St\, Saint Paul\, MN\, 55117\, United States
END:VEVENT
BEGIN:VEVENT
DTSTART;TZID=America/Chicago:20271019T190000
DTEND;TZID=America/Chicago:20271019T230000
DTSTAMP:20260424T121705
CREATED:20250217T045103Z
LAST-MODIFIED:20251114T182636Z
UID:10025997-1823972400-1823986800@soundminnesota.com
SUMMARY:The "Greatest Jam on Earth" Blues Jam at Blues Saloon
DESCRIPTION:With large dance floor for all
URL:https://soundminnesota.com/event/the-greatest-jam-on-earth-blues-jam-at-blues-saloon/2027-10-19/
LOCATION:Blues Saloon Saint Paul\, 1638 Rice St\, Saint Paul\, MN\, 55117\, United States
END:VEVENT
BEGIN:VEVENT
DTSTART;TZID=America/Chicago:20271026T190000
DTEND;TZID=America/Chicago:20271026T230000
DTSTAMP:20260424T121705
CREATED:20250217T045103Z
LAST-MODIFIED:20251114T182636Z
UID:10025998-1824577200-1824591600@soundminnesota.com
SUMMARY:The "Greatest Jam on Earth" Blues Jam at Blues Saloon
DESCRIPTION:With large dance floor for all
URL:https://soundminnesota.com/event/the-greatest-jam-on-earth-blues-jam-at-blues-saloon/2027-10-26/
LOCATION:Blues Saloon Saint Paul\, 1638 Rice St\, Saint Paul\, MN\, 55117\, United States
END:VEVENT
BEGIN:VEVENT
DTSTART;TZID=America/Chicago:20271102T190000
DTEND;TZID=America/Chicago:20271102T230000
DTSTAMP:20260424T121705
CREATED:20250217T045103Z
LAST-MODIFIED:20251114T182636Z
UID:10025999-1825182000-1825196400@soundminnesota.com
SUMMARY:The "Greatest Jam on Earth" Blues Jam at Blues Saloon
DESCRIPTION:With large dance floor for all
URL:https://soundminnesota.com/event/the-greatest-jam-on-earth-blues-jam-at-blues-saloon/2027-11-02/
LOCATION:Blues Saloon Saint Paul\, 1638 Rice St\, Saint Paul\, MN\, 55117\, United States
END:VEVENT
BEGIN:VEVENT
DTSTART;TZID=America/Chicago:20271109T190000
DTEND;TZID=America/Chicago:20271109T230000
DTSTAMP:20260424T121705
CREATED:20250217T045103Z
LAST-MODIFIED:20251114T182636Z
UID:10026000-1825786800-1825801200@soundminnesota.com
SUMMARY:The "Greatest Jam on Earth" Blues Jam at Blues Saloon
DESCRIPTION:With large dance floor for all
URL:https://soundminnesota.com/event/the-greatest-jam-on-earth-blues-jam-at-blues-saloon/2027-11-09/
LOCATION:Blues Saloon Saint Paul\, 1638 Rice St\, Saint Paul\, MN\, 55117\, United States
END:VEVENT
BEGIN:VEVENT
DTSTART;TZID=America/Chicago:20271116T190000
DTEND;TZID=America/Chicago:20271116T230000
DTSTAMP:20260424T121705
CREATED:20250217T045103Z
LAST-MODIFIED:20251114T182636Z
UID:10026001-1826391600-1826406000@soundminnesota.com
SUMMARY:The "Greatest Jam on Earth" Blues Jam at Blues Saloon
DESCRIPTION:With large dance floor for all
URL:https://soundminnesota.com/event/the-greatest-jam-on-earth-blues-jam-at-blues-saloon/2027-11-16/
LOCATION:Blues Saloon Saint Paul\, 1638 Rice St\, Saint Paul\, MN\, 55117\, United States
END:VEVENT
BEGIN:VEVENT
DTSTART;TZID=America/Chicago:20271123T190000
DTEND;TZID=America/Chicago:20271123T230000
DTSTAMP:20260424T121705
CREATED:20250217T045103Z
LAST-MODIFIED:20251114T182636Z
UID:10026002-1826996400-1827010800@soundminnesota.com
SUMMARY:The "Greatest Jam on Earth" Blues Jam at Blues Saloon
DESCRIPTION:With large dance floor for all
URL:https://soundminnesota.com/event/the-greatest-jam-on-earth-blues-jam-at-blues-saloon/2027-11-23/
LOCATION:Blues Saloon Saint Paul\, 1638 Rice St\, Saint Paul\, MN\, 55117\, United States
END:VEVENT
BEGIN:VEVENT
DTSTART;TZID=America/Chicago:20271130T190000
DTEND;TZID=America/Chicago:20271130T230000
DTSTAMP:20260424T121705
CREATED:20250217T045103Z
LAST-MODIFIED:20251114T182636Z
UID:10026003-1827601200-1827615600@soundminnesota.com
SUMMARY:The "Greatest Jam on Earth" Blues Jam at Blues Saloon
DESCRIPTION:With large dance floor for all
URL:https://soundminnesota.com/event/the-greatest-jam-on-earth-blues-jam-at-blues-saloon/2027-11-30/
LOCATION:Blues Saloon Saint Paul\, 1638 Rice St\, Saint Paul\, MN\, 55117\, United States
END:VEVENT
BEGIN:VEVENT
DTSTART;TZID=America/Chicago:20271207T190000
DTEND;TZID=America/Chicago:20271207T230000
DTSTAMP:20260424T121705
CREATED:20250217T045103Z
LAST-MODIFIED:20251114T182636Z
UID:10026004-1828206000-1828220400@soundminnesota.com
SUMMARY:The "Greatest Jam on Earth" Blues Jam at Blues Saloon
DESCRIPTION:With large dance floor for all
URL:https://soundminnesota.com/event/the-greatest-jam-on-earth-blues-jam-at-blues-saloon/2027-12-07/
LOCATION:Blues Saloon Saint Paul\, 1638 Rice St\, Saint Paul\, MN\, 55117\, United States
END:VEVENT
BEGIN:VEVENT
DTSTART;TZID=America/Chicago:20271214T190000
DTEND;TZID=America/Chicago:20271214T230000
DTSTAMP:20260424T121705
CREATED:20250217T045103Z
LAST-MODIFIED:20251114T182636Z
UID:10026005-1828810800-1828825200@soundminnesota.com
SUMMARY:The "Greatest Jam on Earth" Blues Jam at Blues Saloon
DESCRIPTION:With large dance floor for all
URL:https://soundminnesota.com/event/the-greatest-jam-on-earth-blues-jam-at-blues-saloon/2027-12-14/
LOCATION:Blues Saloon Saint Paul\, 1638 Rice St\, Saint Paul\, MN\, 55117\, United States
END:VEVENT
BEGIN:VEVENT
DTSTART;TZID=America/Chicago:20271221T190000
DTEND;TZID=America/Chicago:20271221T230000
DTSTAMP:20260424T121705
CREATED:20250217T045103Z
LAST-MODIFIED:20251114T182636Z
UID:10026006-1829415600-1829430000@soundminnesota.com
SUMMARY:The "Greatest Jam on Earth" Blues Jam at Blues Saloon
DESCRIPTION:With large dance floor for all
URL:https://soundminnesota.com/event/the-greatest-jam-on-earth-blues-jam-at-blues-saloon/2027-12-21/
LOCATION:Blues Saloon Saint Paul\, 1638 Rice St\, Saint Paul\, MN\, 55117\, United States
END:VEVENT
BEGIN:VEVENT
DTSTART;TZID=America/Chicago:20271228T190000
DTEND;TZID=America/Chicago:20271228T230000
DTSTAMP:20260424T121705
CREATED:20250217T045103Z
LAST-MODIFIED:20251114T182636Z
UID:10026007-1830020400-1830034800@soundminnesota.com
SUMMARY:The "Greatest Jam on Earth" Blues Jam at Blues Saloon
DESCRIPTION:With large dance floor for all
URL:https://soundminnesota.com/event/the-greatest-jam-on-earth-blues-jam-at-blues-saloon/2027-12-28/
LOCATION:Blues Saloon Saint Paul\, 1638 Rice St\, Saint Paul\, MN\, 55117\, United States
END:VEVENT
BEGIN:VEVENT
DTSTART;TZID=America/Chicago:20280104T190000
DTEND;TZID=America/Chicago:20280104T230000
DTSTAMP:20260424T121706
CREATED:20250217T045103Z
LAST-MODIFIED:20251114T182636Z
UID:10026008-1830625200-1830639600@soundminnesota.com
SUMMARY:The "Greatest Jam on Earth" Blues Jam at Blues Saloon
DESCRIPTION:With large dance floor for all
URL:https://soundminnesota.com/event/the-greatest-jam-on-earth-blues-jam-at-blues-saloon/2028-01-04/
LOCATION:Blues Saloon Saint Paul\, 1638 Rice St\, Saint Paul\, MN\, 55117\, United States
END:VEVENT
BEGIN:VEVENT
DTSTART;TZID=America/Chicago:20280111T190000
DTEND;TZID=America/Chicago:20280111T230000
DTSTAMP:20260424T121706
CREATED:20250217T045103Z
LAST-MODIFIED:20251114T182636Z
UID:10026009-1831230000-1831244400@soundminnesota.com
SUMMARY:The "Greatest Jam on Earth" Blues Jam at Blues Saloon
DESCRIPTION:With large dance floor for all
URL:https://soundminnesota.com/event/the-greatest-jam-on-earth-blues-jam-at-blues-saloon/2028-01-11/
LOCATION:Blues Saloon Saint Paul\, 1638 Rice St\, Saint Paul\, MN\, 55117\, United States
END:VEVENT
END:VCALENDAR