BEGIN:VCALENDAR
VERSION:2.0
PRODID:-//Minnesota based calendar of live music - ECPv6.15.20//NONSGML v1.0//EN
CALSCALE:GREGORIAN
METHOD:PUBLISH
X-ORIGINAL-URL:https://soundminnesota.com
X-WR-CALDESC:Events for Minnesota based calendar of live music
REFRESH-INTERVAL;VALUE=DURATION:PT1H
X-Robots-Tag:noindex
X-PUBLISHED-TTL:PT1H
BEGIN:VTIMEZONE
TZID:America/Chicago
BEGIN:DAYLIGHT
TZOFFSETFROM:-0600
TZOFFSETTO:-0500
TZNAME:CDT
DTSTART:20280312T080000
END:DAYLIGHT
BEGIN:STANDARD
TZOFFSETFROM:-0500
TZOFFSETTO:-0600
TZNAME:CST
DTSTART:20281105T070000
END:STANDARD
BEGIN:DAYLIGHT
TZOFFSETFROM:-0600
TZOFFSETTO:-0500
TZNAME:CDT
DTSTART:20290311T080000
END:DAYLIGHT
BEGIN:STANDARD
TZOFFSETFROM:-0500
TZOFFSETTO:-0600
TZNAME:CST
DTSTART:20291104T070000
END:STANDARD
BEGIN:DAYLIGHT
TZOFFSETFROM:-0600
TZOFFSETTO:-0500
TZNAME:CDT
DTSTART:20300310T080000
END:DAYLIGHT
BEGIN:STANDARD
TZOFFSETFROM:-0500
TZOFFSETTO:-0600
TZNAME:CST
DTSTART:20301103T070000
END:STANDARD
END:VTIMEZONE
BEGIN:VEVENT
DTSTART;TZID=America/Chicago:20290306T190000
DTEND;TZID=America/Chicago:20290306T230000
DTSTAMP:20260424T163857
CREATED:20250217T045103Z
LAST-MODIFIED:20251114T182636Z
UID:10026069-1867518000-1867532400@soundminnesota.com
SUMMARY:The "Greatest Jam on Earth" Blues Jam at Blues Saloon
DESCRIPTION:With large dance floor for all
URL:https://soundminnesota.com/event/the-greatest-jam-on-earth-blues-jam-at-blues-saloon/2029-03-06/
LOCATION:Blues Saloon Saint Paul\, 1638 Rice St\, Saint Paul\, MN\, 55117\, United States
END:VEVENT
BEGIN:VEVENT
DTSTART;TZID=America/Chicago:20290313T190000
DTEND;TZID=America/Chicago:20290313T230000
DTSTAMP:20260424T163857
CREATED:20250217T045103Z
LAST-MODIFIED:20251114T182636Z
UID:10026070-1868122800-1868137200@soundminnesota.com
SUMMARY:The "Greatest Jam on Earth" Blues Jam at Blues Saloon
DESCRIPTION:With large dance floor for all
URL:https://soundminnesota.com/event/the-greatest-jam-on-earth-blues-jam-at-blues-saloon/2029-03-13/
LOCATION:Blues Saloon Saint Paul\, 1638 Rice St\, Saint Paul\, MN\, 55117\, United States
END:VEVENT
BEGIN:VEVENT
DTSTART;TZID=America/Chicago:20290320T190000
DTEND;TZID=America/Chicago:20290320T230000
DTSTAMP:20260424T163857
CREATED:20250217T045103Z
LAST-MODIFIED:20251114T182636Z
UID:10026071-1868727600-1868742000@soundminnesota.com
SUMMARY:The "Greatest Jam on Earth" Blues Jam at Blues Saloon
DESCRIPTION:With large dance floor for all
URL:https://soundminnesota.com/event/the-greatest-jam-on-earth-blues-jam-at-blues-saloon/2029-03-20/
LOCATION:Blues Saloon Saint Paul\, 1638 Rice St\, Saint Paul\, MN\, 55117\, United States
END:VEVENT
BEGIN:VEVENT
DTSTART;TZID=America/Chicago:20290327T190000
DTEND;TZID=America/Chicago:20290327T230000
DTSTAMP:20260424T163857
CREATED:20250217T045103Z
LAST-MODIFIED:20251114T182636Z
UID:10026072-1869332400-1869346800@soundminnesota.com
SUMMARY:The "Greatest Jam on Earth" Blues Jam at Blues Saloon
DESCRIPTION:With large dance floor for all
URL:https://soundminnesota.com/event/the-greatest-jam-on-earth-blues-jam-at-blues-saloon/2029-03-27/
LOCATION:Blues Saloon Saint Paul\, 1638 Rice St\, Saint Paul\, MN\, 55117\, United States
END:VEVENT
BEGIN:VEVENT
DTSTART;TZID=America/Chicago:20290403T190000
DTEND;TZID=America/Chicago:20290403T230000
DTSTAMP:20260424T163857
CREATED:20250217T045103Z
LAST-MODIFIED:20251114T182636Z
UID:10026073-1869937200-1869951600@soundminnesota.com
SUMMARY:The "Greatest Jam on Earth" Blues Jam at Blues Saloon
DESCRIPTION:With large dance floor for all
URL:https://soundminnesota.com/event/the-greatest-jam-on-earth-blues-jam-at-blues-saloon/2029-04-03/
LOCATION:Blues Saloon Saint Paul\, 1638 Rice St\, Saint Paul\, MN\, 55117\, United States
END:VEVENT
BEGIN:VEVENT
DTSTART;TZID=America/Chicago:20290410T190000
DTEND;TZID=America/Chicago:20290410T230000
DTSTAMP:20260424T163857
CREATED:20250217T045103Z
LAST-MODIFIED:20251114T182636Z
UID:10026074-1870542000-1870556400@soundminnesota.com
SUMMARY:The "Greatest Jam on Earth" Blues Jam at Blues Saloon
DESCRIPTION:With large dance floor for all
URL:https://soundminnesota.com/event/the-greatest-jam-on-earth-blues-jam-at-blues-saloon/2029-04-10/
LOCATION:Blues Saloon Saint Paul\, 1638 Rice St\, Saint Paul\, MN\, 55117\, United States
END:VEVENT
BEGIN:VEVENT
DTSTART;TZID=America/Chicago:20290417T190000
DTEND;TZID=America/Chicago:20290417T230000
DTSTAMP:20260424T163857
CREATED:20250217T045103Z
LAST-MODIFIED:20251114T182636Z
UID:10026075-1871146800-1871161200@soundminnesota.com
SUMMARY:The "Greatest Jam on Earth" Blues Jam at Blues Saloon
DESCRIPTION:With large dance floor for all
URL:https://soundminnesota.com/event/the-greatest-jam-on-earth-blues-jam-at-blues-saloon/2029-04-17/
LOCATION:Blues Saloon Saint Paul\, 1638 Rice St\, Saint Paul\, MN\, 55117\, United States
END:VEVENT
BEGIN:VEVENT
DTSTART;TZID=America/Chicago:20290424T190000
DTEND;TZID=America/Chicago:20290424T230000
DTSTAMP:20260424T163857
CREATED:20250217T045103Z
LAST-MODIFIED:20251114T182636Z
UID:10026076-1871751600-1871766000@soundminnesota.com
SUMMARY:The "Greatest Jam on Earth" Blues Jam at Blues Saloon
DESCRIPTION:With large dance floor for all
URL:https://soundminnesota.com/event/the-greatest-jam-on-earth-blues-jam-at-blues-saloon/2029-04-24/
LOCATION:Blues Saloon Saint Paul\, 1638 Rice St\, Saint Paul\, MN\, 55117\, United States
END:VEVENT
BEGIN:VEVENT
DTSTART;TZID=America/Chicago:20290501T190000
DTEND;TZID=America/Chicago:20290501T230000
DTSTAMP:20260424T163857
CREATED:20250217T045103Z
LAST-MODIFIED:20251114T182636Z
UID:10026077-1872356400-1872370800@soundminnesota.com
SUMMARY:The "Greatest Jam on Earth" Blues Jam at Blues Saloon
DESCRIPTION:With large dance floor for all
URL:https://soundminnesota.com/event/the-greatest-jam-on-earth-blues-jam-at-blues-saloon/2029-05-01/
LOCATION:Blues Saloon Saint Paul\, 1638 Rice St\, Saint Paul\, MN\, 55117\, United States
END:VEVENT
BEGIN:VEVENT
DTSTART;TZID=America/Chicago:20290508T190000
DTEND;TZID=America/Chicago:20290508T230000
DTSTAMP:20260424T163857
CREATED:20250217T045103Z
LAST-MODIFIED:20251114T182636Z
UID:10026078-1872961200-1872975600@soundminnesota.com
SUMMARY:The "Greatest Jam on Earth" Blues Jam at Blues Saloon
DESCRIPTION:With large dance floor for all
URL:https://soundminnesota.com/event/the-greatest-jam-on-earth-blues-jam-at-blues-saloon/2029-05-08/
LOCATION:Blues Saloon Saint Paul\, 1638 Rice St\, Saint Paul\, MN\, 55117\, United States
END:VEVENT
BEGIN:VEVENT
DTSTART;TZID=America/Chicago:20290515T190000
DTEND;TZID=America/Chicago:20290515T230000
DTSTAMP:20260424T163857
CREATED:20250217T045103Z
LAST-MODIFIED:20251114T182636Z
UID:10026079-1873566000-1873580400@soundminnesota.com
SUMMARY:The "Greatest Jam on Earth" Blues Jam at Blues Saloon
DESCRIPTION:With large dance floor for all
URL:https://soundminnesota.com/event/the-greatest-jam-on-earth-blues-jam-at-blues-saloon/2029-05-15/
LOCATION:Blues Saloon Saint Paul\, 1638 Rice St\, Saint Paul\, MN\, 55117\, United States
END:VEVENT
BEGIN:VEVENT
DTSTART;TZID=America/Chicago:20290522T190000
DTEND;TZID=America/Chicago:20290522T230000
DTSTAMP:20260424T163857
CREATED:20250217T045103Z
LAST-MODIFIED:20251114T182636Z
UID:10026080-1874170800-1874185200@soundminnesota.com
SUMMARY:The "Greatest Jam on Earth" Blues Jam at Blues Saloon
DESCRIPTION:With large dance floor for all
URL:https://soundminnesota.com/event/the-greatest-jam-on-earth-blues-jam-at-blues-saloon/2029-05-22/
LOCATION:Blues Saloon Saint Paul\, 1638 Rice St\, Saint Paul\, MN\, 55117\, United States
END:VEVENT
BEGIN:VEVENT
DTSTART;TZID=America/Chicago:20290529T190000
DTEND;TZID=America/Chicago:20290529T230000
DTSTAMP:20260424T163857
CREATED:20250217T045103Z
LAST-MODIFIED:20251114T182636Z
UID:10026081-1874775600-1874790000@soundminnesota.com
SUMMARY:The "Greatest Jam on Earth" Blues Jam at Blues Saloon
DESCRIPTION:With large dance floor for all
URL:https://soundminnesota.com/event/the-greatest-jam-on-earth-blues-jam-at-blues-saloon/2029-05-29/
LOCATION:Blues Saloon Saint Paul\, 1638 Rice St\, Saint Paul\, MN\, 55117\, United States
END:VEVENT
BEGIN:VEVENT
DTSTART;TZID=America/Chicago:20290605T190000
DTEND;TZID=America/Chicago:20290605T230000
DTSTAMP:20260424T163857
CREATED:20250217T045103Z
LAST-MODIFIED:20251114T182636Z
UID:10026082-1875380400-1875394800@soundminnesota.com
SUMMARY:The "Greatest Jam on Earth" Blues Jam at Blues Saloon
DESCRIPTION:With large dance floor for all
URL:https://soundminnesota.com/event/the-greatest-jam-on-earth-blues-jam-at-blues-saloon/2029-06-05/
LOCATION:Blues Saloon Saint Paul\, 1638 Rice St\, Saint Paul\, MN\, 55117\, United States
END:VEVENT
BEGIN:VEVENT
DTSTART;TZID=America/Chicago:20290612T190000
DTEND;TZID=America/Chicago:20290612T230000
DTSTAMP:20260424T163857
CREATED:20250217T045103Z
LAST-MODIFIED:20251114T182636Z
UID:10026083-1875985200-1875999600@soundminnesota.com
SUMMARY:The "Greatest Jam on Earth" Blues Jam at Blues Saloon
DESCRIPTION:With large dance floor for all
URL:https://soundminnesota.com/event/the-greatest-jam-on-earth-blues-jam-at-blues-saloon/2029-06-12/
LOCATION:Blues Saloon Saint Paul\, 1638 Rice St\, Saint Paul\, MN\, 55117\, United States
END:VEVENT
BEGIN:VEVENT
DTSTART;TZID=America/Chicago:20290619T190000
DTEND;TZID=America/Chicago:20290619T230000
DTSTAMP:20260424T163857
CREATED:20250217T045103Z
LAST-MODIFIED:20251114T182636Z
UID:10026084-1876590000-1876604400@soundminnesota.com
SUMMARY:The "Greatest Jam on Earth" Blues Jam at Blues Saloon
DESCRIPTION:With large dance floor for all
URL:https://soundminnesota.com/event/the-greatest-jam-on-earth-blues-jam-at-blues-saloon/2029-06-19/
LOCATION:Blues Saloon Saint Paul\, 1638 Rice St\, Saint Paul\, MN\, 55117\, United States
END:VEVENT
BEGIN:VEVENT
DTSTART;TZID=America/Chicago:20290626T190000
DTEND;TZID=America/Chicago:20290626T230000
DTSTAMP:20260424T163857
CREATED:20250217T045103Z
LAST-MODIFIED:20251114T182636Z
UID:10026085-1877194800-1877209200@soundminnesota.com
SUMMARY:The "Greatest Jam on Earth" Blues Jam at Blues Saloon
DESCRIPTION:With large dance floor for all
URL:https://soundminnesota.com/event/the-greatest-jam-on-earth-blues-jam-at-blues-saloon/2029-06-26/
LOCATION:Blues Saloon Saint Paul\, 1638 Rice St\, Saint Paul\, MN\, 55117\, United States
END:VEVENT
BEGIN:VEVENT
DTSTART;TZID=America/Chicago:20290703T190000
DTEND;TZID=America/Chicago:20290703T230000
DTSTAMP:20260424T163857
CREATED:20250217T045103Z
LAST-MODIFIED:20251114T182636Z
UID:10026086-1877799600-1877814000@soundminnesota.com
SUMMARY:The "Greatest Jam on Earth" Blues Jam at Blues Saloon
DESCRIPTION:With large dance floor for all
URL:https://soundminnesota.com/event/the-greatest-jam-on-earth-blues-jam-at-blues-saloon/2029-07-03/
LOCATION:Blues Saloon Saint Paul\, 1638 Rice St\, Saint Paul\, MN\, 55117\, United States
END:VEVENT
BEGIN:VEVENT
DTSTART;TZID=America/Chicago:20290710T190000
DTEND;TZID=America/Chicago:20290710T230000
DTSTAMP:20260424T163857
CREATED:20250217T045103Z
LAST-MODIFIED:20251114T182636Z
UID:10026087-1878404400-1878418800@soundminnesota.com
SUMMARY:The "Greatest Jam on Earth" Blues Jam at Blues Saloon
DESCRIPTION:With large dance floor for all
URL:https://soundminnesota.com/event/the-greatest-jam-on-earth-blues-jam-at-blues-saloon/2029-07-10/
LOCATION:Blues Saloon Saint Paul\, 1638 Rice St\, Saint Paul\, MN\, 55117\, United States
END:VEVENT
BEGIN:VEVENT
DTSTART;TZID=America/Chicago:20290717T190000
DTEND;TZID=America/Chicago:20290717T230000
DTSTAMP:20260424T163857
CREATED:20250217T045103Z
LAST-MODIFIED:20251114T182636Z
UID:10026088-1879009200-1879023600@soundminnesota.com
SUMMARY:The "Greatest Jam on Earth" Blues Jam at Blues Saloon
DESCRIPTION:With large dance floor for all
URL:https://soundminnesota.com/event/the-greatest-jam-on-earth-blues-jam-at-blues-saloon/2029-07-17/
LOCATION:Blues Saloon Saint Paul\, 1638 Rice St\, Saint Paul\, MN\, 55117\, United States
END:VEVENT
BEGIN:VEVENT
DTSTART;TZID=America/Chicago:20290724T190000
DTEND;TZID=America/Chicago:20290724T230000
DTSTAMP:20260424T163857
CREATED:20250217T045103Z
LAST-MODIFIED:20251114T182636Z
UID:10026089-1879614000-1879628400@soundminnesota.com
SUMMARY:The "Greatest Jam on Earth" Blues Jam at Blues Saloon
DESCRIPTION:With large dance floor for all
URL:https://soundminnesota.com/event/the-greatest-jam-on-earth-blues-jam-at-blues-saloon/2029-07-24/
LOCATION:Blues Saloon Saint Paul\, 1638 Rice St\, Saint Paul\, MN\, 55117\, United States
END:VEVENT
BEGIN:VEVENT
DTSTART;TZID=America/Chicago:20290731T190000
DTEND;TZID=America/Chicago:20290731T230000
DTSTAMP:20260424T163857
CREATED:20250217T045103Z
LAST-MODIFIED:20251114T182636Z
UID:10026090-1880218800-1880233200@soundminnesota.com
SUMMARY:The "Greatest Jam on Earth" Blues Jam at Blues Saloon
DESCRIPTION:With large dance floor for all
URL:https://soundminnesota.com/event/the-greatest-jam-on-earth-blues-jam-at-blues-saloon/2029-07-31/
LOCATION:Blues Saloon Saint Paul\, 1638 Rice St\, Saint Paul\, MN\, 55117\, United States
END:VEVENT
BEGIN:VEVENT
DTSTART;TZID=America/Chicago:20290807T190000
DTEND;TZID=America/Chicago:20290807T230000
DTSTAMP:20260424T163857
CREATED:20250217T045103Z
LAST-MODIFIED:20251114T182636Z
UID:10026091-1880823600-1880838000@soundminnesota.com
SUMMARY:The "Greatest Jam on Earth" Blues Jam at Blues Saloon
DESCRIPTION:With large dance floor for all
URL:https://soundminnesota.com/event/the-greatest-jam-on-earth-blues-jam-at-blues-saloon/2029-08-07/
LOCATION:Blues Saloon Saint Paul\, 1638 Rice St\, Saint Paul\, MN\, 55117\, United States
END:VEVENT
BEGIN:VEVENT
DTSTART;TZID=America/Chicago:20290814T190000
DTEND;TZID=America/Chicago:20290814T230000
DTSTAMP:20260424T163857
CREATED:20250217T045103Z
LAST-MODIFIED:20251114T182636Z
UID:10026092-1881428400-1881442800@soundminnesota.com
SUMMARY:The "Greatest Jam on Earth" Blues Jam at Blues Saloon
DESCRIPTION:With large dance floor for all
URL:https://soundminnesota.com/event/the-greatest-jam-on-earth-blues-jam-at-blues-saloon/2029-08-14/
LOCATION:Blues Saloon Saint Paul\, 1638 Rice St\, Saint Paul\, MN\, 55117\, United States
END:VEVENT
BEGIN:VEVENT
DTSTART;TZID=America/Chicago:20290821T190000
DTEND;TZID=America/Chicago:20290821T230000
DTSTAMP:20260424T163858
CREATED:20250217T045103Z
LAST-MODIFIED:20251114T182636Z
UID:10026093-1882033200-1882047600@soundminnesota.com
SUMMARY:The "Greatest Jam on Earth" Blues Jam at Blues Saloon
DESCRIPTION:With large dance floor for all
URL:https://soundminnesota.com/event/the-greatest-jam-on-earth-blues-jam-at-blues-saloon/2029-08-21/
LOCATION:Blues Saloon Saint Paul\, 1638 Rice St\, Saint Paul\, MN\, 55117\, United States
END:VEVENT
BEGIN:VEVENT
DTSTART;TZID=America/Chicago:20290828T190000
DTEND;TZID=America/Chicago:20290828T230000
DTSTAMP:20260424T163858
CREATED:20250217T045103Z
LAST-MODIFIED:20251114T182636Z
UID:10026094-1882638000-1882652400@soundminnesota.com
SUMMARY:The "Greatest Jam on Earth" Blues Jam at Blues Saloon
DESCRIPTION:With large dance floor for all
URL:https://soundminnesota.com/event/the-greatest-jam-on-earth-blues-jam-at-blues-saloon/2029-08-28/
LOCATION:Blues Saloon Saint Paul\, 1638 Rice St\, Saint Paul\, MN\, 55117\, United States
END:VEVENT
BEGIN:VEVENT
DTSTART;TZID=America/Chicago:20290904T190000
DTEND;TZID=America/Chicago:20290904T230000
DTSTAMP:20260424T163858
CREATED:20250217T045103Z
LAST-MODIFIED:20251114T182636Z
UID:10026095-1883242800-1883257200@soundminnesota.com
SUMMARY:The "Greatest Jam on Earth" Blues Jam at Blues Saloon
DESCRIPTION:With large dance floor for all
URL:https://soundminnesota.com/event/the-greatest-jam-on-earth-blues-jam-at-blues-saloon/2029-09-04/
LOCATION:Blues Saloon Saint Paul\, 1638 Rice St\, Saint Paul\, MN\, 55117\, United States
END:VEVENT
BEGIN:VEVENT
DTSTART;TZID=America/Chicago:20290911T190000
DTEND;TZID=America/Chicago:20290911T230000
DTSTAMP:20260424T163858
CREATED:20250217T045103Z
LAST-MODIFIED:20251114T182636Z
UID:10026096-1883847600-1883862000@soundminnesota.com
SUMMARY:The "Greatest Jam on Earth" Blues Jam at Blues Saloon
DESCRIPTION:With large dance floor for all
URL:https://soundminnesota.com/event/the-greatest-jam-on-earth-blues-jam-at-blues-saloon/2029-09-11/
LOCATION:Blues Saloon Saint Paul\, 1638 Rice St\, Saint Paul\, MN\, 55117\, United States
END:VEVENT
BEGIN:VEVENT
DTSTART;TZID=America/Chicago:20290918T190000
DTEND;TZID=America/Chicago:20290918T230000
DTSTAMP:20260424T163858
CREATED:20250217T045103Z
LAST-MODIFIED:20251114T182636Z
UID:10026097-1884452400-1884466800@soundminnesota.com
SUMMARY:The "Greatest Jam on Earth" Blues Jam at Blues Saloon
DESCRIPTION:With large dance floor for all
URL:https://soundminnesota.com/event/the-greatest-jam-on-earth-blues-jam-at-blues-saloon/2029-09-18/
LOCATION:Blues Saloon Saint Paul\, 1638 Rice St\, Saint Paul\, MN\, 55117\, United States
END:VEVENT
BEGIN:VEVENT
DTSTART;TZID=America/Chicago:20290925T190000
DTEND;TZID=America/Chicago:20290925T230000
DTSTAMP:20260424T163858
CREATED:20250217T045103Z
LAST-MODIFIED:20251114T182636Z
UID:10026098-1885057200-1885071600@soundminnesota.com
SUMMARY:The "Greatest Jam on Earth" Blues Jam at Blues Saloon
DESCRIPTION:With large dance floor for all
URL:https://soundminnesota.com/event/the-greatest-jam-on-earth-blues-jam-at-blues-saloon/2029-09-25/
LOCATION:Blues Saloon Saint Paul\, 1638 Rice St\, Saint Paul\, MN\, 55117\, United States
END:VEVENT
END:VCALENDAR