BEGIN:VCALENDAR
VERSION:2.0
PRODID:-//Minnesota based calendar of live music - ECPv6.15.20//NONSGML v1.0//EN
CALSCALE:GREGORIAN
METHOD:PUBLISH
X-ORIGINAL-URL:https://soundminnesota.com
X-WR-CALDESC:Events for Minnesota based calendar of live music
REFRESH-INTERVAL;VALUE=DURATION:PT1H
X-Robots-Tag:noindex
X-PUBLISHED-TTL:PT1H
BEGIN:VTIMEZONE
TZID:America/Chicago
BEGIN:DAYLIGHT
TZOFFSETFROM:-0600
TZOFFSETTO:-0500
TZNAME:CDT
DTSTART:20280312T080000
END:DAYLIGHT
BEGIN:STANDARD
TZOFFSETFROM:-0500
TZOFFSETTO:-0600
TZNAME:CST
DTSTART:20281105T070000
END:STANDARD
BEGIN:DAYLIGHT
TZOFFSETFROM:-0600
TZOFFSETTO:-0500
TZNAME:CDT
DTSTART:20290311T080000
END:DAYLIGHT
BEGIN:STANDARD
TZOFFSETFROM:-0500
TZOFFSETTO:-0600
TZNAME:CST
DTSTART:20291104T070000
END:STANDARD
BEGIN:DAYLIGHT
TZOFFSETFROM:-0600
TZOFFSETTO:-0500
TZNAME:CDT
DTSTART:20300310T080000
END:DAYLIGHT
BEGIN:STANDARD
TZOFFSETFROM:-0500
TZOFFSETTO:-0600
TZNAME:CST
DTSTART:20301103T070000
END:STANDARD
BEGIN:DAYLIGHT
TZOFFSETFROM:-0600
TZOFFSETTO:-0500
TZNAME:CDT
DTSTART:20310309T080000
END:DAYLIGHT
BEGIN:STANDARD
TZOFFSETFROM:-0500
TZOFFSETTO:-0600
TZNAME:CST
DTSTART:20311102T070000
END:STANDARD
END:VTIMEZONE
BEGIN:VEVENT
DTSTART;TZID=America/Chicago:20291002T190000
DTEND;TZID=America/Chicago:20291002T230000
DTSTAMP:20260424T180221
CREATED:20250217T045103Z
LAST-MODIFIED:20251114T182636Z
UID:10026099-1885662000-1885676400@soundminnesota.com
SUMMARY:The "Greatest Jam on Earth" Blues Jam at Blues Saloon
DESCRIPTION:With large dance floor for all
URL:https://soundminnesota.com/event/the-greatest-jam-on-earth-blues-jam-at-blues-saloon/2029-10-02/
LOCATION:Blues Saloon Saint Paul\, 1638 Rice St\, Saint Paul\, MN\, 55117\, United States
END:VEVENT
BEGIN:VEVENT
DTSTART;TZID=America/Chicago:20291009T190000
DTEND;TZID=America/Chicago:20291009T230000
DTSTAMP:20260424T180221
CREATED:20250217T045103Z
LAST-MODIFIED:20251114T182636Z
UID:10026100-1886266800-1886281200@soundminnesota.com
SUMMARY:The "Greatest Jam on Earth" Blues Jam at Blues Saloon
DESCRIPTION:With large dance floor for all
URL:https://soundminnesota.com/event/the-greatest-jam-on-earth-blues-jam-at-blues-saloon/2029-10-09/
LOCATION:Blues Saloon Saint Paul\, 1638 Rice St\, Saint Paul\, MN\, 55117\, United States
END:VEVENT
BEGIN:VEVENT
DTSTART;TZID=America/Chicago:20291016T190000
DTEND;TZID=America/Chicago:20291016T230000
DTSTAMP:20260424T180221
CREATED:20250217T045103Z
LAST-MODIFIED:20251114T182636Z
UID:10026101-1886871600-1886886000@soundminnesota.com
SUMMARY:The "Greatest Jam on Earth" Blues Jam at Blues Saloon
DESCRIPTION:With large dance floor for all
URL:https://soundminnesota.com/event/the-greatest-jam-on-earth-blues-jam-at-blues-saloon/2029-10-16/
LOCATION:Blues Saloon Saint Paul\, 1638 Rice St\, Saint Paul\, MN\, 55117\, United States
END:VEVENT
BEGIN:VEVENT
DTSTART;TZID=America/Chicago:20291023T190000
DTEND;TZID=America/Chicago:20291023T230000
DTSTAMP:20260424T180221
CREATED:20250217T045103Z
LAST-MODIFIED:20251114T182636Z
UID:10026102-1887476400-1887490800@soundminnesota.com
SUMMARY:The "Greatest Jam on Earth" Blues Jam at Blues Saloon
DESCRIPTION:With large dance floor for all
URL:https://soundminnesota.com/event/the-greatest-jam-on-earth-blues-jam-at-blues-saloon/2029-10-23/
LOCATION:Blues Saloon Saint Paul\, 1638 Rice St\, Saint Paul\, MN\, 55117\, United States
END:VEVENT
BEGIN:VEVENT
DTSTART;TZID=America/Chicago:20291030T190000
DTEND;TZID=America/Chicago:20291030T230000
DTSTAMP:20260424T180221
CREATED:20250217T045103Z
LAST-MODIFIED:20251114T182636Z
UID:10026103-1888081200-1888095600@soundminnesota.com
SUMMARY:The "Greatest Jam on Earth" Blues Jam at Blues Saloon
DESCRIPTION:With large dance floor for all
URL:https://soundminnesota.com/event/the-greatest-jam-on-earth-blues-jam-at-blues-saloon/2029-10-30/
LOCATION:Blues Saloon Saint Paul\, 1638 Rice St\, Saint Paul\, MN\, 55117\, United States
END:VEVENT
BEGIN:VEVENT
DTSTART;TZID=America/Chicago:20291106T190000
DTEND;TZID=America/Chicago:20291106T230000
DTSTAMP:20260424T180221
CREATED:20250217T045103Z
LAST-MODIFIED:20251114T182636Z
UID:10026104-1888686000-1888700400@soundminnesota.com
SUMMARY:The "Greatest Jam on Earth" Blues Jam at Blues Saloon
DESCRIPTION:With large dance floor for all
URL:https://soundminnesota.com/event/the-greatest-jam-on-earth-blues-jam-at-blues-saloon/2029-11-06/
LOCATION:Blues Saloon Saint Paul\, 1638 Rice St\, Saint Paul\, MN\, 55117\, United States
END:VEVENT
BEGIN:VEVENT
DTSTART;TZID=America/Chicago:20291113T190000
DTEND;TZID=America/Chicago:20291113T230000
DTSTAMP:20260424T180221
CREATED:20250217T045103Z
LAST-MODIFIED:20251114T182636Z
UID:10026105-1889290800-1889305200@soundminnesota.com
SUMMARY:The "Greatest Jam on Earth" Blues Jam at Blues Saloon
DESCRIPTION:With large dance floor for all
URL:https://soundminnesota.com/event/the-greatest-jam-on-earth-blues-jam-at-blues-saloon/2029-11-13/
LOCATION:Blues Saloon Saint Paul\, 1638 Rice St\, Saint Paul\, MN\, 55117\, United States
END:VEVENT
BEGIN:VEVENT
DTSTART;TZID=America/Chicago:20291120T190000
DTEND;TZID=America/Chicago:20291120T230000
DTSTAMP:20260424T180221
CREATED:20250217T045103Z
LAST-MODIFIED:20251114T182636Z
UID:10026106-1889895600-1889910000@soundminnesota.com
SUMMARY:The "Greatest Jam on Earth" Blues Jam at Blues Saloon
DESCRIPTION:With large dance floor for all
URL:https://soundminnesota.com/event/the-greatest-jam-on-earth-blues-jam-at-blues-saloon/2029-11-20/
LOCATION:Blues Saloon Saint Paul\, 1638 Rice St\, Saint Paul\, MN\, 55117\, United States
END:VEVENT
BEGIN:VEVENT
DTSTART;TZID=America/Chicago:20291127T190000
DTEND;TZID=America/Chicago:20291127T230000
DTSTAMP:20260424T180221
CREATED:20250217T045103Z
LAST-MODIFIED:20251114T182636Z
UID:10026107-1890500400-1890514800@soundminnesota.com
SUMMARY:The "Greatest Jam on Earth" Blues Jam at Blues Saloon
DESCRIPTION:With large dance floor for all
URL:https://soundminnesota.com/event/the-greatest-jam-on-earth-blues-jam-at-blues-saloon/2029-11-27/
LOCATION:Blues Saloon Saint Paul\, 1638 Rice St\, Saint Paul\, MN\, 55117\, United States
END:VEVENT
BEGIN:VEVENT
DTSTART;TZID=America/Chicago:20291204T190000
DTEND;TZID=America/Chicago:20291204T230000
DTSTAMP:20260424T180221
CREATED:20250217T045103Z
LAST-MODIFIED:20251114T182636Z
UID:10026108-1891105200-1891119600@soundminnesota.com
SUMMARY:The "Greatest Jam on Earth" Blues Jam at Blues Saloon
DESCRIPTION:With large dance floor for all
URL:https://soundminnesota.com/event/the-greatest-jam-on-earth-blues-jam-at-blues-saloon/2029-12-04/
LOCATION:Blues Saloon Saint Paul\, 1638 Rice St\, Saint Paul\, MN\, 55117\, United States
END:VEVENT
BEGIN:VEVENT
DTSTART;TZID=America/Chicago:20291211T190000
DTEND;TZID=America/Chicago:20291211T230000
DTSTAMP:20260424T180221
CREATED:20250217T045103Z
LAST-MODIFIED:20251114T182636Z
UID:10026109-1891710000-1891724400@soundminnesota.com
SUMMARY:The "Greatest Jam on Earth" Blues Jam at Blues Saloon
DESCRIPTION:With large dance floor for all
URL:https://soundminnesota.com/event/the-greatest-jam-on-earth-blues-jam-at-blues-saloon/2029-12-11/
LOCATION:Blues Saloon Saint Paul\, 1638 Rice St\, Saint Paul\, MN\, 55117\, United States
END:VEVENT
BEGIN:VEVENT
DTSTART;TZID=America/Chicago:20291218T190000
DTEND;TZID=America/Chicago:20291218T230000
DTSTAMP:20260424T180221
CREATED:20250217T045103Z
LAST-MODIFIED:20251114T182636Z
UID:10026110-1892314800-1892329200@soundminnesota.com
SUMMARY:The "Greatest Jam on Earth" Blues Jam at Blues Saloon
DESCRIPTION:With large dance floor for all
URL:https://soundminnesota.com/event/the-greatest-jam-on-earth-blues-jam-at-blues-saloon/2029-12-18/
LOCATION:Blues Saloon Saint Paul\, 1638 Rice St\, Saint Paul\, MN\, 55117\, United States
END:VEVENT
BEGIN:VEVENT
DTSTART;TZID=America/Chicago:20291225T190000
DTEND;TZID=America/Chicago:20291225T230000
DTSTAMP:20260424T180221
CREATED:20250217T045103Z
LAST-MODIFIED:20251114T182636Z
UID:10026111-1892919600-1892934000@soundminnesota.com
SUMMARY:The "Greatest Jam on Earth" Blues Jam at Blues Saloon
DESCRIPTION:With large dance floor for all
URL:https://soundminnesota.com/event/the-greatest-jam-on-earth-blues-jam-at-blues-saloon/2029-12-25/
LOCATION:Blues Saloon Saint Paul\, 1638 Rice St\, Saint Paul\, MN\, 55117\, United States
END:VEVENT
BEGIN:VEVENT
DTSTART;TZID=America/Chicago:20300101T190000
DTEND;TZID=America/Chicago:20300101T230000
DTSTAMP:20260424T180221
CREATED:20250217T045103Z
LAST-MODIFIED:20251114T182636Z
UID:10026112-1893524400-1893538800@soundminnesota.com
SUMMARY:The "Greatest Jam on Earth" Blues Jam at Blues Saloon
DESCRIPTION:With large dance floor for all
URL:https://soundminnesota.com/event/the-greatest-jam-on-earth-blues-jam-at-blues-saloon/2030-01-01/
LOCATION:Blues Saloon Saint Paul\, 1638 Rice St\, Saint Paul\, MN\, 55117\, United States
END:VEVENT
BEGIN:VEVENT
DTSTART;TZID=America/Chicago:20300108T190000
DTEND;TZID=America/Chicago:20300108T230000
DTSTAMP:20260424T180221
CREATED:20250217T045103Z
LAST-MODIFIED:20251114T182636Z
UID:10026113-1894129200-1894143600@soundminnesota.com
SUMMARY:The "Greatest Jam on Earth" Blues Jam at Blues Saloon
DESCRIPTION:With large dance floor for all
URL:https://soundminnesota.com/event/the-greatest-jam-on-earth-blues-jam-at-blues-saloon/2030-01-08/
LOCATION:Blues Saloon Saint Paul\, 1638 Rice St\, Saint Paul\, MN\, 55117\, United States
END:VEVENT
BEGIN:VEVENT
DTSTART;TZID=America/Chicago:20300115T190000
DTEND;TZID=America/Chicago:20300115T230000
DTSTAMP:20260424T180221
CREATED:20250217T045103Z
LAST-MODIFIED:20251114T182636Z
UID:10026114-1894734000-1894748400@soundminnesota.com
SUMMARY:The "Greatest Jam on Earth" Blues Jam at Blues Saloon
DESCRIPTION:With large dance floor for all
URL:https://soundminnesota.com/event/the-greatest-jam-on-earth-blues-jam-at-blues-saloon/2030-01-15/
LOCATION:Blues Saloon Saint Paul\, 1638 Rice St\, Saint Paul\, MN\, 55117\, United States
END:VEVENT
BEGIN:VEVENT
DTSTART;TZID=America/Chicago:20300122T190000
DTEND;TZID=America/Chicago:20300122T230000
DTSTAMP:20260424T180221
CREATED:20250217T045103Z
LAST-MODIFIED:20251114T182636Z
UID:10026115-1895338800-1895353200@soundminnesota.com
SUMMARY:The "Greatest Jam on Earth" Blues Jam at Blues Saloon
DESCRIPTION:With large dance floor for all
URL:https://soundminnesota.com/event/the-greatest-jam-on-earth-blues-jam-at-blues-saloon/2030-01-22/
LOCATION:Blues Saloon Saint Paul\, 1638 Rice St\, Saint Paul\, MN\, 55117\, United States
END:VEVENT
BEGIN:VEVENT
DTSTART;TZID=America/Chicago:20300129T190000
DTEND;TZID=America/Chicago:20300129T230000
DTSTAMP:20260424T180221
CREATED:20250217T045103Z
LAST-MODIFIED:20251114T182636Z
UID:10026116-1895943600-1895958000@soundminnesota.com
SUMMARY:The "Greatest Jam on Earth" Blues Jam at Blues Saloon
DESCRIPTION:With large dance floor for all
URL:https://soundminnesota.com/event/the-greatest-jam-on-earth-blues-jam-at-blues-saloon/2030-01-29/
LOCATION:Blues Saloon Saint Paul\, 1638 Rice St\, Saint Paul\, MN\, 55117\, United States
END:VEVENT
BEGIN:VEVENT
DTSTART;TZID=America/Chicago:20300205T190000
DTEND;TZID=America/Chicago:20300205T230000
DTSTAMP:20260424T180221
CREATED:20250217T045103Z
LAST-MODIFIED:20251114T182636Z
UID:10026117-1896548400-1896562800@soundminnesota.com
SUMMARY:The "Greatest Jam on Earth" Blues Jam at Blues Saloon
DESCRIPTION:With large dance floor for all
URL:https://soundminnesota.com/event/the-greatest-jam-on-earth-blues-jam-at-blues-saloon/2030-02-05/
LOCATION:Blues Saloon Saint Paul\, 1638 Rice St\, Saint Paul\, MN\, 55117\, United States
END:VEVENT
BEGIN:VEVENT
DTSTART;TZID=America/Chicago:20300212T190000
DTEND;TZID=America/Chicago:20300212T230000
DTSTAMP:20260424T180221
CREATED:20250217T045103Z
LAST-MODIFIED:20251114T182636Z
UID:10026118-1897153200-1897167600@soundminnesota.com
SUMMARY:The "Greatest Jam on Earth" Blues Jam at Blues Saloon
DESCRIPTION:With large dance floor for all
URL:https://soundminnesota.com/event/the-greatest-jam-on-earth-blues-jam-at-blues-saloon/2030-02-12/
LOCATION:Blues Saloon Saint Paul\, 1638 Rice St\, Saint Paul\, MN\, 55117\, United States
END:VEVENT
BEGIN:VEVENT
DTSTART;TZID=America/Chicago:20300219T190000
DTEND;TZID=America/Chicago:20300219T230000
DTSTAMP:20260424T180221
CREATED:20250217T045103Z
LAST-MODIFIED:20251114T182636Z
UID:10028572-1897758000-1897772400@soundminnesota.com
SUMMARY:The "Greatest Jam on Earth" Blues Jam at Blues Saloon
DESCRIPTION:With large dance floor for all
URL:https://soundminnesota.com/event/the-greatest-jam-on-earth-blues-jam-at-blues-saloon/2030-02-19/
LOCATION:Blues Saloon Saint Paul\, 1638 Rice St\, Saint Paul\, MN\, 55117\, United States
END:VEVENT
BEGIN:VEVENT
DTSTART;TZID=America/Chicago:20300226T190000
DTEND;TZID=America/Chicago:20300226T230000
DTSTAMP:20260424T180221
CREATED:20250217T045103Z
LAST-MODIFIED:20251114T182636Z
UID:10028573-1898362800-1898377200@soundminnesota.com
SUMMARY:The "Greatest Jam on Earth" Blues Jam at Blues Saloon
DESCRIPTION:With large dance floor for all
URL:https://soundminnesota.com/event/the-greatest-jam-on-earth-blues-jam-at-blues-saloon/2030-02-26/
LOCATION:Blues Saloon Saint Paul\, 1638 Rice St\, Saint Paul\, MN\, 55117\, United States
END:VEVENT
BEGIN:VEVENT
DTSTART;TZID=America/Chicago:20300305T190000
DTEND;TZID=America/Chicago:20300305T230000
DTSTAMP:20260424T180221
CREATED:20250217T045103Z
LAST-MODIFIED:20251114T182636Z
UID:10028574-1898967600-1898982000@soundminnesota.com
SUMMARY:The "Greatest Jam on Earth" Blues Jam at Blues Saloon
DESCRIPTION:With large dance floor for all
URL:https://soundminnesota.com/event/the-greatest-jam-on-earth-blues-jam-at-blues-saloon/2030-03-05/
LOCATION:Blues Saloon Saint Paul\, 1638 Rice St\, Saint Paul\, MN\, 55117\, United States
END:VEVENT
BEGIN:VEVENT
DTSTART;TZID=America/Chicago:20300312T190000
DTEND;TZID=America/Chicago:20300312T230000
DTSTAMP:20260424T180221
CREATED:20250217T045103Z
LAST-MODIFIED:20251114T182636Z
UID:10028575-1899572400-1899586800@soundminnesota.com
SUMMARY:The "Greatest Jam on Earth" Blues Jam at Blues Saloon
DESCRIPTION:With large dance floor for all
URL:https://soundminnesota.com/event/the-greatest-jam-on-earth-blues-jam-at-blues-saloon/2030-03-12/
LOCATION:Blues Saloon Saint Paul\, 1638 Rice St\, Saint Paul\, MN\, 55117\, United States
END:VEVENT
BEGIN:VEVENT
DTSTART;TZID=America/Chicago:20300319T190000
DTEND;TZID=America/Chicago:20300319T230000
DTSTAMP:20260424T180221
CREATED:20250217T045103Z
LAST-MODIFIED:20251114T182636Z
UID:10028576-1900177200-1900191600@soundminnesota.com
SUMMARY:The "Greatest Jam on Earth" Blues Jam at Blues Saloon
DESCRIPTION:With large dance floor for all
URL:https://soundminnesota.com/event/the-greatest-jam-on-earth-blues-jam-at-blues-saloon/2030-03-19/
LOCATION:Blues Saloon Saint Paul\, 1638 Rice St\, Saint Paul\, MN\, 55117\, United States
END:VEVENT
BEGIN:VEVENT
DTSTART;TZID=America/Chicago:20300326T190000
DTEND;TZID=America/Chicago:20300326T230000
DTSTAMP:20260424T180221
CREATED:20250217T045103Z
LAST-MODIFIED:20251114T182636Z
UID:10028577-1900782000-1900796400@soundminnesota.com
SUMMARY:The "Greatest Jam on Earth" Blues Jam at Blues Saloon
DESCRIPTION:With large dance floor for all
URL:https://soundminnesota.com/event/the-greatest-jam-on-earth-blues-jam-at-blues-saloon/2030-03-26/
LOCATION:Blues Saloon Saint Paul\, 1638 Rice St\, Saint Paul\, MN\, 55117\, United States
END:VEVENT
BEGIN:VEVENT
DTSTART;TZID=America/Chicago:20300402T190000
DTEND;TZID=America/Chicago:20300402T230000
DTSTAMP:20260424T180221
CREATED:20250217T045103Z
LAST-MODIFIED:20251114T182636Z
UID:10028578-1901386800-1901401200@soundminnesota.com
SUMMARY:The "Greatest Jam on Earth" Blues Jam at Blues Saloon
DESCRIPTION:With large dance floor for all
URL:https://soundminnesota.com/event/the-greatest-jam-on-earth-blues-jam-at-blues-saloon/2030-04-02/
LOCATION:Blues Saloon Saint Paul\, 1638 Rice St\, Saint Paul\, MN\, 55117\, United States
END:VEVENT
BEGIN:VEVENT
DTSTART;TZID=America/Chicago:20300409T190000
DTEND;TZID=America/Chicago:20300409T230000
DTSTAMP:20260424T180221
CREATED:20250217T045103Z
LAST-MODIFIED:20251114T182636Z
UID:10028579-1901991600-1902006000@soundminnesota.com
SUMMARY:The "Greatest Jam on Earth" Blues Jam at Blues Saloon
DESCRIPTION:With large dance floor for all
URL:https://soundminnesota.com/event/the-greatest-jam-on-earth-blues-jam-at-blues-saloon/2030-04-09/
LOCATION:Blues Saloon Saint Paul\, 1638 Rice St\, Saint Paul\, MN\, 55117\, United States
END:VEVENT
BEGIN:VEVENT
DTSTART;TZID=America/Chicago:20300416T190000
DTEND;TZID=America/Chicago:20300416T230000
DTSTAMP:20260424T180221
CREATED:20250217T045103Z
LAST-MODIFIED:20251114T182636Z
UID:10028580-1902596400-1902610800@soundminnesota.com
SUMMARY:The "Greatest Jam on Earth" Blues Jam at Blues Saloon
DESCRIPTION:With large dance floor for all
URL:https://soundminnesota.com/event/the-greatest-jam-on-earth-blues-jam-at-blues-saloon/2030-04-16/
LOCATION:Blues Saloon Saint Paul\, 1638 Rice St\, Saint Paul\, MN\, 55117\, United States
END:VEVENT
BEGIN:VEVENT
DTSTART;TZID=America/Chicago:20300423T190000
DTEND;TZID=America/Chicago:20300423T230000
DTSTAMP:20260424T180221
CREATED:20250217T045103Z
LAST-MODIFIED:20251114T182636Z
UID:10028581-1903201200-1903215600@soundminnesota.com
SUMMARY:The "Greatest Jam on Earth" Blues Jam at Blues Saloon
DESCRIPTION:With large dance floor for all
URL:https://soundminnesota.com/event/the-greatest-jam-on-earth-blues-jam-at-blues-saloon/2030-04-23/
LOCATION:Blues Saloon Saint Paul\, 1638 Rice St\, Saint Paul\, MN\, 55117\, United States
END:VEVENT
END:VCALENDAR