BEGIN:VCALENDAR
VERSION:2.0
PRODID:-//Minnesota based calendar of live music - ECPv6.15.20//NONSGML v1.0//EN
CALSCALE:GREGORIAN
METHOD:PUBLISH
X-ORIGINAL-URL:https://soundminnesota.com
X-WR-CALDESC:Events for Minnesota based calendar of live music
REFRESH-INTERVAL;VALUE=DURATION:PT1H
X-Robots-Tag:noindex
X-PUBLISHED-TTL:PT1H
BEGIN:VTIMEZONE
TZID:America/Chicago
BEGIN:DAYLIGHT
TZOFFSETFROM:-0600
TZOFFSETTO:-0500
TZNAME:CDT
DTSTART:20250309T080000
END:DAYLIGHT
BEGIN:STANDARD
TZOFFSETFROM:-0500
TZOFFSETTO:-0600
TZNAME:CST
DTSTART:20251102T070000
END:STANDARD
BEGIN:DAYLIGHT
TZOFFSETFROM:-0600
TZOFFSETTO:-0500
TZNAME:CDT
DTSTART:20260308T080000
END:DAYLIGHT
BEGIN:STANDARD
TZOFFSETFROM:-0500
TZOFFSETTO:-0600
TZNAME:CST
DTSTART:20261101T070000
END:STANDARD
BEGIN:DAYLIGHT
TZOFFSETFROM:-0600
TZOFFSETTO:-0500
TZNAME:CDT
DTSTART:20270314T080000
END:DAYLIGHT
BEGIN:STANDARD
TZOFFSETFROM:-0500
TZOFFSETTO:-0600
TZNAME:CST
DTSTART:20271107T070000
END:STANDARD
END:VTIMEZONE
BEGIN:VEVENT
DTSTART;TZID=America/Chicago:20260425T170000
DTEND;TZID=America/Chicago:20260425T190000
DTSTAMP:20260425T061525
CREATED:20260414T231426Z
LAST-MODIFIED:20260424T232951Z
UID:10042460-1777136400-1777143600@soundminnesota.com
SUMMARY:Anya Menk and Ted Godbout at Crooners
DESCRIPTION:No cover. Bar and table seating offered – NO RESERVATIONS.\n\n\nAnya Menk: Vocals  \nTed Godbout: Piano \nMaggie’s Piano Lounge is a warm\, relaxed and inviting space featuring a variety of seasoned singers and piano players. No cover. Order all of your favorite Crooners drinks and dinner items\, experience superb service\, and enjoy the great music!
URL:https://soundminnesota.com/event/anya-menk-and-ted-godbout/
LOCATION:The Crooners Suppler Club – Maggie’s Piano Lounge\, 6161 Highway 65 NE\, Minneapolis\, MN\, 55432
CATEGORIES:Live Music
ATTACH;FMTTYPE=image/jpeg:https://soundminnesota.com/wp-content/uploads/2025/11/8aaa177f9e60a60ecd0eb907d71d6df4-pLFPMf.jpg
END:VEVENT
END:VCALENDAR