BEGIN:VCALENDAR
VERSION:2.0
PRODID:-//Minnesota based calendar of live music - ECPv6.15.20//NONSGML v1.0//EN
CALSCALE:GREGORIAN
METHOD:PUBLISH
X-ORIGINAL-URL:https://soundminnesota.com
X-WR-CALDESC:Events for Minnesota based calendar of live music
REFRESH-INTERVAL;VALUE=DURATION:PT1H
X-Robots-Tag:noindex
X-PUBLISHED-TTL:PT1H
BEGIN:VTIMEZONE
TZID:America/Chicago
BEGIN:DAYLIGHT
TZOFFSETFROM:-0600
TZOFFSETTO:-0500
TZNAME:CDT
DTSTART:20250309T080000
END:DAYLIGHT
BEGIN:STANDARD
TZOFFSETFROM:-0500
TZOFFSETTO:-0600
TZNAME:CST
DTSTART:20251102T070000
END:STANDARD
BEGIN:DAYLIGHT
TZOFFSETFROM:-0600
TZOFFSETTO:-0500
TZNAME:CDT
DTSTART:20260308T080000
END:DAYLIGHT
BEGIN:STANDARD
TZOFFSETFROM:-0500
TZOFFSETTO:-0600
TZNAME:CST
DTSTART:20261101T070000
END:STANDARD
BEGIN:DAYLIGHT
TZOFFSETFROM:-0600
TZOFFSETTO:-0500
TZNAME:CDT
DTSTART:20270314T080000
END:DAYLIGHT
BEGIN:STANDARD
TZOFFSETFROM:-0500
TZOFFSETTO:-0600
TZNAME:CST
DTSTART:20271107T070000
END:STANDARD
END:VTIMEZONE
BEGIN:VEVENT
DTSTART;TZID=America/Chicago:20260411T180000
DTEND;TZID=America/Chicago:20260411T193000
DTSTAMP:20260424T035249
CREATED:20260329T012053Z
LAST-MODIFIED:20260403T220243Z
UID:10042118-1775930400-1775935800@soundminnesota.com
SUMMARY:Cole Diamond’s Tribute to 90’s Country at Crooners
DESCRIPTION:Doors open at 5:00 PM for Dinner and Drink Service.\n\n\nAn Evening of Country\, Honky Tonk\, Americana\nJoin Cole Diamond and his band as they take you on a guided tour of 90’s country classics. You can expect to hear music by the decades biggest stars\, such as Alan Jackson\, Brooks & Dunn\, Dwight Yoakam\, Garth Brooks and many more. You might even here a few of Cole’s original numbers. \nCole Diamond: Vocals\, Rhythm Guitar \nDan Lowinger: Lead Guitar \nJosh Braun: Pedal Steel \nSean Hoffman: Bass Guitar \nAndrew Bartelson: Drums \nCole Diamond is a dynamic five-piece country band based in Minneapolis\, MN. For years audiences have enjoyed the honky-tonk attitude they bring to every performance. Whether it’s a line dance\, two-step\, or a good old-fashioned shuffle\, Cole Diamond delivers the perfect soundtrack for a night out. \n“I challenge you to find a purer strain on Honky Tonk in the Twin Cities” Carol Roth\, Adventures in Americana\ncolediamondmusic.com
URL:https://soundminnesota.com/event/cole-diamonds-tribute-to-90s-country/
LOCATION:Crooners Supper Club – The Dunsmore Jazz Room\, 6161 State Hwy 65\, Fridley\, MN\, 55432\, United States
CATEGORIES:Live Music
ATTACH;FMTTYPE=image/jpeg:https://soundminnesota.com/wp-content/uploads/2026/03/367112ee5cfb1c3b74105e9025164572-scaled-j67Vly-e1774809081768.jpg
GEO:45.080014;-93.243633
X-APPLE-STRUCTURED-LOCATION;VALUE=URI;X-ADDRESS=Crooners Supper Club – The Dunsmore Jazz Room 6161 State Hwy 65 Fridley MN 55432 United States;X-APPLE-RADIUS=500;X-TITLE=6161 State Hwy 65:geo:-93.243633,45.080014
END:VEVENT
BEGIN:VEVENT
DTSTART;TZID=America/Chicago:20260410T180000
DTEND;TZID=America/Chicago:20260410T193000
DTSTAMP:20260424T035249
CREATED:20260329T012036Z
LAST-MODIFIED:20260409T222143Z
UID:10042116-1775844000-1775849400@soundminnesota.com
SUMMARY:YEARBOOK: Class of ’69 • Great Songs from 1965-1969 at Crooners
DESCRIPTION:Doors open at 5:00 PM for Dinner and Drink Service.\n\n\nA Feel-Good Evening of Musical Nostalgia and Fun!\nDo you remember Woodstock? Neither do we! But we all know and love the great music that got us there. The mid to late sixties produced a mind-blowing variety of fantastic songs. Including hits by The Rascals\, Joe Cocker\, Herb Alpert\, Petula Clark\, Simon and Garfunkel\, The Doors\, Harry Nilsson\, The Turtles\, Sergio Mendez\, and more. There were some great Movie and TV songs too! Yearbook Class of ’69: Great Songs from 1965-1969 is an absolute musical treat! You will love this fun and sentimental show. Get ready to sing along!Jay Fuchs: Piano\, VocalsAndy LaCasse: Guitar\, VocalsDane Stauffer: Vocals \nJay Fuchs is a renowned entertainer\, music director\, and music educator. For 25 years he has been the musical partner of Erin Schwab\, the “Bette Midler of the Twin Cites”. Jay has served as music director for the Governor’s Inauguration Ball\, the annual Basilica of Saint Mary Fund Raiser\, and many more. For 27 years he was the Music Theory Department Head at McNally Smith College of Music. \nAndy LaCasse is a multi-instrumentalist\, singer\, songwriter and arranger. For over 30 years\, he has been a favorite studio session player and live performance band member in all areas of the Twin Cities music scene. \nDane Stauffer is familiar to Twin Cities audiences as Roger in the Ivey Award winning “Glensheen”. Among many other starring roles\, he played Scrooge in “Dolly Parton’s Smokey Mountain Christmas Carol” at the Ordway. Dane is also a very popular cabaret entertainer.
URL:https://soundminnesota.com/event/yearbook-class-of-69-great-songs-from-1965-1969/
LOCATION:Crooners Supper Club – The Dunsmore Jazz Room\, 6161 State Hwy 65\, Fridley\, MN\, 55432\, United States
CATEGORIES:Live Music
GEO:45.080014;-93.243633
X-APPLE-STRUCTURED-LOCATION;VALUE=URI;X-ADDRESS=Crooners Supper Club – The Dunsmore Jazz Room 6161 State Hwy 65 Fridley MN 55432 United States;X-APPLE-RADIUS=500;X-TITLE=6161 State Hwy 65:geo:-93.243633,45.080014
END:VEVENT
BEGIN:VEVENT
DTSTART;TZID=America/Chicago:20260408T190000
DTEND;TZID=America/Chicago:20260408T203000
DTSTAMP:20260424T035249
CREATED:20260329T012028Z
LAST-MODIFIED:20260408T204213Z
UID:10042113-1775674800-1775680200@soundminnesota.com
SUMMARY:Ahmed & the Creators – Ahmed’s 91st Birthday Performance at Crooners
DESCRIPTION:Doors open at 6:00 PM for Dinner and Drink Service.\n\n\nJazz Standards you Know and Love!\nAhmed Abdulkarim and The Creators bring an unforgettable evening of world-class jazz in celebration of Ahmed’s 91st birthday. A master of the trumpet\, Ahmed’s sound reflects the rich traditions of legends like Miles Davis and Dizzy Gillespie\, blending soulful improvisation with timeless classics such as “Autumn Leaves” and “Blue Monk.” Joined by an exceptional ensemble featuring Omar Abdulkarim\, Kevin Washington\, Kavyesh Kaviraj\, and Dan Carpel\, the group delivers a dynamic performance full of energy\, elegance\, and musical storytelling. This special night at Crooners Supper Club honors a lifetime of artistry while inviting audiences to experience the enduring power of jazz. \nFeaturing the artistry of… \nAhmed Abdulkarim: TrumpetAhmed Abdulkarim is a veteran jazz trumpeter and respected figure in the Minneapolis jazz community\, known for a lifetime of performance and mentorship. He has helped shape generations of musicians\, including his son Omar Abdulkarim\, and continues to perform with a sound rooted in traditional jazz and deep musical experience. \nOmar Abdulkarim: TrumpetOmar Abdulkarim is an internationally recognized trumpeter who has performed at major venues such as the Blue Note\, Birdland\, and festivals across Europe and the Caribbean. A Minneapolis native\, he has built a global reputation for his expressive playing and original compositions\, collaborating with artists across genres and touring worldwide. \nKevin Washington: DrumsKevin Washington is a highly respected drummer in the Twin Cities jazz scene\, known for his versatility and dynamic rhythmic style. He has performed extensively with leading local artists and ensembles\, contributing to both live performances and collaborative recording projects throughout the region. \nKavyesh Kaviraj: PianoKavyesh Kaviraj is a celebrated pianist and composer recognized for blending jazz with diverse global influences\, including Indian musical traditions. As a bandleader and collaborator\, he has released original music such as his acclaimed project Fables and continues to develop innovative work alongside artists like Omar Abdulkarim. \nDan Carpel: BassDan Carpel is an accomplished bassist active in the Minneapolis jazz community\, performing regularly with top regional musicians in both small ensembles and larger groups. Known for his strong musical foundation and supportive style\, he contributes to a wide range of live performances and collaborative jazz projects.
URL:https://soundminnesota.com/event/ahmed-the-creators-ahmeds-91st-birthday-performance/
LOCATION:Crooners Supper Club – The Dunsmore Jazz Room\, 6161 State Hwy 65\, Fridley\, MN\, 55432\, United States
CATEGORIES:Live Music
ATTACH;FMTTYPE=image/jpeg:https://soundminnesota.com/wp-content/uploads/2026/03/e7a16a6e5773a14968214aa1709a7259-oK8Ljq.jpg
GEO:45.080014;-93.243633
X-APPLE-STRUCTURED-LOCATION;VALUE=URI;X-ADDRESS=Crooners Supper Club – The Dunsmore Jazz Room 6161 State Hwy 65 Fridley MN 55432 United States;X-APPLE-RADIUS=500;X-TITLE=6161 State Hwy 65:geo:-93.243633,45.080014
END:VEVENT
BEGIN:VEVENT
DTSTART;TZID=America/Chicago:20260401T180000
DTEND;TZID=America/Chicago:20260401T193000
DTSTAMP:20260424T035249
CREATED:20260329T011957Z
LAST-MODIFIED:20260402T023342Z
UID:10042104-1775066400-1775071800@soundminnesota.com
SUMMARY:The Pianist Knows Best with Jearlyn Steele & Fred Steele at Crooners Dunsmore
DESCRIPTION:Doors open at 5:00 PM for Dinner and Drink Service.\n\n\nA Soulful Celebration to Life\nSingers are often accompanied by a pianist who may sometimes dread the inevitable set list of songs he may tire of playing. But what if we flip the script and give the pianist the power to decide hee fate; what will he have her sing and when will he have her sing it. Yes\, she can and will protest but to no avail. Come laugh and sing along to whatever songs he chooses; no rehearsals\, just songs they have performed together over the decades. This show promises to deliver and uplift. The pianist will challenge and support Jearlyn through the labyrinth. Don’t miss this show! \nJearlyn Steele: Vocals \nFred Steele: Piano \nJearlyn is a member of the internationally acclaimed family\, The Steeles\, who have performed from Carnegie Hall to Brazil and to the Super Bowl Live Verizon stage in 2018. For more than a decade\, she has been the Entertainment Reporter for Twin Cities Public Television’s award-winning political show Almanac interviewing local\, national and international acts. As a keynote speaker\, facilitator and emcee\, Jearlyn has inspired audiences around the country and the Caribbean. Maintaining her four-hour Sunday night radio show called Steele Talkn’ on WCCO Radio 830AM\, has been a joy for two decades. Developing and delivering her TedX Talk in 2016 offered a revisit of her Personal Value Statement\, which has emboldened her as a woman\, mother\, entertainer and student. \nMusically\, she has performed with the Minnesota Orchestra\, the Baltimore Symphony Orchestra\, Prince\, Mavis Staples and more. She was a frequent special guest on the national radio broadcast A Prairie Home Companion performing duets with music greats Carole King and Elvis Costello. Her vocal talents landed her a feature in the Robert Altman film\, A Prairie Home Companion starring Meryl Streep\, Lily Tomlin\, Woody Harrelson\, Tommy Lee Jones and Garrison Keillor. \nFred Steele is a MN Hall of Famer with his iconic family The Steeles\, and has worked with Prince\, George Clinton\, Mavis Staples\, and a lot more. He’s performed on Broadway in NY\, Carneghie Hall\, The Guthrie\, and most major theatres across the US and a lot of Europe. He is also recognized as an Educator and spreads the good news of music throughout. \nwww.jearlyn-steele.com\nwww.thesteelesmusic.com
URL:https://soundminnesota.com/event/the-pianist-knows-best-with-jearlyn-steele-fred-steele/
LOCATION:Crooners Supper Club – The Dunsmore Jazz Room\, 6161 State Hwy 65\, Fridley\, MN\, 55432\, United States
CATEGORIES:Live Music
ATTACH;FMTTYPE=image/jpeg:https://soundminnesota.com/wp-content/uploads/2026/03/29344c382673728bbb7b7ef07146c458-fXkU9r.jpg
GEO:45.080014;-93.243633
X-APPLE-STRUCTURED-LOCATION;VALUE=URI;X-ADDRESS=Crooners Supper Club – The Dunsmore Jazz Room 6161 State Hwy 65 Fridley MN 55432 United States;X-APPLE-RADIUS=500;X-TITLE=6161 State Hwy 65:geo:-93.243633,45.080014
END:VEVENT
END:VCALENDAR