BEGIN:VCALENDAR
VERSION:2.0
PRODID:-//Minnesota based calendar of live music - ECPv6.15.20//NONSGML v1.0//EN
CALSCALE:GREGORIAN
METHOD:PUBLISH
X-WR-CALNAME:Minnesota based calendar of live music
X-ORIGINAL-URL:https://soundminnesota.com
X-WR-CALDESC:Events for Minnesota based calendar of live music
REFRESH-INTERVAL;VALUE=DURATION:PT1H
X-Robots-Tag:noindex
X-PUBLISHED-TTL:PT1H
BEGIN:VTIMEZONE
TZID:America/Chicago
BEGIN:DAYLIGHT
TZOFFSETFROM:-0600
TZOFFSETTO:-0500
TZNAME:CDT
DTSTART:20250309T080000
END:DAYLIGHT
BEGIN:STANDARD
TZOFFSETFROM:-0500
TZOFFSETTO:-0600
TZNAME:CST
DTSTART:20251102T070000
END:STANDARD
BEGIN:DAYLIGHT
TZOFFSETFROM:-0600
TZOFFSETTO:-0500
TZNAME:CDT
DTSTART:20260308T080000
END:DAYLIGHT
BEGIN:STANDARD
TZOFFSETFROM:-0500
TZOFFSETTO:-0600
TZNAME:CST
DTSTART:20261101T070000
END:STANDARD
BEGIN:DAYLIGHT
TZOFFSETFROM:-0600
TZOFFSETTO:-0500
TZNAME:CDT
DTSTART:20270314T080000
END:DAYLIGHT
BEGIN:STANDARD
TZOFFSETFROM:-0500
TZOFFSETTO:-0600
TZNAME:CST
DTSTART:20271107T070000
END:STANDARD
END:VTIMEZONE
BEGIN:VEVENT
DTSTART;TZID=America/Chicago:20260424T190000
DTEND;TZID=America/Chicago:20260424T203000
DTSTAMP:20260424T015617
CREATED:20260414T231420Z
LAST-MODIFIED:20260423T232857Z
UID:10042459-1777057200-1777062600@soundminnesota.com
SUMMARY:The Riffin’ Trio Presents: The Music of Fallout at Crooners
DESCRIPTION:Doors open for Drink and Dinner service at 6:00 PM.\n\n\nJoin Minneapolis’ favorite drummer-less trio for a fantastic trip to the wasteland\, as The Riffin’ Trio makes their Crooners debut and preforms songs featured in the hit video game turned TV show sensation: “Fallout”. Expect moody theme music and famous classics from Billie Holiday\, Nat King Cole\, The Ink Spots and Bob Crosby\, as well as some choice musical surprises. Fans of the trio and of the series will not be disappointed. Okie dokey!! \nSaxophones: Nelson DevereauxGuitar: Jake HansonBass: Graydon Peterson \nThe Riffin’ Trio plays standards and midcentury pop with light-hearted originals nestled somewhere between. The group features Nelson Devereaux on saxophone/flute\, Graydon Peterson on upright bass\, and Jacob Hanson on guitar. Members of The Riffin’ Trio have performed and recorded with Miley Cyrus\, Bon Iver\, The Cactus Blossoms\, Paul Cherry\, \, Craig Finn\, The Hold Steady\, HALEY\, Halloween\, Alaska\, Mason Jennings\, Lizzo\, Mild High Club\, Swamp Dogg\, and many\, many more.
URL:https://soundminnesota.com/event/the-riffin-trio-presents-the-music-of-fallout/
LOCATION:Crooners Supper Club – The Dunsmore Jazz Room\, 6161 State Hwy 65\, Fridley\, MN\, 55432\, United States
CATEGORIES:Live Music
ATTACH;FMTTYPE=image/jpeg:https://soundminnesota.com/wp-content/uploads/2026/04/469c6244f2eae0bbedbb6d85a218f53c-scaled-oXOlkd.jpg
GEO:45.080014;-93.243633
X-APPLE-STRUCTURED-LOCATION;VALUE=URI;X-ADDRESS=Crooners Supper Club – The Dunsmore Jazz Room 6161 State Hwy 65 Fridley MN 55432 United States;X-APPLE-RADIUS=500;X-TITLE=6161 State Hwy 65:geo:-93.243633,45.080014
END:VEVENT
END:VCALENDAR