BEGIN:VCALENDAR
VERSION:2.0
PRODID:-//Minnesota based calendar of live music - ECPv6.15.20//NONSGML v1.0//EN
CALSCALE:GREGORIAN
METHOD:PUBLISH
X-ORIGINAL-URL:https://soundminnesota.com
X-WR-CALDESC:Events for Minnesota based calendar of live music
REFRESH-INTERVAL;VALUE=DURATION:PT1H
X-Robots-Tag:noindex
X-PUBLISHED-TTL:PT1H
BEGIN:VTIMEZONE
TZID:America/Chicago
BEGIN:DAYLIGHT
TZOFFSETFROM:-0600
TZOFFSETTO:-0500
TZNAME:CDT
DTSTART:20250309T080000
END:DAYLIGHT
BEGIN:STANDARD
TZOFFSETFROM:-0500
TZOFFSETTO:-0600
TZNAME:CST
DTSTART:20251102T070000
END:STANDARD
BEGIN:DAYLIGHT
TZOFFSETFROM:-0600
TZOFFSETTO:-0500
TZNAME:CDT
DTSTART:20260308T080000
END:DAYLIGHT
BEGIN:STANDARD
TZOFFSETFROM:-0500
TZOFFSETTO:-0600
TZNAME:CST
DTSTART:20261101T070000
END:STANDARD
BEGIN:DAYLIGHT
TZOFFSETFROM:-0600
TZOFFSETTO:-0500
TZNAME:CDT
DTSTART:20270314T080000
END:DAYLIGHT
BEGIN:STANDARD
TZOFFSETFROM:-0500
TZOFFSETTO:-0600
TZNAME:CST
DTSTART:20271107T070000
END:STANDARD
END:VTIMEZONE
BEGIN:VEVENT
DTSTART;TZID=America/Chicago:20260417T190000
DTEND;TZID=America/Chicago:20260417T220000
DTSTAMP:20260423T112416
CREATED:20260417T015354Z
LAST-MODIFIED:20260417T015401Z
UID:10042525-1776452400-1776463200@soundminnesota.com
SUMMARY:Tim Howe at Mudd Room
DESCRIPTION:
URL:https://soundminnesota.com/event/tim-howe-at-mudd-room-2/
LOCATION:The Mudd Room [Speak Easy]\, 1352 State Highway 13\, Mendota Heights\, MN\, 55150
END:VEVENT
BEGIN:VEVENT
DTSTART;TZID=America/Chicago:20260404T190000
DTEND;TZID=America/Chicago:20260404T220000
DTSTAMP:20260423T112416
CREATED:20260330T023140Z
LAST-MODIFIED:20260330T023148Z
UID:10042207-1775329200-1775340000@soundminnesota.com
SUMMARY:J Train Jazz at Mudd Room
DESCRIPTION:
URL:https://soundminnesota.com/event/j-train-jazz-at-mudd-room-2/
LOCATION:The Mudd Room [Speak Easy]\, 1352 State Highway 13\, Mendota Heights\, MN\, 55150
END:VEVENT
BEGIN:VEVENT
DTSTART;TZID=America/Chicago:20260403T190000
DTEND;TZID=America/Chicago:20260403T220000
DTSTAMP:20260423T112416
CREATED:20260330T021905Z
LAST-MODIFIED:20260330T022017Z
UID:10042206-1775242800-1775253600@soundminnesota.com
SUMMARY:The New Feral Cats at Mudd Room
DESCRIPTION:
URL:https://soundminnesota.com/event/the-new-feral-cats-at-mudd-room/
LOCATION:The Mudd Room [Speak Easy]\, 1352 State Highway 13\, Mendota Heights\, MN\, 55150
END:VEVENT
BEGIN:VEVENT
DTSTART;TZID=America/Chicago:20260402T190000
DTEND;TZID=America/Chicago:20260402T220000
DTSTAMP:20260423T112416
CREATED:20260330T021540Z
LAST-MODIFIED:20260330T021551Z
UID:10042205-1775156400-1775167200@soundminnesota.com
SUMMARY:The Tom Harkness Project at Mudd Room
DESCRIPTION:
URL:https://soundminnesota.com/event/the-tom-harkness-project-at-mudd-room/
LOCATION:The Mudd Room [Speak Easy]\, 1352 State Highway 13\, Mendota Heights\, MN\, 55150
END:VEVENT
END:VCALENDAR