BEGIN:VCALENDAR
VERSION:2.0
PRODID:-//Minnesota based calendar of live music - ECPv6.15.20//NONSGML v1.0//EN
CALSCALE:GREGORIAN
METHOD:PUBLISH
X-WR-CALNAME:Minnesota based calendar of live music
X-ORIGINAL-URL:https://soundminnesota.com
X-WR-CALDESC:Events for Minnesota based calendar of live music
REFRESH-INTERVAL;VALUE=DURATION:PT1H
X-Robots-Tag:noindex
X-PUBLISHED-TTL:PT1H
BEGIN:VTIMEZONE
TZID:America/Chicago
BEGIN:DAYLIGHT
TZOFFSETFROM:-0600
TZOFFSETTO:-0500
TZNAME:CDT
DTSTART:20250309T080000
END:DAYLIGHT
BEGIN:STANDARD
TZOFFSETFROM:-0500
TZOFFSETTO:-0600
TZNAME:CST
DTSTART:20251102T070000
END:STANDARD
BEGIN:DAYLIGHT
TZOFFSETFROM:-0600
TZOFFSETTO:-0500
TZNAME:CDT
DTSTART:20260308T080000
END:DAYLIGHT
BEGIN:STANDARD
TZOFFSETFROM:-0500
TZOFFSETTO:-0600
TZNAME:CST
DTSTART:20261101T070000
END:STANDARD
BEGIN:DAYLIGHT
TZOFFSETFROM:-0600
TZOFFSETTO:-0500
TZNAME:CDT
DTSTART:20270314T080000
END:DAYLIGHT
BEGIN:STANDARD
TZOFFSETFROM:-0500
TZOFFSETTO:-0600
TZNAME:CST
DTSTART:20271107T070000
END:STANDARD
END:VTIMEZONE
BEGIN:VEVENT
DTSTART;TZID=America/Chicago:20260408T190000
DTEND;TZID=America/Chicago:20260408T220000
DTSTAMP:20260423T181221
CREATED:20260330T013022Z
LAST-MODIFIED:20260330T013132Z
UID:10042200-1775674800-1775685600@soundminnesota.com
SUMMARY:Based Negative Squad w/ Christ Dillinger\, Acid Souljah\, XATOKAI\, & theDEA at Zhora Darling
DESCRIPTION:
URL:https://soundminnesota.com/event/based-negative-squad-w-christ-dillinger-acid-souljah-xatokai-thedea-at-zhora-darling/
LOCATION:Zhora Darling\, 509 1St Ave N.E.\, Minneapolis\, MN\, 55413\, United States
END:VEVENT
BEGIN:VEVENT
DTSTART;TZID=America/Chicago:20260407T190000
DTEND;TZID=America/Chicago:20260407T190000
DTSTAMP:20260423T181221
CREATED:20260330T012635Z
LAST-MODIFIED:20260330T012646Z
UID:10042199-1775588400-1775588400@soundminnesota.com
SUMMARY:Lala Lala w/ Mother Soki at Zhora Darling
DESCRIPTION:
URL:https://soundminnesota.com/event/lala-lala-w-mother-soki-at-zhora-darling/
LOCATION:Zhora Darling\, 509 1St Ave N.E.\, Minneapolis\, MN\, 55413\, United States
END:VEVENT
BEGIN:VEVENT
DTSTART;TZID=America/Chicago:20260404T193000
DTEND;TZID=America/Chicago:20260404T193000
DTSTAMP:20260423T181221
CREATED:20260329T234300Z
LAST-MODIFIED:20260329T234312Z
UID:10042192-1775331000-1775331000@soundminnesota.com
SUMMARY:Kiss the Tiger w/ Tabah & Diane at Zhora Darling
DESCRIPTION:
URL:https://soundminnesota.com/event/kiss-the-tiger-w-tabah-diane-at-zhora-darling/
LOCATION:Zhora Darling\, 509 1St Ave N.E.\, Minneapolis\, MN\, 55413\, United States
END:VEVENT
BEGIN:VEVENT
DTSTART;TZID=America/Chicago:20260403T203000
DTEND;TZID=America/Chicago:20260403T230000
DTSTAMP:20260423T181221
CREATED:20260329T233924Z
LAST-MODIFIED:20260329T233932Z
UID:10042191-1775248200-1775257200@soundminnesota.com
SUMMARY:Freak of the Week w/ Mike "Agent-X" Clark (MI) at Zhora Darling
DESCRIPTION:
URL:https://soundminnesota.com/event/freak-of-the-week-w-mike-agent-x-clark-mi-at-zhora-darling/
LOCATION:Zhora Darling\, 509 1St Ave N.E.\, Minneapolis\, MN\, 55413\, United States
END:VEVENT
BEGIN:VEVENT
DTSTART;TZID=America/Chicago:20260401T190000
DTEND;TZID=America/Chicago:20260401T220000
DTSTAMP:20260423T181221
CREATED:20260329T185559Z
LAST-MODIFIED:20260329T185607Z
UID:10042179-1775070000-1775080800@soundminnesota.com
SUMMARY:Sugar Coat\, Iris Blue (CHI)\, & Crush Card at Zhora Darling
DESCRIPTION:
URL:https://soundminnesota.com/event/sugar-coat-iris-blue-chi-crush-card-at-zhora-darling/
LOCATION:Zhora Darling\, 509 1St Ave N.E.\, Minneapolis\, MN\, 55413\, United States
END:VEVENT
BEGIN:VEVENT
DTSTART;TZID=America/Chicago:20260331T193000
DTEND;TZID=America/Chicago:20260331T193000
DTSTAMP:20260423T181221
CREATED:20260329T185326Z
LAST-MODIFIED:20260329T185333Z
UID:10042178-1774985400-1774985400@soundminnesota.com
SUMMARY:BLAX & Open Minded at Zhora Darling
DESCRIPTION:
URL:https://soundminnesota.com/event/blax-open-minded-at-zhora-darling/
LOCATION:Zhora Darling\, 509 1St Ave N.E.\, Minneapolis\, MN\, 55413\, United States
END:VEVENT
BEGIN:VEVENT
DTSTART;TZID=America/Chicago:20260329T190000
DTEND;TZID=America/Chicago:20260329T220000
DTSTAMP:20260423T181221
CREATED:20260329T185102Z
LAST-MODIFIED:20260329T185110Z
UID:10042177-1774810800-1774821600@soundminnesota.com
SUMMARY:Begravement\, Nott\, Hanging Wound\, Major Malfunction\, & Prithvi at Zhora Darling
DESCRIPTION:21+
URL:https://soundminnesota.com/event/begravement-nott-hanging-wound-major-malfunction-prithvi-at-zhora-darling/
LOCATION:Zhora Darling\, 509 1St Ave N.E.\, Minneapolis\, MN\, 55413\, United States
END:VEVENT
END:VCALENDAR